From mboxrd@z Thu Jan  1 00:00:00 1970
Return-Path: <test-report-bounces@dpdk.org>
Received: from mails.dpdk.org (mails.dpdk.org [217.70.189.124])
	by inbox.dpdk.org (Postfix) with ESMTP id 18F5943E88
	for <public@inbox.dpdk.org>; Tue, 16 Apr 2024 23:45:08 +0200 (CEST)
Received: from mails.dpdk.org (localhost [127.0.0.1])
	by mails.dpdk.org (Postfix) with ESMTP id 0DDD040262;
	Tue, 16 Apr 2024 23:45:08 +0200 (CEST)
Received: from mail-qv1-f99.google.com (mail-qv1-f99.google.com
 [209.85.219.99]) by mails.dpdk.org (Postfix) with ESMTP id 6DA9540261
 for <test-report@dpdk.org>; Tue, 16 Apr 2024 23:45:03 +0200 (CEST)
Received: by mail-qv1-f99.google.com with SMTP id
 6a1803df08f44-69cb4a046dfso6926216d6.2
 for <test-report@dpdk.org>; Tue, 16 Apr 2024 14:45:03 -0700 (PDT)
DKIM-Signature: v=1; a=rsa-sha256; c=relaxed/relaxed;
 d=iol.unh.edu; s=unh-iol; t=1713303903; x=1713908703; darn=dpdk.org;
 h=references:in-reply-to:cc:to:from:subject:message-id:date:from:to
 :cc:subject:date:message-id:reply-to;
 bh=ankf28WPPsV/EuFX5rV+QirF853OdfPYXv3Mr+180iU=;
 b=CAwlbysacWlmmcAp5/Dbw7Jwp5WK/HmKLeFjBgrVARc7Ijcex2RctzFSu3dvI695aZ
 X8/nFNuc/E9nTs2hV87ucPcTTF9eX5NJFTGnnu0PmQK/pbTmtw0OVIkHa401PQ+VbNNs
 lWdQQ59ulu+xmT/DMcm89RRdRAuTTwSaHQ7/8=
X-Google-DKIM-Signature: v=1; a=rsa-sha256; c=relaxed/relaxed;
 d=1e100.net; s=20230601; t=1713303903; x=1713908703;
 h=references:in-reply-to:cc:to:from:subject:message-id:date
 :x-gm-message-state:from:to:cc:subject:date:message-id:reply-to;
 bh=ankf28WPPsV/EuFX5rV+QirF853OdfPYXv3Mr+180iU=;
 b=pfN6XLWJCrmTWB+XdBx+qvmuGvaAOF1e8CvPR43po/ROeROh4NAF58mte5Ykq6Oc/D
 abl31celwqoj6MyYc0BaGHR0hjG9yH/0jBb8S3+DUjbHR8a3YAZz6M8HInLjPf6Mr0+A
 0N53/kmu7Iv8lAGK4igSXmsDAb+WJdtMQBj8ObK79q5DEFxxHCsJIdTTurNS3gUgFehe
 8mlFfIbBW3PZx9rgp7Bvcajf+CtW9yTgQLCaFKyOTkaQznIzUHKAWk392A2PFv4M5M2W
 kI/Iq32/CrWqCMr/DYQrdygqbVFpBwnKSI6D4aWYCZt9mfrY+FQvrVq7DDkhxkn/VIVi
 Y/ww==
X-Gm-Message-State: AOJu0Yxep1rti6vxerMDIvWheLMwgsGMpcjzCzRxcfkX2bxLiPN1FtZA
 OAvyRUSuo3Hf4Vm3D6eqXeJ/fvFkvJDPPQ69LxZ3ARVhTSVjY0M5FEABZbKnVUb4CimaJFDUpgx
 MWScA3OLfMEu6dbSoGxjctA6PIcE2afnipWWSEAWdzOmsxBiQPivVxJBs
X-Google-Smtp-Source: AGHT+IHLqKCXYQOukFijDIu1gQZzXceOUg1Xes2Zt183F+yV/Phf1ZwS35+eBWJKNU9Fl6A/piaojhD820xx
X-Received: by 2002:a05:6214:961:b0:699:11ba:8823 with SMTP id
 do1-20020a056214096100b0069911ba8823mr12914434qvb.45.1713303902928; 
 Tue, 16 Apr 2024 14:45:02 -0700 (PDT)
Received: from postal.iol.unh.edu (postal.iol.unh.edu.
 [2606:4100:3880:1234::84]) by smtp-relay.gmail.com with ESMTPS id
 e11-20020a0562141d0b00b0069b246b4c01sm1043678qvd.62.2024.04.16.14.45.02
 (version=TLS1_2 cipher=ECDHE-ECDSA-AES128-GCM-SHA256 bits=128/128);
 Tue, 16 Apr 2024 14:45:02 -0700 (PDT)
X-Relaying-Domain: iol.unh.edu
Date: Tue, 16 Apr 2024 14:45:02 -0700 (PDT)
Message-ID: <661ef15e.050a0220.6df8.451aSMTPIN_ADDED_MISSING@mx.google.com>
Received: from [172.17.0.2] (unknown [172.18.0.217])
 by postal.iol.unh.edu (Postfix) with ESMTP id 9B282604A958;
 Tue, 16 Apr 2024 17:45:02 -0400 (EDT)
Subject: |SUCCESS| pw139426-139427 [PATCH] [4/4] net/mlx5/hws: remove table t
From: dpdklab@iol.unh.edu
To: Test Report <test-report@dpdk.org>
Cc: dpdk-test-reports@iol.unh.edu
In-Reply-To: <20240416153054.3216706-5-michaelba@nvidia.com>
References: <20240416153054.3216706-5-michaelba@nvidia.com>
Content-Type: text/plain
X-BeenThere: test-report@dpdk.org
X-Mailman-Version: 2.1.29
Precedence: list
List-Id: automatic DPDK test reports <test-report.dpdk.org>
List-Unsubscribe: <https://mails.dpdk.org/options/test-report>,
 <mailto:test-report-request@dpdk.org?subject=unsubscribe>
List-Archive: <http://mails.dpdk.org/archives/test-report/>
List-Post: <mailto:test-report@dpdk.org>
List-Help: <mailto:test-report-request@dpdk.org?subject=help>
List-Subscribe: <https://mails.dpdk.org/listinfo/test-report>,
 <mailto:test-report-request@dpdk.org?subject=subscribe>
Errors-To: test-report-bounces@dpdk.org

Test-Label: iol-compile-arm64-testing
Test-Status: SUCCESS
http://dpdk.org/patch/139427

_Testing PASS_

Submitter: Michael Baum <michaelba@nvidia.com>
Date: Tuesday, April 16 2024 15:30:54 
DPDK git baseline: Repo:dpdk
  Branch: master
  CommitID:80ecef6d1f71fcebc0a51d7cabc51f73ee142ff2

139426-139427 --> testing pass

Test environment and result as below:

+----------------------------------------+--------------------+
|              Environment               | dpdk_meson_compile |
+========================================+====================+
| Ubuntu 20.04 ARM SVE                   | PASS               |
+----------------------------------------+--------------------+
| Debian 12 with MUSDK                   | PASS               |
+----------------------------------------+--------------------+
| Ubuntu 20.04 aarch32 GCC Cross Compile | PASS               |
+----------------------------------------+--------------------+
| Fedora 37 (ARM)                        | PASS               |
+----------------------------------------+--------------------+
| Debian 11 (Buster) (ARM)               | PASS               |
+----------------------------------------+--------------------+
| Ubuntu 20.04 ARM GCC Cross Compile     | PASS               |
+----------------------------------------+--------------------+
| Ubuntu 20.04 ARM Clang Cross Compile   | PASS               |
+----------------------------------------+--------------------+
| CentOS Stream 9 (ARM)                  | PASS               |
+----------------------------------------+--------------------+
| Debian 12 (arm)                        | PASS               |
+----------------------------------------+--------------------+
| Fedora 38 (ARM)                        | PASS               |
+----------------------------------------+--------------------+
| Ubuntu 20.04 (ARM)                     | PASS               |
+----------------------------------------+--------------------+
| Fedora 39 (ARM)                        | PASS               |
+----------------------------------------+--------------------+


Ubuntu 20.04 ARM SVE
	Kernel: 5.4.0-167-generic
	Compiler: gcc (Ubuntu 10.5.0-1ubuntu1~20.04) 10.5.0

Debian 12 with MUSDK
	Kernel: Container Host Kernel
	Compiler: gcc 12.2.0

Ubuntu 20.04 aarch32 GCC Cross Compile
	Kernel: 5.4.0-167-generic
	Compiler: gcc 9.4.0

Fedora 37 (ARM)
	Kernel: Depends on container host
	Compiler: gcc 12.3.1

Debian 11 (Buster) (ARM)
	Kernel: Container Host Kernel
	Compiler: gcc 10.2.1

Ubuntu 20.04 ARM GCC Cross Compile
	Kernel: 5.4.0-167-generic
	Compiler: aarch64-linux-gnu-gcc (Ubuntu 9.4.0-1ubuntu1~20.04.2) 9.4.0

Ubuntu 20.04 ARM Clang Cross Compile
	Kernel: 5.4.0-72-generic
	Compiler: clang 10.0.0-4ubuntu1

CentOS Stream 9 (ARM)
	Kernel: Container Host Kernel
	Compiler: gcc 11.4.1

Debian 12 (arm)
	Kernel: Container Host Kernel
	Compiler: gcc 12.2.0

Fedora 38 (ARM)
	Kernel: Depends on container host
	Compiler: gcc 13.2.1

Ubuntu 20.04 (ARM)
	Kernel: Container Host Kernel
	Compiler: gcc 9.4.0

Fedora 39 (ARM)
	Kernel: Depends on container host
	Compiler: gcc 13.2.1

To view detailed results, visit:
https://lab.dpdk.org/results/dashboard/patchsets/29794/

UNH-IOL DPDK Community Lab

To manage your email subscriptions, visit: 
https://lab.dpdk.org/results/dashboard/preferences/subscriptions/