From mboxrd@z Thu Jan  1 00:00:00 1970
Return-Path: <test-report-bounces@dpdk.org>
Received: from mails.dpdk.org (mails.dpdk.org [217.70.189.124])
	by inbox.dpdk.org (Postfix) with ESMTP id D078E43E88
	for <public@inbox.dpdk.org>; Tue, 16 Apr 2024 23:46:09 +0200 (CEST)
Received: from mails.dpdk.org (localhost [127.0.0.1])
	by mails.dpdk.org (Postfix) with ESMTP id C688B40262;
	Tue, 16 Apr 2024 23:46:09 +0200 (CEST)
Received: from mail-il1-f228.google.com (mail-il1-f228.google.com
 [209.85.166.228])
 by mails.dpdk.org (Postfix) with ESMTP id D54FB40261
 for <test-report@dpdk.org>; Tue, 16 Apr 2024 23:46:05 +0200 (CEST)
Received: by mail-il1-f228.google.com with SMTP id
 e9e14a558f8ab-36b08fc1913so667905ab.0
 for <test-report@dpdk.org>; Tue, 16 Apr 2024 14:46:05 -0700 (PDT)
DKIM-Signature: v=1; a=rsa-sha256; c=relaxed/relaxed;
 d=iol.unh.edu; s=unh-iol; t=1713303965; x=1713908765; darn=dpdk.org;
 h=references:in-reply-to:cc:to:from:subject:message-id:date:from:to
 :cc:subject:date:message-id:reply-to;
 bh=QHBDd63Z4HJuCb6goS2WwcEHhd1Zqceu7h3BC+tinOM=;
 b=Q2AE5Drf+0xJEbmLR75/trmJHJIbbAdFR6KpEEiDBMiDJFXauaD4znXI55I2S15Urt
 MSUDoMwA6CQPYKxdQxKkPr8PhmCfJBVZUvXIP9XkWIWGThi4q1KcuF6vuVhK7U2MQXg3
 MaXlNX+rlkALEOp4OF8a+upj6WtH7pNl3XiCs=
X-Google-DKIM-Signature: v=1; a=rsa-sha256; c=relaxed/relaxed;
 d=1e100.net; s=20230601; t=1713303965; x=1713908765;
 h=references:in-reply-to:cc:to:from:subject:message-id:date
 :x-gm-message-state:from:to:cc:subject:date:message-id:reply-to;
 bh=QHBDd63Z4HJuCb6goS2WwcEHhd1Zqceu7h3BC+tinOM=;
 b=QQ07madCfnHeqT+cdMoB3lRtIEfjj30jw7TjYZVZxsjKqddS6tPZ5e4f3vhgKsC2Eq
 iQ4zjZDF4gWb14Ouf4iDHBOqF6K6pTuaUAO7y31cXz3jNRbuTrAz7AQPBNOXWOPK+Gw/
 sgIiVfqOK/dFlUBURAyYNc4BY60dwl8udkhHaVa73ZTTAEVZtLSLkiCt4adLLAmOSS47
 6UhVf9WBjGqk5xf42p6xlACD2sBnjv1Coik4IJwGeOHcS4dd6DZU9m62lDoWxwQ41RKy
 zFexQFG2PvkUSJ3uhCJjWAvYamq7flScbMqAnS1wVmKPLvrjhv6U6EAA5EvT6IK0Goqn
 QR1w==
X-Gm-Message-State: AOJu0Yxait2IKMixKSISLBtiEGI85UkFETkqMXYEYaM342uqhHoupZrH
 Jh6X0ZgLM4q7Exhjf9Mze/G84G1up/iaUzHlF9Q93b5GUeb2DNqREGMuOP1GXe+Nrox1algpFHv
 rj8IwdW5J92m1JCy2FRL1rlZ6nadR/17IRExFVJf6
X-Google-Smtp-Source: AGHT+IGtVh57hb/8nqI8PwlWKnKx1F+WkNfnmFSY1gvdtA88DAPUw5TNfq4Ym2iBN2a3U+RMEOFZ8Y4pDjAB
X-Received: by 2002:a05:6e02:1ca4:b0:36b:31d2:f148 with SMTP id
 x4-20020a056e021ca400b0036b31d2f148mr1343160ill.15.1713303965263; 
 Tue, 16 Apr 2024 14:46:05 -0700 (PDT)
Received: from postal.iol.unh.edu (postal.iol.unh.edu. [132.177.123.84])
 by smtp-relay.gmail.com with ESMTPS id
 iq17-20020a056638841100b004828f8f7e9esm673001jab.37.2024.04.16.14.46.05
 (version=TLS1_2 cipher=ECDHE-ECDSA-AES128-GCM-SHA256 bits=128/128);
 Tue, 16 Apr 2024 14:46:05 -0700 (PDT)
X-Relaying-Domain: iol.unh.edu
Date: Tue, 16 Apr 2024 14:46:05 -0700 (PDT)
Message-ID: <661ef19d.050a0220.37bd7.a3dbSMTPIN_ADDED_MISSING@mx.google.com>
Received: from [172.17.0.4] (unknown [172.18.0.217])
 by postal.iol.unh.edu (Postfix) with ESMTP id B7ADC604A958;
 Tue, 16 Apr 2024 17:46:04 -0400 (EDT)
Subject: |SUCCESS| pw139426-139427 [PATCH] [4/4] net/mlx5/hws: remove table t
From: dpdklab@iol.unh.edu
To: Test Report <test-report@dpdk.org>
Cc: dpdk-test-reports@iol.unh.edu
In-Reply-To: <20240416153054.3216706-5-michaelba@nvidia.com>
References: <20240416153054.3216706-5-michaelba@nvidia.com>
Content-Type: text/plain
X-BeenThere: test-report@dpdk.org
X-Mailman-Version: 2.1.29
Precedence: list
List-Id: automatic DPDK test reports <test-report.dpdk.org>
List-Unsubscribe: <https://mails.dpdk.org/options/test-report>,
 <mailto:test-report-request@dpdk.org?subject=unsubscribe>
List-Archive: <http://mails.dpdk.org/archives/test-report/>
List-Post: <mailto:test-report@dpdk.org>
List-Help: <mailto:test-report-request@dpdk.org?subject=help>
List-Subscribe: <https://mails.dpdk.org/listinfo/test-report>,
 <mailto:test-report-request@dpdk.org?subject=subscribe>
Errors-To: test-report-bounces@dpdk.org

Test-Label: iol-compile-amd64-testing
Test-Status: SUCCESS
http://dpdk.org/patch/139427

_Testing PASS_

Submitter: Michael Baum <michaelba@nvidia.com>
Date: Tuesday, April 16 2024 15:30:54 
DPDK git baseline: Repo:dpdk
  Branch: master
  CommitID:80ecef6d1f71fcebc0a51d7cabc51f73ee142ff2

139426-139427 --> testing pass

Test environment and result as below:

+---------------------+--------------------+----------------------+-------------------+
|     Environment     | dpdk_meson_compile | dpdk_mingw64_compile | dpdk_msvc_compile |
+=====================+====================+======================+===================+
| FreeBSD 13.2        | PASS               | SKIPPED              | SKIPPED           |
+---------------------+--------------------+----------------------+-------------------+
| Windows Server 2019 | PASS               | PASS                 | SKIPPED           |
+---------------------+--------------------+----------------------+-------------------+
| CentOS Stream 8     | PASS               | SKIPPED              | SKIPPED           |
+---------------------+--------------------+----------------------+-------------------+
| Windows Server 2022 | PASS               | PASS                 | PASS              |
+---------------------+--------------------+----------------------+-------------------+
| Debian 12           | PASS               | SKIPPED              | SKIPPED           |
+---------------------+--------------------+----------------------+-------------------+
| Fedora 38           | PASS               | SKIPPED              | SKIPPED           |
+---------------------+--------------------+----------------------+-------------------+
| Debian Bullseye     | PASS               | SKIPPED              | SKIPPED           |
+---------------------+--------------------+----------------------+-------------------+
| Fedora 37           | PASS               | SKIPPED              | SKIPPED           |
+---------------------+--------------------+----------------------+-------------------+
| CentOS Stream 9     | PASS               | SKIPPED              | SKIPPED           |
+---------------------+--------------------+----------------------+-------------------+
| Ubuntu 20.04        | PASS               | SKIPPED              | SKIPPED           |
+---------------------+--------------------+----------------------+-------------------+
| Fedora 39           | PASS               | SKIPPED              | SKIPPED           |
+---------------------+--------------------+----------------------+-------------------+
| openSUSE Leap 15    | PASS               | SKIPPED              | SKIPPED           |
+---------------------+--------------------+----------------------+-------------------+
| RHEL8               | PASS               | SKIPPED              | SKIPPED           |
+---------------------+--------------------+----------------------+-------------------+
| Ubuntu 22.04        | PASS               | SKIPPED              | SKIPPED           |
+---------------------+--------------------+----------------------+-------------------+
| Alpine              | PASS               | SKIPPED              | SKIPPED           |
+---------------------+--------------------+----------------------+-------------------+


FreeBSD 13.2
	Kernel: 13.2
	Compiler: clang 14.0.5

Windows Server 2019
	Kernel: 10.0.17763
	Compiler: clang 14.0 and gcc 8.1.0 (MinGW)

CentOS Stream 8
	Kernel: 5.4.0-167-generic
	Compiler: gcc 8.5.0 20210514

Windows Server 2022
	Kernel: 10.0.20348.2031
	Compiler: clang 15.0.7, gcc 8.1.0 (MinGW), and MSVC VS 17.9

Debian 12
	Kernel: Container Host Kernel
	Compiler: gcc 10.2.1

Fedora 38
	Kernel: Depends on container host
	Compiler: gcc 13.2.1

Debian Bullseye
	Kernel: 5.4.0-167-generic
	Compiler: gcc 10.2.1-6

Fedora 37
	Kernel: Depends on container host system
	Compiler: gcc 12.3.1

CentOS Stream 9
	Kernel: 5.4.0-167-generic
	Compiler: gcc 11.4.1 20230605

Ubuntu 20.04
	Kernel: 5.4.0-167-generic
	Compiler: gcc 9.4.0-1ubuntu1~20.04.1

Fedora 39
	Kernel: Depends on container host
	Compiler: gcc 13.2.1

openSUSE Leap 15
	Kernel: 5.4.0-167-generic
	Compiler: gcc 7.5.0

RHEL8
	Kernel: 5.4.0-167-generic
	Compiler: gcc 8.5.0 20210514 (Red Hat 8.5.0-20)

Ubuntu 22.04
	Kernel: 5.4.0-167-generic
	Compiler: gcc 11.4.0

Alpine
	Kernel: 5.4.0-167-generic
	Compiler: gcc (Alpine 12.2.1_git20220924-r10) 12.2.1 20220924

To view detailed results, visit:
https://lab.dpdk.org/results/dashboard/patchsets/29794/

UNH-IOL DPDK Community Lab

To manage your email subscriptions, visit: 
https://lab.dpdk.org/results/dashboard/preferences/subscriptions/