From mboxrd@z Thu Jan  1 00:00:00 1970
Return-Path: <test-report-bounces@dpdk.org>
Received: from mails.dpdk.org (mails.dpdk.org [217.70.189.124])
	by inbox.dpdk.org (Postfix) with ESMTP id C249A43E88
	for <public@inbox.dpdk.org>; Tue, 16 Apr 2024 23:47:40 +0200 (CEST)
Received: from mails.dpdk.org (localhost [127.0.0.1])
	by mails.dpdk.org (Postfix) with ESMTP id B5C9140262;
	Tue, 16 Apr 2024 23:47:40 +0200 (CEST)
Received: from mail-pf1-f226.google.com (mail-pf1-f226.google.com
 [209.85.210.226])
 by mails.dpdk.org (Postfix) with ESMTP id 17A2840261
 for <test-report@dpdk.org>; Tue, 16 Apr 2024 23:47:30 +0200 (CEST)
Received: by mail-pf1-f226.google.com with SMTP id
 d2e1a72fcca58-6e46dcd8feaso2223160b3a.2
 for <test-report@dpdk.org>; Tue, 16 Apr 2024 14:47:30 -0700 (PDT)
DKIM-Signature: v=1; a=rsa-sha256; c=relaxed/relaxed;
 d=iol.unh.edu; s=unh-iol; t=1713304049; x=1713908849; darn=dpdk.org;
 h=references:in-reply-to:cc:to:from:subject:message-id:date:from:to
 :cc:subject:date:message-id:reply-to;
 bh=19UgV+hDz6q8Z4Np5LAcOYGkAczBP+vKoB1ukz8kOw8=;
 b=Rux+ca8XzdFgUtA6kDf5CDQCbn/Eu/LeJ9XpuEjg7dgv9MQEGmQolsqMr0lSVzkru4
 QK/bZMUr9WJ7pe70wRqN/+2/pajeh/Ua/45xThKdcGxh+vGkar6vsgJqoeGqdYaFQZNx
 ZufF+rJsPuKvZntFdseNNXX4ZVWQtpd4LfR7k=
X-Google-DKIM-Signature: v=1; a=rsa-sha256; c=relaxed/relaxed;
 d=1e100.net; s=20230601; t=1713304049; x=1713908849;
 h=references:in-reply-to:cc:to:from:subject:message-id:date
 :x-gm-message-state:from:to:cc:subject:date:message-id:reply-to;
 bh=19UgV+hDz6q8Z4Np5LAcOYGkAczBP+vKoB1ukz8kOw8=;
 b=Sh0QUgv4r0JbMdUY3wsJcJrp61X4E7Y1TmJOpvovRtn3s+nL4Ohi68jdcKRyKPdqim
 5z7/kSv2fJmGI7+jRhxbjSVGO/dVgJfSgnefFKB8axTPZ+dFdbBw3+jnmsIpClFne+3k
 Ryd7DQ7SWUNYAEZcUUX9lL5lsWWLXYiXyrP2gEXyG/bQi/tw8za27n1z42ohGuhYq/s2
 3Pxs10RlTtDtlm1ot7Yt7BpWsIsdqZ3qn1ctmn8ak+63EGcPOAWbO1m565tOHCoZC8p/
 wAGxKT61cYaSbMxCsMv8oUSfw3xzfIQlQ8fNtxbYqj+b0kYEFlYmjeN7eRxZuqWDBrDM
 HHLQ==
X-Gm-Message-State: AOJu0YwkfU4xZm4H9kpJwH52zqhoYHNmdQ9fwKBRgDEE4kIfYVYofnOU
 oYzEUQsiQu96nOOk4zfRtPDjXUnGiEPrnkfxFWHh9mou2Y4ysOEjkGnNOCBVwcynueIGOQ9KFsH
 abNyf7fSwqqP9YbNNZfcHdzHNdG7549BAgIfHaJwnQ1QM6KIlQn00c3cB
X-Google-Smtp-Source: AGHT+IHcE1BDaaRZ0TLGaJjCeOuvbsa6g4BXiTpN1Tz4UgyolpWYLH9Y6mXftXFen126iqIM9XdBehEDUEIL
X-Received: by 2002:a05:6a21:3511:b0:1aa:5a89:18d7 with SMTP id
 zc17-20020a056a21351100b001aa5a8918d7mr2776559pzb.19.1713304049212; 
 Tue, 16 Apr 2024 14:47:29 -0700 (PDT)
Received: from postal.iol.unh.edu (postal.iol.unh.edu.
 [2606:4100:3880:1234::84]) by smtp-relay.gmail.com with ESMTPS id
 ka37-20020a056a0093a500b006eac452f746sm987780pfb.15.2024.04.16.14.47.29
 (version=TLS1_2 cipher=ECDHE-ECDSA-AES128-GCM-SHA256 bits=128/128);
 Tue, 16 Apr 2024 14:47:29 -0700 (PDT)
X-Relaying-Domain: iol.unh.edu
Date: Tue, 16 Apr 2024 14:47:29 -0700 (PDT)
Message-ID: <661ef1f1.050a0220.1c42f.e91eSMTPIN_ADDED_MISSING@mx.google.com>
Received: from [172.17.0.2] (unknown [172.18.0.217])
 by postal.iol.unh.edu (Postfix) with ESMTP id 4F8B0604A958;
 Tue, 16 Apr 2024 17:47:28 -0400 (EDT)
Subject: |SUCCESS| pw139426-139427 [PATCH] [4/4] net/mlx5/hws: remove table t
From: dpdklab@iol.unh.edu
To: Test Report <test-report@dpdk.org>
Cc: dpdk-test-reports@iol.unh.edu
In-Reply-To: <20240416153054.3216706-5-michaelba@nvidia.com>
References: <20240416153054.3216706-5-michaelba@nvidia.com>
Content-Type: text/plain
X-BeenThere: test-report@dpdk.org
X-Mailman-Version: 2.1.29
Precedence: list
List-Id: automatic DPDK test reports <test-report.dpdk.org>
List-Unsubscribe: <https://mails.dpdk.org/options/test-report>,
 <mailto:test-report-request@dpdk.org?subject=unsubscribe>
List-Archive: <http://mails.dpdk.org/archives/test-report/>
List-Post: <mailto:test-report@dpdk.org>
List-Help: <mailto:test-report-request@dpdk.org?subject=help>
List-Subscribe: <https://mails.dpdk.org/listinfo/test-report>,
 <mailto:test-report-request@dpdk.org?subject=subscribe>
Errors-To: test-report-bounces@dpdk.org

Test-Label: iol-unit-amd64-testing
Test-Status: SUCCESS
http://dpdk.org/patch/139427

_Testing PASS_

Submitter: Michael Baum <michaelba@nvidia.com>
Date: Tuesday, April 16 2024 15:30:54 
DPDK git baseline: Repo:dpdk
  Branch: master
  CommitID:80ecef6d1f71fcebc0a51d7cabc51f73ee142ff2

139426-139427 --> testing pass

Test environment and result as below:

+-----------------+----------------+
|   Environment   | dpdk_unit_test |
+=================+================+
| Debian Bullseye | PASS           |
+-----------------+----------------+
| CentOS Stream 8 | PASS           |
+-----------------+----------------+
| CentOS Stream 9 | PASS           |
+-----------------+----------------+
| Debian 12       | PASS           |
+-----------------+----------------+
| Fedora 39       | PASS           |
+-----------------+----------------+
| Fedora 38       | PASS           |
+-----------------+----------------+
| Fedora 37       | PASS           |
+-----------------+----------------+


Debian Bullseye
	Kernel: 5.4.0-167-generic
	Compiler: gcc 10.2.1-6

CentOS Stream 8
	Kernel: 5.4.0-167-generic
	Compiler: gcc 8.5.0 20210514

CentOS Stream 9
	Kernel: 5.4.0-167-generic
	Compiler: gcc 11.4.1 20230605

Debian 12
	Kernel: Container Host Kernel
	Compiler: gcc 10.2.1

Fedora 39
	Kernel: Depends on container host
	Compiler: gcc 13.2.1

Fedora 38
	Kernel: Depends on container host
	Compiler: gcc 13.2.1

Fedora 37
	Kernel: Depends on container host system
	Compiler: gcc 12.3.1

To view detailed results, visit:
https://lab.dpdk.org/results/dashboard/patchsets/29794/

UNH-IOL DPDK Community Lab

To manage your email subscriptions, visit: 
https://lab.dpdk.org/results/dashboard/preferences/subscriptions/