From mboxrd@z Thu Jan  1 00:00:00 1970
Return-Path: <test-report-bounces@dpdk.org>
Received: from mails.dpdk.org (mails.dpdk.org [217.70.189.124])
	by inbox.dpdk.org (Postfix) with ESMTP id 83A6743E88
	for <public@inbox.dpdk.org>; Tue, 16 Apr 2024 23:54:21 +0200 (CEST)
Received: from mails.dpdk.org (localhost [127.0.0.1])
	by mails.dpdk.org (Postfix) with ESMTP id 7CBE140262;
	Tue, 16 Apr 2024 23:54:21 +0200 (CEST)
Received: from mail-oi1-f227.google.com (mail-oi1-f227.google.com
 [209.85.167.227])
 by mails.dpdk.org (Postfix) with ESMTP id 048A040261
 for <test-report@dpdk.org>; Tue, 16 Apr 2024 23:54:20 +0200 (CEST)
Received: by mail-oi1-f227.google.com with SMTP id
 5614622812f47-3c709e5e4f9so2398896b6e.3
 for <test-report@dpdk.org>; Tue, 16 Apr 2024 14:54:19 -0700 (PDT)
DKIM-Signature: v=1; a=rsa-sha256; c=relaxed/relaxed;
 d=iol.unh.edu; s=unh-iol; t=1713304459; x=1713909259; darn=dpdk.org;
 h=references:in-reply-to:cc:to:from:subject:message-id:date:from:to
 :cc:subject:date:message-id:reply-to;
 bh=Rh7lcOkesvU3eTciecEdu2tPNIaD7fdeYQBsnlazwoQ=;
 b=IagYar4WRxnmzJWJVo1Y578/Sc7MVoXq8Hb8mpz6Grc0YGXpGYelt698r38hxdUmw0
 U1ED/vDT9pvTMUMF34r65LIduTX3CXHINZ8aTT7zuG5g59ViRdGYhWc4r0r9nh7T5TiO
 Iz9C0N4UAZTkWMNT/jnQdyt8DHtIp2yGYQA+I=
X-Google-DKIM-Signature: v=1; a=rsa-sha256; c=relaxed/relaxed;
 d=1e100.net; s=20230601; t=1713304459; x=1713909259;
 h=references:in-reply-to:cc:to:from:subject:message-id:date
 :x-gm-message-state:from:to:cc:subject:date:message-id:reply-to;
 bh=Rh7lcOkesvU3eTciecEdu2tPNIaD7fdeYQBsnlazwoQ=;
 b=nh4NeZEHoZJx8uekutyetbFyvg0RsJ11MjeKX03wKmKgkiCrGboWClgp6leewteCSc
 BEE8h+53Nti4q34IkiJ1f0Po0K55FQgPRDMRcxerU/89YXU85tfWg7ziX18HPRWGIyC5
 7JE03NcBKrsXOvYkrh0xmCnG/KBQjhrOhnk431VhDz2odB1KBRPus0hmWiJqdmyEkttW
 zU9YsAos57fV0nbWNPaZPilZyp7PLWqT/ajgOyE3XWvtkzEAsT+qwEsFrZIHID23pbig
 PNUlDWRZGmVCEvWSgar5PZ3iZtpN3enul+ndvRDmzramy7ppVIe9+s/L/DRM/OSUSdqn
 5YkA==
X-Gm-Message-State: AOJu0Yz3HEpzGWAeQZ1wCFm3ZEXzjBAK8tT3AvODrF+OidwCRq2iPj45
 YWzROmlRFfqNi1EjXpkRXEikMtbexEDyT0pBd0WhGknVvQEUd1hAiUA+fXtmOu7M+obgorUMzCi
 dOarfBhvYNDEbWAxF/wmvYIwkWCwlwgvfAqbETk11
X-Google-Smtp-Source: AGHT+IFFdufvu7ZRV1QHW+4fWsc9juc1FbGAidaSn7AuZ/c/bdymEIYxHEc1QZURlKRjg1gMTGCAI+tcnOcG
X-Received: by 2002:a05:6808:1594:b0:3c7:2a72:34bd with SMTP id
 t20-20020a056808159400b003c72a7234bdmr2010620oiw.30.1713304459281; 
 Tue, 16 Apr 2024 14:54:19 -0700 (PDT)
Received: from postal.iol.unh.edu (postal.iol.unh.edu. [132.177.123.84])
 by smtp-relay.gmail.com with ESMTPS id
 f15-20020ac859cf000000b00436b2264185sm526374qtf.11.2024.04.16.14.54.19
 (version=TLS1_2 cipher=ECDHE-ECDSA-AES128-GCM-SHA256 bits=128/128);
 Tue, 16 Apr 2024 14:54:19 -0700 (PDT)
X-Relaying-Domain: iol.unh.edu
Date: Tue, 16 Apr 2024 14:54:19 -0700 (PDT)
Message-ID: <661ef38b.c80a0220.a499a.9204SMTPIN_ADDED_MISSING@mx.google.com>
Received: from [172.17.0.2] (unknown [172.18.0.217])
 by postal.iol.unh.edu (Postfix) with ESMTP id EC674604A958;
 Tue, 16 Apr 2024 17:54:18 -0400 (EDT)
Subject: |SUCCESS| pw139426-139427 [PATCH] [4/4] net/mlx5/hws: remove table t
From: dpdklab@iol.unh.edu
To: Test Report <test-report@dpdk.org>
Cc: dpdk-test-reports@iol.unh.edu
In-Reply-To: <20240416153054.3216706-5-michaelba@nvidia.com>
References: <20240416153054.3216706-5-michaelba@nvidia.com>
Content-Type: text/plain
X-BeenThere: test-report@dpdk.org
X-Mailman-Version: 2.1.29
Precedence: list
List-Id: automatic DPDK test reports <test-report.dpdk.org>
List-Unsubscribe: <https://mails.dpdk.org/options/test-report>,
 <mailto:test-report-request@dpdk.org?subject=unsubscribe>
List-Archive: <http://mails.dpdk.org/archives/test-report/>
List-Post: <mailto:test-report@dpdk.org>
List-Help: <mailto:test-report-request@dpdk.org?subject=help>
List-Subscribe: <https://mails.dpdk.org/listinfo/test-report>,
 <mailto:test-report-request@dpdk.org?subject=subscribe>
Errors-To: test-report-bounces@dpdk.org

Test-Label: iol-unit-amd64-testing
Test-Status: SUCCESS
http://dpdk.org/patch/139427

_Testing PASS_

Submitter: Michael Baum <michaelba@nvidia.com>
Date: Tuesday, April 16 2024 15:30:54 
DPDK git baseline: Repo:dpdk
  Branch: master
  CommitID:80ecef6d1f71fcebc0a51d7cabc51f73ee142ff2

139426-139427 --> testing pass

Test environment and result as below:

+------------------+----------------+
|   Environment    | dpdk_unit_test |
+==================+================+
| Debian Bullseye  | PASS           |
+------------------+----------------+
| CentOS Stream 8  | PASS           |
+------------------+----------------+
| CentOS Stream 9  | PASS           |
+------------------+----------------+
| Debian 12        | PASS           |
+------------------+----------------+
| Fedora 39        | PASS           |
+------------------+----------------+
| Fedora 38        | PASS           |
+------------------+----------------+
| Fedora 37        | PASS           |
+------------------+----------------+
| openSUSE Leap 15 | PASS           |
+------------------+----------------+
| RHEL8            | PASS           |
+------------------+----------------+


Debian Bullseye
	Kernel: 5.4.0-167-generic
	Compiler: gcc 10.2.1-6

CentOS Stream 8
	Kernel: 5.4.0-167-generic
	Compiler: gcc 8.5.0 20210514

CentOS Stream 9
	Kernel: 5.4.0-167-generic
	Compiler: gcc 11.4.1 20230605

Debian 12
	Kernel: Container Host Kernel
	Compiler: gcc 10.2.1

Fedora 39
	Kernel: Depends on container host
	Compiler: gcc 13.2.1

Fedora 38
	Kernel: Depends on container host
	Compiler: gcc 13.2.1

Fedora 37
	Kernel: Depends on container host system
	Compiler: gcc 12.3.1

openSUSE Leap 15
	Kernel: 5.4.0-167-generic
	Compiler: gcc 7.5.0

RHEL8
	Kernel: 5.4.0-167-generic
	Compiler: gcc 8.5.0 20210514 (Red Hat 8.5.0-20)

To view detailed results, visit:
https://lab.dpdk.org/results/dashboard/patchsets/29794/

UNH-IOL DPDK Community Lab

To manage your email subscriptions, visit: 
https://lab.dpdk.org/results/dashboard/preferences/subscriptions/