From mboxrd@z Thu Jan  1 00:00:00 1970
Return-Path: <test-report-bounces@dpdk.org>
Received: from mails.dpdk.org (mails.dpdk.org [217.70.189.124])
	by inbox.dpdk.org (Postfix) with ESMTP id DE9B243E88
	for <public@inbox.dpdk.org>; Tue, 16 Apr 2024 23:56:32 +0200 (CEST)
Received: from mails.dpdk.org (localhost [127.0.0.1])
	by mails.dpdk.org (Postfix) with ESMTP id B67F940262;
	Tue, 16 Apr 2024 23:56:32 +0200 (CEST)
Received: from mail-io1-f100.google.com (mail-io1-f100.google.com
 [209.85.166.100])
 by mails.dpdk.org (Postfix) with ESMTP id 9D1EF40261
 for <test-report@dpdk.org>; Tue, 16 Apr 2024 23:56:31 +0200 (CEST)
Received: by mail-io1-f100.google.com with SMTP id
 ca18e2360f4ac-7d5e93b40feso223633239f.2
 for <test-report@dpdk.org>; Tue, 16 Apr 2024 14:56:31 -0700 (PDT)
DKIM-Signature: v=1; a=rsa-sha256; c=relaxed/relaxed;
 d=iol.unh.edu; s=unh-iol; t=1713304591; x=1713909391; darn=dpdk.org;
 h=references:in-reply-to:cc:to:from:subject:message-id:date:from:to
 :cc:subject:date:message-id:reply-to;
 bh=DOSuefepYrlfnbN8t5AHPydTGYFtl2NcSvgPGuaWyTs=;
 b=fDrIW6ByKQRVE9J5gCUpfHR8mQMbF/KOnaeojmWEXPlitXLgPkCnZY1Yykj9BJYiNF
 qeBNu6mp/H8etgwwTVJSNLb9ItJrP8mttaQ35kn17kze1N2edLavhuc8qC4oLV3zD3Ho
 9E3Y8Pj3oqesZn4jHlm5fAdNeeCJWwS5zlY6o=
X-Google-DKIM-Signature: v=1; a=rsa-sha256; c=relaxed/relaxed;
 d=1e100.net; s=20230601; t=1713304591; x=1713909391;
 h=references:in-reply-to:cc:to:from:subject:message-id:date
 :x-gm-message-state:from:to:cc:subject:date:message-id:reply-to;
 bh=DOSuefepYrlfnbN8t5AHPydTGYFtl2NcSvgPGuaWyTs=;
 b=KKp8MSuDGJLVqpUIW5iVeoT9K0twfgAIjw3CHyq42zlg562yz1HjXX6Aybl6pWqk1Z
 gNK3cwbagJ/fpLWNMAUYXx1Gw+cU+NtZzBrEmGs2iHbP78x1TWOKaVrYvquSz7zKL5jx
 8Bh/xQicqEN92z6PpW34A6fJYWlZYLcN4XGUJg5P8iRhHLE3Tcvg+9wWiHwgLC+hGXAu
 hD76+WTClYGpZ66DhAfRhLBViQujMDxFLBvJ6i6KXgCea2gupDRRrqN9UO8BOHhzYg0a
 Fj3E04Tttg2CHvvOI6WSf4Z+SGt3WuvdPycQRpdd9LY2K+/oPVsRf6l3ojjgW2TFhBpL
 obug==
X-Gm-Message-State: AOJu0YxJmoiMD4sxJ+ZhxIJcac/EediycVwA56kkA5ZWmLeOSED1xwf6
 SBaI6sieNtFj2q36nabEgfGAQ/x45aATG7AqGVuD+bI1xRMChB5M3WcSnMpCA+ZIp7GD1AqMgsE
 HV1VEviuRUvkS7tPAiFw2JUTUiYfdfC6CabM9uf4H
X-Google-Smtp-Source: AGHT+IHMSThUbybVj2jV2cS3k7NRz+w4WRHKbz5u4O1IUem8xpeMlkXj5ByyugjCQLneyjORUAcdbxInLKml
X-Received: by 2002:a05:6602:3684:b0:7d5:f3d4:2023 with SMTP id
 bf4-20020a056602368400b007d5f3d42023mr17532486iob.18.1713304591008; 
 Tue, 16 Apr 2024 14:56:31 -0700 (PDT)
Received: from postal.iol.unh.edu (postal.iol.unh.edu. [132.177.123.84])
 by smtp-relay.gmail.com with ESMTPS id
 i9-20020a056638400900b00482f8fdbf79sm450092jai.25.2024.04.16.14.56.30
 (version=TLS1_2 cipher=ECDHE-ECDSA-AES128-GCM-SHA256 bits=128/128);
 Tue, 16 Apr 2024 14:56:30 -0700 (PDT)
X-Relaying-Domain: iol.unh.edu
Date: Tue, 16 Apr 2024 14:56:30 -0700 (PDT)
Message-ID: <661ef40e.050a0220.b400.5caeSMTPIN_ADDED_MISSING@mx.google.com>
Received: from [172.17.0.2] (unknown [172.18.0.217])
 by postal.iol.unh.edu (Postfix) with ESMTP id 741EA604A958;
 Tue, 16 Apr 2024 17:56:30 -0400 (EDT)
Subject: |SUCCESS| pw139426-139427 [PATCH] [4/4] net/mlx5/hws: remove table t
From: dpdklab@iol.unh.edu
To: Test Report <test-report@dpdk.org>
Cc: dpdk-test-reports@iol.unh.edu
In-Reply-To: <20240416153054.3216706-5-michaelba@nvidia.com>
References: <20240416153054.3216706-5-michaelba@nvidia.com>
Content-Type: text/plain
X-BeenThere: test-report@dpdk.org
X-Mailman-Version: 2.1.29
Precedence: list
List-Id: automatic DPDK test reports <test-report.dpdk.org>
List-Unsubscribe: <https://mails.dpdk.org/options/test-report>,
 <mailto:test-report-request@dpdk.org?subject=unsubscribe>
List-Archive: <http://mails.dpdk.org/archives/test-report/>
List-Post: <mailto:test-report@dpdk.org>
List-Help: <mailto:test-report-request@dpdk.org?subject=help>
List-Subscribe: <https://mails.dpdk.org/listinfo/test-report>,
 <mailto:test-report-request@dpdk.org?subject=subscribe>
Errors-To: test-report-bounces@dpdk.org

Test-Label: iol-unit-amd64-testing
Test-Status: SUCCESS
http://dpdk.org/patch/139427

_Testing PASS_

Submitter: Michael Baum <michaelba@nvidia.com>
Date: Tuesday, April 16 2024 15:30:54 
DPDK git baseline: Repo:dpdk
  Branch: master
  CommitID:80ecef6d1f71fcebc0a51d7cabc51f73ee142ff2

139426-139427 --> testing pass

Test environment and result as below:

+------------------+----------------+
|   Environment    | dpdk_unit_test |
+==================+================+
| Debian Bullseye  | PASS           |
+------------------+----------------+
| CentOS Stream 8  | PASS           |
+------------------+----------------+
| CentOS Stream 9  | PASS           |
+------------------+----------------+
| Debian 12        | PASS           |
+------------------+----------------+
| Fedora 39        | PASS           |
+------------------+----------------+
| Fedora 38        | PASS           |
+------------------+----------------+
| Fedora 37        | PASS           |
+------------------+----------------+
| openSUSE Leap 15 | PASS           |
+------------------+----------------+
| RHEL8            | PASS           |
+------------------+----------------+
| Ubuntu 20.04     | PASS           |
+------------------+----------------+
| Ubuntu 22.04     | PASS           |
+------------------+----------------+


Debian Bullseye
	Kernel: 5.4.0-167-generic
	Compiler: gcc 10.2.1-6

CentOS Stream 8
	Kernel: 5.4.0-167-generic
	Compiler: gcc 8.5.0 20210514

CentOS Stream 9
	Kernel: 5.4.0-167-generic
	Compiler: gcc 11.4.1 20230605

Debian 12
	Kernel: Container Host Kernel
	Compiler: gcc 10.2.1

Fedora 39
	Kernel: Depends on container host
	Compiler: gcc 13.2.1

Fedora 38
	Kernel: Depends on container host
	Compiler: gcc 13.2.1

Fedora 37
	Kernel: Depends on container host system
	Compiler: gcc 12.3.1

openSUSE Leap 15
	Kernel: 5.4.0-167-generic
	Compiler: gcc 7.5.0

RHEL8
	Kernel: 5.4.0-167-generic
	Compiler: gcc 8.5.0 20210514 (Red Hat 8.5.0-20)

Ubuntu 20.04
	Kernel: 5.4.0-167-generic
	Compiler: gcc 9.4.0-1ubuntu1~20.04.1

Ubuntu 22.04
	Kernel: 5.4.0-167-generic
	Compiler: gcc 11.4.0

To view detailed results, visit:
https://lab.dpdk.org/results/dashboard/patchsets/29794/

UNH-IOL DPDK Community Lab

To manage your email subscriptions, visit: 
https://lab.dpdk.org/results/dashboard/preferences/subscriptions/