From mboxrd@z Thu Jan  1 00:00:00 1970
Return-Path: <test-report-bounces@dpdk.org>
Received: from mails.dpdk.org (mails.dpdk.org [217.70.189.124])
	by inbox.dpdk.org (Postfix) with ESMTP id 3780F43E8A
	for <public@inbox.dpdk.org>; Wed, 17 Apr 2024 03:02:01 +0200 (CEST)
Received: from mails.dpdk.org (localhost [127.0.0.1])
	by mails.dpdk.org (Postfix) with ESMTP id 32F6A4029C;
	Wed, 17 Apr 2024 03:02:01 +0200 (CEST)
Received: from mail-pg1-f227.google.com (mail-pg1-f227.google.com
 [209.85.215.227])
 by mails.dpdk.org (Postfix) with ESMTP id A5E2E40268
 for <test-report@dpdk.org>; Wed, 17 Apr 2024 03:01:59 +0200 (CEST)
Received: by mail-pg1-f227.google.com with SMTP id
 41be03b00d2f7-5cddc5455aeso3527174a12.1
 for <test-report@dpdk.org>; Tue, 16 Apr 2024 18:01:59 -0700 (PDT)
DKIM-Signature: v=1; a=rsa-sha256; c=relaxed/relaxed;
 d=iol.unh.edu; s=unh-iol; t=1713315719; x=1713920519; darn=dpdk.org;
 h=references:in-reply-to:cc:to:from:subject:message-id:date:from:to
 :cc:subject:date:message-id:reply-to;
 bh=/fDdvNWRuPQZ+l+2DiF0ekywHB9Fa/Q7PuQyuXNtdzY=;
 b=NDlQxTRcuAhQF88hbYiP1ej1WZAgOn4K3NhnscAQcPAyYd6KgoToeNNZDKAoIDpXMD
 yiYsrvQNkkRtZ4I8DBU6W5nWzYDzTlBojK5zhXHF6uusR0FWnommrfSlK84zl6T2Kpoo
 kDHQkhPoUbroQPqZwMh9tGJqHiZ+dA4PwAnwQ=
X-Google-DKIM-Signature: v=1; a=rsa-sha256; c=relaxed/relaxed;
 d=1e100.net; s=20230601; t=1713315719; x=1713920519;
 h=references:in-reply-to:cc:to:from:subject:message-id:date
 :x-gm-message-state:from:to:cc:subject:date:message-id:reply-to;
 bh=/fDdvNWRuPQZ+l+2DiF0ekywHB9Fa/Q7PuQyuXNtdzY=;
 b=ZpYGDT8XiiflV6d2qUiqbDk3+N85sXM8rFnU5F+F9kKin60mhd+d+2ItQenfyppaiH
 nXugRe8rWad+5zURa7SSAIUKnM3A/mGQxPbGjL3gq901GKMvYSxSRlSga8jcQF4tqnrZ
 iRHNC/JufS0Biw0MEQmZxXSHcNE5YzjoWytFENgcZbcTf4lgqW9VEAOyfBlCiHVifu6J
 j2zuJwC2mh7i+vxza3QfZNU9DTCr7vaiZdUEys0q9Cqdxx2qVl0ENNjsJ5jNXDqKWJmC
 llHA3VlpApR4kcWV8T32LfKiLSzSkuKfYwShCmWkw/RkxANNK5dPGO4XxoAID1K2VPZx
 3MlQ==
X-Gm-Message-State: AOJu0YylevGnSlnfH3vut0X/HEn5mVcF4754LdRRvm9SiI/MUEoXVscl
 aqyDuRKfCywdAkqsT7Y+4zsRjzj5ZDufVUNevi18jFCZvn81bvkVGAVce7urgUA19IZU/mYG9m/
 w4dOfVjukaQ/A6Dz/0QL5qGeBG3+Cp3BeDolm7xrH
X-Google-Smtp-Source: AGHT+IF2uFhF6utZizQefAmi08dy54SHUGVq4qhd+yzeLOmmVaR7GrbbU9sryw/UDnwgB7HSfBYcYblDJeBB
X-Received: by 2002:a17:90b:4b84:b0:2a0:718a:8e49 with SMTP id
 lr4-20020a17090b4b8400b002a0718a8e49mr12103755pjb.39.1713315718780; 
 Tue, 16 Apr 2024 18:01:58 -0700 (PDT)
Received: from postal.iol.unh.edu (postal.iol.unh.edu. [132.177.123.84])
 by smtp-relay.gmail.com with ESMTPS id
 fv21-20020a17090b0e9500b002a71e4003f4sm28604pjb.6.2024.04.16.18.01.58
 (version=TLS1_2 cipher=ECDHE-ECDSA-AES128-GCM-SHA256 bits=128/128);
 Tue, 16 Apr 2024 18:01:58 -0700 (PDT)
X-Relaying-Domain: iol.unh.edu
Date: Tue, 16 Apr 2024 18:01:58 -0700 (PDT)
Message-ID: <661f1f86.170a0220.1b8bd.19fcSMTPIN_ADDED_MISSING@mx.google.com>
Received: from [172.17.0.4] (unknown [172.18.0.217])
 by postal.iol.unh.edu (Postfix) with ESMTP id D18A1604A958;
 Tue, 16 Apr 2024 21:01:57 -0400 (EDT)
Subject: |SUCCESS| pw139432 [PATCH] [v2] mailmap: clean up vmware entries
From: dpdklab@iol.unh.edu
To: Test Report <test-report@dpdk.org>
Cc: dpdk-test-reports@iol.unh.edu
In-Reply-To: <20240417000655.1917714-1-jochen.behrens@broadcom.com>
References: <20240417000655.1917714-1-jochen.behrens@broadcom.com>
Content-Type: text/plain
X-BeenThere: test-report@dpdk.org
X-Mailman-Version: 2.1.29
Precedence: list
List-Id: automatic DPDK test reports <test-report.dpdk.org>
List-Unsubscribe: <https://mails.dpdk.org/options/test-report>,
 <mailto:test-report-request@dpdk.org?subject=unsubscribe>
List-Archive: <http://mails.dpdk.org/archives/test-report/>
List-Post: <mailto:test-report@dpdk.org>
List-Help: <mailto:test-report-request@dpdk.org?subject=help>
List-Subscribe: <https://mails.dpdk.org/listinfo/test-report>,
 <mailto:test-report-request@dpdk.org?subject=subscribe>
Errors-To: test-report-bounces@dpdk.org

Test-Label: iol-abi-testing
Test-Status: SUCCESS
http://dpdk.org/patch/139432

_Testing PASS_

Submitter: Jochen Behrens <jochen.behrens@broadcom.com>
Date: Wednesday, April 17 2024 00:06:55 
DPDK git baseline: Repo:dpdk
  Branch: master
  CommitID:e2e546ab5bf5e024986ccb5310ab43982f3bb40c

139432 --> testing pass

Test environment and result as below:

+------------------+----------+
|   Environment    | abi_test |
+==================+==========+
| CentOS Stream 9  | PASS     |
+------------------+----------+
| Fedora 37        | PASS     |
+------------------+----------+
| Debian Bullseye  | PASS     |
+------------------+----------+
| Fedora 39        | PASS     |
+------------------+----------+
| RHEL8            | PASS     |
+------------------+----------+
| Fedora 38        | PASS     |
+------------------+----------+
| Debian 12        | PASS     |
+------------------+----------+
| CentOS Stream 8  | PASS     |
+------------------+----------+
| openSUSE Leap 15 | PASS     |
+------------------+----------+


CentOS Stream 9
	Kernel: 5.4.0-167-generic
	Compiler: gcc 11.4.1 20230605

Fedora 37
	Kernel: Depends on container host system
	Compiler: gcc 12.3.1

Debian Bullseye
	Kernel: 5.4.0-167-generic
	Compiler: gcc 10.2.1-6

Fedora 39
	Kernel: Depends on container host
	Compiler: gcc 13.2.1

RHEL8
	Kernel: 5.4.0-167-generic
	Compiler: gcc 8.5.0 20210514 (Red Hat 8.5.0-20)

Fedora 38
	Kernel: Depends on container host
	Compiler: gcc 13.2.1

Debian 12
	Kernel: Container Host Kernel
	Compiler: gcc 10.2.1

CentOS Stream 8
	Kernel: 5.4.0-167-generic
	Compiler: gcc 8.5.0 20210514

openSUSE Leap 15
	Kernel: 5.4.0-167-generic
	Compiler: gcc 7.5.0

To view detailed results, visit:
https://lab.dpdk.org/results/dashboard/patchsets/29798/

UNH-IOL DPDK Community Lab

To manage your email subscriptions, visit: 
https://lab.dpdk.org/results/dashboard/preferences/subscriptions/