From mboxrd@z Thu Jan  1 00:00:00 1970
Return-Path: <test-report-bounces@dpdk.org>
Received: from mails.dpdk.org (mails.dpdk.org [217.70.189.124])
	by inbox.dpdk.org (Postfix) with ESMTP id 4E20343E8A
	for <public@inbox.dpdk.org>; Wed, 17 Apr 2024 03:04:26 +0200 (CEST)
Received: from mails.dpdk.org (localhost [127.0.0.1])
	by mails.dpdk.org (Postfix) with ESMTP id 49CC14029C;
	Wed, 17 Apr 2024 03:04:26 +0200 (CEST)
Received: from mail-yw1-f227.google.com (mail-yw1-f227.google.com
 [209.85.128.227])
 by mails.dpdk.org (Postfix) with ESMTP id C754340268
 for <test-report@dpdk.org>; Wed, 17 Apr 2024 03:04:23 +0200 (CEST)
Received: by mail-yw1-f227.google.com with SMTP id
 00721157ae682-61ac45807cbso29070587b3.1
 for <test-report@dpdk.org>; Tue, 16 Apr 2024 18:04:23 -0700 (PDT)
DKIM-Signature: v=1; a=rsa-sha256; c=relaxed/relaxed;
 d=iol.unh.edu; s=unh-iol; t=1713315863; x=1713920663; darn=dpdk.org;
 h=references:in-reply-to:cc:to:from:subject:message-id:date:from:to
 :cc:subject:date:message-id:reply-to;
 bh=pmWgkzEhTgVwplqoIUgyKGTRUtUQfewuXY5BA5JhctE=;
 b=IoomcrXQyMsTpb95viLn12dYJ73EGyAWkY7ezDXLokWhgnz8Y03oUK03QAKVyn56P1
 5vfp4KM0Qt0UHNv/ut//NQvginzQbWi56haMoBVyZWSMYiU6JVPLZe5XV/BHSfJP0fYv
 8z6CaJBhkG8HDgo59rKiQtFNIedfGfWWbkUv4=
X-Google-DKIM-Signature: v=1; a=rsa-sha256; c=relaxed/relaxed;
 d=1e100.net; s=20230601; t=1713315863; x=1713920663;
 h=references:in-reply-to:cc:to:from:subject:message-id:date
 :x-gm-message-state:from:to:cc:subject:date:message-id:reply-to;
 bh=pmWgkzEhTgVwplqoIUgyKGTRUtUQfewuXY5BA5JhctE=;
 b=oBFzzA0WJpcfZqWIjoNFv92+Gh8rbVUu8CGOhnznhNs+xF8Kw+EiZ7aAvDKMIumNRa
 c4C+zp9RdUMwwXVeWg63IiP8fjRNle4yx5BR4LZ/CmWi6ViOXjL9idt9RVsodiZDneO1
 g8hPJHoOlKlmytHfl+a/94xXK20EvACtvuUaVEubXcl+Hgyeb0Ebko3UFO4oVX2Qt6bX
 Hh2j9u3xxjilpZSbZZIc7BVFj6vkGyjurPBDUOpcyk6Yc5WJ/pMXmedQxoKAhc/5v6qS
 WxD+djnfNPSRrn5HMYPR+kG9cnjcFm1l2XIQjdGmhBqlu89/6Mni3c31MDXsKB7tEknx
 4VbQ==
X-Gm-Message-State: AOJu0Yzcrz4I2nPYSt3fFkrjGCwoWWEp/Oo24Oa2JYo2b78WAujft44N
 f0zw5tDUrMcInuNnoo0qiIUCcYGJDf1Zrys+B6fXZ+eh5tDfu8Fn8oxdfnwEPaQNbCe9L9/QOYZ
 V2ILVQqK2FVskOAcDenVniSaXsENuKJUI57WvkIgsYKUOPZ1ssJfkPmAl
X-Google-Smtp-Source: AGHT+IED1mxl8xE/1guU9yY2kM0pvC9jqtj4/zdBbR9BJ81SrPYZEkN+kJUHl0jZVhT1ehVedCXpuUbO+9Ru
X-Received: by 2002:a81:4319:0:b0:617:c9b0:e12c with SMTP id
 q25-20020a814319000000b00617c9b0e12cmr13214367ywa.38.1713315861920; 
 Tue, 16 Apr 2024 18:04:21 -0700 (PDT)
Received: from postal.iol.unh.edu (postal.iol.unh.edu.
 [2606:4100:3880:1234::84]) by smtp-relay.gmail.com with ESMTPS id
 s2-20020a0562140ca200b00696b1525150sm1044795qvs.73.2024.04.16.18.04.21
 (version=TLS1_2 cipher=ECDHE-ECDSA-AES128-GCM-SHA256 bits=128/128);
 Tue, 16 Apr 2024 18:04:21 -0700 (PDT)
X-Relaying-Domain: iol.unh.edu
Date: Tue, 16 Apr 2024 18:04:21 -0700 (PDT)
Message-ID: <661f2015.050a0220.3b9ee.2e11SMTPIN_ADDED_MISSING@mx.google.com>
Received: from [172.17.0.4] (unknown [172.18.0.217])
 by postal.iol.unh.edu (Postfix) with ESMTP id 9A1E8604A958;
 Tue, 16 Apr 2024 21:04:21 -0400 (EDT)
Subject: |SUCCESS| pw139432 [PATCH] [v2] mailmap: clean up vmware entries
From: dpdklab@iol.unh.edu
To: Test Report <test-report@dpdk.org>
Cc: dpdk-test-reports@iol.unh.edu
In-Reply-To: <20240417000655.1917714-1-jochen.behrens@broadcom.com>
References: <20240417000655.1917714-1-jochen.behrens@broadcom.com>
Content-Type: text/plain
X-BeenThere: test-report@dpdk.org
X-Mailman-Version: 2.1.29
Precedence: list
List-Id: automatic DPDK test reports <test-report.dpdk.org>
List-Unsubscribe: <https://mails.dpdk.org/options/test-report>,
 <mailto:test-report-request@dpdk.org?subject=unsubscribe>
List-Archive: <http://mails.dpdk.org/archives/test-report/>
List-Post: <mailto:test-report@dpdk.org>
List-Help: <mailto:test-report-request@dpdk.org?subject=help>
List-Subscribe: <https://mails.dpdk.org/listinfo/test-report>,
 <mailto:test-report-request@dpdk.org?subject=subscribe>
Errors-To: test-report-bounces@dpdk.org

Test-Label: iol-unit-arm64-testing
Test-Status: SUCCESS
http://dpdk.org/patch/139432

_Testing PASS_

Submitter: Jochen Behrens <jochen.behrens@broadcom.com>
Date: Wednesday, April 17 2024 00:06:55 
DPDK git baseline: Repo:dpdk
  Branch: master
  CommitID:e2e546ab5bf5e024986ccb5310ab43982f3bb40c

139432 --> testing pass

Test environment and result as below:

+--------------------------+------------------------------+---------------------------+----------------+--------------+
|       Environment        | cryptodev_sw_snow3g_autotest | cryptodev_sw_zuc_autotest | dpdk_unit_test | lpm_autotest |
+==========================+==============================+===========================+================+==============+
| Debian 12 (arm)          | PASS                         | PASS                      | PASS           | SKIPPED      |
+--------------------------+------------------------------+---------------------------+----------------+--------------+
| CentOS Stream 9 (ARM)    | SKIPPED                      | SKIPPED                   | PASS           | SKIPPED      |
+--------------------------+------------------------------+---------------------------+----------------+--------------+
| Debian 11 (Buster) (ARM) | SKIPPED                      | SKIPPED                   | PASS           | SKIPPED      |
+--------------------------+------------------------------+---------------------------+----------------+--------------+
| Ubuntu 20.04 ARM SVE     | SKIPPED                      | SKIPPED                   | SKIPPED        | PASS         |
+--------------------------+------------------------------+---------------------------+----------------+--------------+


Debian 12 (arm)
	Kernel: Container Host Kernel
	Compiler: gcc 12.2.0

CentOS Stream 9 (ARM)
	Kernel: Container Host Kernel
	Compiler: gcc 11.4.1

Debian 11 (Buster) (ARM)
	Kernel: Container Host Kernel
	Compiler: gcc 10.2.1

Ubuntu 20.04 ARM SVE
	Kernel: 5.4.0-167-generic
	Compiler: gcc (Ubuntu 10.5.0-1ubuntu1~20.04) 10.5.0

To view detailed results, visit:
https://lab.dpdk.org/results/dashboard/patchsets/29798/

UNH-IOL DPDK Community Lab

To manage your email subscriptions, visit: 
https://lab.dpdk.org/results/dashboard/preferences/subscriptions/