From mboxrd@z Thu Jan  1 00:00:00 1970
Return-Path: <test-report-bounces@dpdk.org>
Received: from mails.dpdk.org (mails.dpdk.org [217.70.189.124])
	by inbox.dpdk.org (Postfix) with ESMTP id C2B7B43E8A
	for <public@inbox.dpdk.org>; Wed, 17 Apr 2024 03:06:10 +0200 (CEST)
Received: from mails.dpdk.org (localhost [127.0.0.1])
	by mails.dpdk.org (Postfix) with ESMTP id BEFA54029C;
	Wed, 17 Apr 2024 03:06:10 +0200 (CEST)
Received: from mail-qv1-f99.google.com (mail-qv1-f99.google.com
 [209.85.219.99]) by mails.dpdk.org (Postfix) with ESMTP id 93CB540268
 for <test-report@dpdk.org>; Wed, 17 Apr 2024 03:05:54 +0200 (CEST)
Received: by mail-qv1-f99.google.com with SMTP id
 6a1803df08f44-69b5dae6a64so2704746d6.1
 for <test-report@dpdk.org>; Tue, 16 Apr 2024 18:05:54 -0700 (PDT)
DKIM-Signature: v=1; a=rsa-sha256; c=relaxed/relaxed;
 d=iol.unh.edu; s=unh-iol; t=1713315954; x=1713920754; darn=dpdk.org;
 h=references:in-reply-to:cc:to:from:subject:message-id:date:from:to
 :cc:subject:date:message-id:reply-to;
 bh=3JUF7Z5B1rThp4HUnQNkDvSLSFS4HXB0YzmuXARqP0o=;
 b=fyaZxeMj6IeWBxNBA11Z0vvZCSL15N4Gwr8psjEmP/KYoiQR0IqVH1eKHNAUnWDZaH
 FIEga/FT1wkPQrWnR9UjMhQVwiXRMTJ+FbI66DDtVvYd+zde2FuBsyVIYYaVCLdozbER
 NChZ+3PXquW9rVU1MibxLZAiNd6xpCqBcfkkQ=
X-Google-DKIM-Signature: v=1; a=rsa-sha256; c=relaxed/relaxed;
 d=1e100.net; s=20230601; t=1713315954; x=1713920754;
 h=references:in-reply-to:cc:to:from:subject:message-id:date
 :x-gm-message-state:from:to:cc:subject:date:message-id:reply-to;
 bh=3JUF7Z5B1rThp4HUnQNkDvSLSFS4HXB0YzmuXARqP0o=;
 b=PokeIOywkIlqeZKz8Mf/72gM5mBEpKRU+9p0vy1mjp0M50aWquMS7lIT7rfT5z4gVe
 pFpy4oEonAQ1dMJ7pew0Url0HUTI+jx458OtKkz5dLJpDcM1opX5ADuGcANsLw88weyY
 +N9mTeXM0C0u0psvctd+9oatiInPg68MvDmomJ2R7f65UH94a9vMk6cVj6vfTOwhbYOq
 VNNSUFTjqYWltA6PKg/HjoBDd+ah9dt9LTnVk/OeQPo+z8W6haMS+7DTtjd59XVrvhMk
 4gbBDwqfExTvQrpkI3ZOZKxH7h9Mt1E0puh/XSe4m60nIF7FOnXSyAYCZZU9yOPZXaHg
 p8HQ==
X-Gm-Message-State: AOJu0YzUIj/PHh1QbVDyy+qgNHi5nUF5Umow4+9vffpKaQE128ElKKjy
 6eQmc4AYdI4iJh1GGgt/A3yBrJp9J4eP/3QFLhvEyXHYHxC7z6lSFPufQqCkwxvjK0aGfBPnZPr
 ymFLNfChtAS2lQhHYc3L2ohx1B0a1NcNAccgGvtvY
X-Google-Smtp-Source: AGHT+IG6JldNZgY3aS0h5FP95xwCGm0xw5LWNIAlipIwAmqFEgFgxISp2oHsLNpn4J7mK0YQJbC+YhO1+QmV
X-Received: by 2002:a05:6214:948:b0:69b:21b1:108a with SMTP id
 dn8-20020a056214094800b0069b21b1108amr7076655qvb.12.1713315954081; 
 Tue, 16 Apr 2024 18:05:54 -0700 (PDT)
Received: from postal.iol.unh.edu (postal.iol.unh.edu. [132.177.123.84])
 by smtp-relay.gmail.com with ESMTPS id
 h13-20020a0562140dad00b0069ae05a55c7sm980536qvh.70.2024.04.16.18.05.54
 (version=TLS1_2 cipher=ECDHE-ECDSA-AES128-GCM-SHA256 bits=128/128);
 Tue, 16 Apr 2024 18:05:54 -0700 (PDT)
X-Relaying-Domain: iol.unh.edu
Date: Tue, 16 Apr 2024 18:05:54 -0700 (PDT)
Message-ID: <661f2072.050a0220.4b784.d79aSMTPIN_ADDED_MISSING@mx.google.com>
Received: from [172.21.0.6] (unknown [172.18.0.240])
 by postal.iol.unh.edu (Postfix) with ESMTP id CA168604A958;
 Tue, 16 Apr 2024 21:05:53 -0400 (EDT)
Subject: |SUCCESS| pw139432 [PATCH] [v2] mailmap: clean up vmware entries
From: dpdklab@iol.unh.edu
To: Test Report <test-report@dpdk.org>
Cc: dpdk-test-reports@iol.unh.edu
In-Reply-To: <20240417000655.1917714-1-jochen.behrens@broadcom.com>
References: <20240417000655.1917714-1-jochen.behrens@broadcom.com>
Content-Type: text/plain
X-BeenThere: test-report@dpdk.org
X-Mailman-Version: 2.1.29
Precedence: list
List-Id: automatic DPDK test reports <test-report.dpdk.org>
List-Unsubscribe: <https://mails.dpdk.org/options/test-report>,
 <mailto:test-report-request@dpdk.org?subject=unsubscribe>
List-Archive: <http://mails.dpdk.org/archives/test-report/>
List-Post: <mailto:test-report@dpdk.org>
List-Help: <mailto:test-report-request@dpdk.org?subject=help>
List-Subscribe: <https://mails.dpdk.org/listinfo/test-report>,
 <mailto:test-report-request@dpdk.org?subject=subscribe>
Errors-To: test-report-bounces@dpdk.org

Test-Label: iol-unit-amd64-testing
Test-Status: SUCCESS
http://dpdk.org/patch/139432

_Testing PASS_

Submitter: Jochen Behrens <jochen.behrens@broadcom.com>
Date: Wednesday, April 17 2024 00:06:55 
DPDK git baseline: Repo:dpdk
  Branch: master
  CommitID:e2e546ab5bf5e024986ccb5310ab43982f3bb40c

139432 --> testing pass

Test environment and result as below:

+---------------------+----------------+
|     Environment     | dpdk_unit_test |
+=====================+================+
| CentOS Stream 9     | PASS           |
+---------------------+----------------+
| CentOS Stream 8     | PASS           |
+---------------------+----------------+
| Debian 12           | PASS           |
+---------------------+----------------+
| Debian Bullseye     | PASS           |
+---------------------+----------------+
| Fedora 37           | PASS           |
+---------------------+----------------+
| Windows Server 2019 | PASS           |
+---------------------+----------------+
| Fedora 38           | PASS           |
+---------------------+----------------+
| Fedora 39           | PASS           |
+---------------------+----------------+


CentOS Stream 9
	Kernel: 5.4.0-167-generic
	Compiler: gcc 11.4.1 20230605

CentOS Stream 8
	Kernel: 5.4.0-167-generic
	Compiler: gcc 8.5.0 20210514

Debian 12
	Kernel: Container Host Kernel
	Compiler: gcc 10.2.1

Debian Bullseye
	Kernel: 5.4.0-167-generic
	Compiler: gcc 10.2.1-6

Fedora 37
	Kernel: Depends on container host system
	Compiler: gcc 12.3.1

Windows Server 2019
	Kernel: 10.0.17763
	Compiler: clang 14.0 and gcc 8.1.0 (MinGW)

Fedora 38
	Kernel: Depends on container host
	Compiler: gcc 13.2.1

Fedora 39
	Kernel: Depends on container host
	Compiler: gcc 13.2.1

To view detailed results, visit:
https://lab.dpdk.org/results/dashboard/patchsets/29798/

UNH-IOL DPDK Community Lab

To manage your email subscriptions, visit: 
https://lab.dpdk.org/results/dashboard/preferences/subscriptions/