From mboxrd@z Thu Jan  1 00:00:00 1970
Return-Path: <test-report-bounces@dpdk.org>
Received: from mails.dpdk.org (mails.dpdk.org [217.70.189.124])
	by inbox.dpdk.org (Postfix) with ESMTP id 335CB43E8A
	for <public@inbox.dpdk.org>; Wed, 17 Apr 2024 03:14:46 +0200 (CEST)
Received: from mails.dpdk.org (localhost [127.0.0.1])
	by mails.dpdk.org (Postfix) with ESMTP id 2A46E4029C;
	Wed, 17 Apr 2024 03:14:46 +0200 (CEST)
Received: from mail-oo1-f100.google.com (mail-oo1-f100.google.com
 [209.85.161.100])
 by mails.dpdk.org (Postfix) with ESMTP id 79F4540268
 for <test-report@dpdk.org>; Wed, 17 Apr 2024 03:14:45 +0200 (CEST)
Received: by mail-oo1-f100.google.com with SMTP id
 006d021491bc7-5aa4a1246b1so3335543eaf.3
 for <test-report@dpdk.org>; Tue, 16 Apr 2024 18:14:45 -0700 (PDT)
DKIM-Signature: v=1; a=rsa-sha256; c=relaxed/relaxed;
 d=iol.unh.edu; s=unh-iol; t=1713316485; x=1713921285; darn=dpdk.org;
 h=references:in-reply-to:cc:to:from:subject:message-id:date:from:to
 :cc:subject:date:message-id:reply-to;
 bh=hxE7EFiNiJ3ppjeasPbk46ss6Aty7NWec1hoKjnRoBo=;
 b=XqEHUOFUJQ+IQ0ezYg6Jsd2oEzNBd9rGVj17lpFHz1tPVdOvO1tJb8YVK/JL/KxjaO
 KwaRFI2pa1/JMjo7yVPyZDUo5Jxx7AilSmRvaj/0+/YB9Tb2ORhS5jbbs7eBbTjGw/eT
 z1LCRoAGxjaYlq44UY58ClxorZf7tCVd6NarI=
X-Google-DKIM-Signature: v=1; a=rsa-sha256; c=relaxed/relaxed;
 d=1e100.net; s=20230601; t=1713316485; x=1713921285;
 h=references:in-reply-to:cc:to:from:subject:message-id:date
 :x-gm-message-state:from:to:cc:subject:date:message-id:reply-to;
 bh=hxE7EFiNiJ3ppjeasPbk46ss6Aty7NWec1hoKjnRoBo=;
 b=NctBh86jAADdtay6u96UXzRoOrNEN5kK0bpLXcS6Yuv/8Iw0lJ7W5bEsNp3kRMChpO
 vBT5+Umar3pQVoftlPQ/COcJTNlxB76ZEf5D3+5uNRit3vquOTDIW86iyeugiM1h2KF5
 aPuBF+id6uLulIPPYxhU0pDD8ZYcQfKHxUCP8hf2PAesH4Gk4L7gKWPc+/h8rp3w/7Yd
 4nBMh8wFulSXoJsvl5X7TaFvhGlIGdOSGsNOYP6iPjCfI/bq8BSEl/JDlpCl2xqIrGOl
 BDXiSU/7X4zLMXbuP/u6fzRKJR16dn3bdsZpnH7WCYJQpJSCZDCdPDvPyZSPXzYjkr+G
 YgQA==
X-Gm-Message-State: AOJu0YwPhmpKifJfBCcjhzp26AQef6yQV62r0BYk4RMIf6e1qn7/qXM3
 1Iy9955Jt3UE8fn8gWuADJeuEzX034p0jZOJT9ogx0tspbaHJ6gneSyPM49PQHTXwsKb49TuWjJ
 E9LWjbUC93ZH+tQbydIDSVh2KKXK5hu81bf3j0lfyal59h4akM3E4klp1
X-Google-Smtp-Source: AGHT+IEpIvIRSqZNhr0EWFfnnRn4bh5zenzhvn/7NV+xqW1gHCTYl29GII3uR4/C7hfl5cFzlyUDRnfBIyMB
X-Received: by 2002:a4a:ec46:0:b0:5aa:6a1e:a3d4 with SMTP id
 q6-20020a4aec46000000b005aa6a1ea3d4mr16067436ooj.3.1713316484800; 
 Tue, 16 Apr 2024 18:14:44 -0700 (PDT)
Received: from postal.iol.unh.edu (postal.iol.unh.edu.
 [2606:4100:3880:1234::84]) by smtp-relay.gmail.com with ESMTPS id
 x9-20020a4aaf49000000b0059cb17355e0sm663549oon.7.2024.04.16.18.14.44
 (version=TLS1_2 cipher=ECDHE-ECDSA-AES128-GCM-SHA256 bits=128/128);
 Tue, 16 Apr 2024 18:14:44 -0700 (PDT)
X-Relaying-Domain: iol.unh.edu
Date: Tue, 16 Apr 2024 18:14:44 -0700 (PDT)
Message-ID: <661f2284.4a0a0220.78b2c.b7a4SMTPIN_ADDED_MISSING@mx.google.com>
Received: from [172.17.0.2] (unknown [172.18.0.217])
 by postal.iol.unh.edu (Postfix) with ESMTP id 44A33604A958;
 Tue, 16 Apr 2024 21:14:44 -0400 (EDT)
Subject: |SUCCESS| pw139432 [PATCH] [v2] mailmap: clean up vmware entries
From: dpdklab@iol.unh.edu
To: Test Report <test-report@dpdk.org>
Cc: dpdk-test-reports@iol.unh.edu
In-Reply-To: <20240417000655.1917714-1-jochen.behrens@broadcom.com>
References: <20240417000655.1917714-1-jochen.behrens@broadcom.com>
Content-Type: text/plain
X-BeenThere: test-report@dpdk.org
X-Mailman-Version: 2.1.29
Precedence: list
List-Id: automatic DPDK test reports <test-report.dpdk.org>
List-Unsubscribe: <https://mails.dpdk.org/options/test-report>,
 <mailto:test-report-request@dpdk.org?subject=unsubscribe>
List-Archive: <http://mails.dpdk.org/archives/test-report/>
List-Post: <mailto:test-report@dpdk.org>
List-Help: <mailto:test-report-request@dpdk.org?subject=help>
List-Subscribe: <https://mails.dpdk.org/listinfo/test-report>,
 <mailto:test-report-request@dpdk.org?subject=subscribe>
Errors-To: test-report-bounces@dpdk.org

Test-Label: iol-unit-arm64-testing
Test-Status: SUCCESS
http://dpdk.org/patch/139432

_Testing PASS_

Submitter: Jochen Behrens <jochen.behrens@broadcom.com>
Date: Wednesday, April 17 2024 00:06:55 
DPDK git baseline: Repo:dpdk
  Branch: master
  CommitID:e2e546ab5bf5e024986ccb5310ab43982f3bb40c

139432 --> testing pass

Test environment and result as below:

+-----------------------------+------------------------------+---------------------------+----------------+--------------+
|         Environment         | cryptodev_sw_snow3g_autotest | cryptodev_sw_zuc_autotest | dpdk_unit_test | lpm_autotest |
+=============================+==============================+===========================+================+==============+
| Debian 12 (arm)             | PASS                         | PASS                      | PASS           | SKIPPED      |
+-----------------------------+------------------------------+---------------------------+----------------+--------------+
| CentOS Stream 9 (ARM)       | SKIPPED                      | SKIPPED                   | PASS           | SKIPPED      |
+-----------------------------+------------------------------+---------------------------+----------------+--------------+
| Debian 11 (Buster) (ARM)    | SKIPPED                      | SKIPPED                   | PASS           | SKIPPED      |
+-----------------------------+------------------------------+---------------------------+----------------+--------------+
| Fedora 37 (ARM)             | SKIPPED                      | SKIPPED                   | PASS           | SKIPPED      |
+-----------------------------+------------------------------+---------------------------+----------------+--------------+
| Fedora 38 (ARM)             | SKIPPED                      | SKIPPED                   | PASS           | SKIPPED      |
+-----------------------------+------------------------------+---------------------------+----------------+--------------+
| Ubuntu 20.04 (ARM)          | SKIPPED                      | SKIPPED                   | PASS           | SKIPPED      |
+-----------------------------+------------------------------+---------------------------+----------------+--------------+
| 32-bit Ubuntu 20.04.4 (ARM) | SKIPPED                      | SKIPPED                   | PASS           | SKIPPED      |
+-----------------------------+------------------------------+---------------------------+----------------+--------------+
| Fedora 39 (ARM)             | SKIPPED                      | SKIPPED                   | PASS           | SKIPPED      |
+-----------------------------+------------------------------+---------------------------+----------------+--------------+
| Ubuntu 20.04 ARM SVE        | SKIPPED                      | SKIPPED                   | SKIPPED        | PASS         |
+-----------------------------+------------------------------+---------------------------+----------------+--------------+


Debian 12 (arm)
	Kernel: Container Host Kernel
	Compiler: gcc 12.2.0

CentOS Stream 9 (ARM)
	Kernel: Container Host Kernel
	Compiler: gcc 11.4.1

Debian 11 (Buster) (ARM)
	Kernel: Container Host Kernel
	Compiler: gcc 10.2.1

Fedora 37 (ARM)
	Kernel: Depends on container host
	Compiler: gcc 12.3.1

Fedora 38 (ARM)
	Kernel: Depends on container host
	Compiler: gcc 13.2.1

Ubuntu 20.04 (ARM)
	Kernel: Container Host Kernel
	Compiler: gcc 9.4.0

32-bit Ubuntu 20.04.4 (ARM)
	Kernel: 5.4.0-155-generic aarch64
	Compiler: gcc 9.4

Fedora 39 (ARM)
	Kernel: Depends on container host
	Compiler: gcc 13.2.1

Ubuntu 20.04 ARM SVE
	Kernel: 5.4.0-167-generic
	Compiler: gcc (Ubuntu 10.5.0-1ubuntu1~20.04) 10.5.0

To view detailed results, visit:
https://lab.dpdk.org/results/dashboard/patchsets/29798/

UNH-IOL DPDK Community Lab

To manage your email subscriptions, visit: 
https://lab.dpdk.org/results/dashboard/preferences/subscriptions/