From mboxrd@z Thu Jan  1 00:00:00 1970
Return-Path: <test-report-bounces@dpdk.org>
Received: from mails.dpdk.org (mails.dpdk.org [217.70.189.124])
	by inbox.dpdk.org (Postfix) with ESMTP id 281F843E8E
	for <public@inbox.dpdk.org>; Wed, 17 Apr 2024 09:00:01 +0200 (CEST)
Received: from mails.dpdk.org (localhost [127.0.0.1])
	by mails.dpdk.org (Postfix) with ESMTP id 1F5014028B;
	Wed, 17 Apr 2024 09:00:01 +0200 (CEST)
Received: from mail-pf1-f228.google.com (mail-pf1-f228.google.com
 [209.85.210.228])
 by mails.dpdk.org (Postfix) with ESMTP id 5C78B40268
 for <test-report@dpdk.org>; Wed, 17 Apr 2024 08:59:59 +0200 (CEST)
Received: by mail-pf1-f228.google.com with SMTP id
 d2e1a72fcca58-6ecf05fd12fso4939030b3a.2
 for <test-report@dpdk.org>; Tue, 16 Apr 2024 23:59:59 -0700 (PDT)
DKIM-Signature: v=1; a=rsa-sha256; c=relaxed/relaxed;
 d=iol.unh.edu; s=unh-iol; t=1713337198; x=1713941998; darn=dpdk.org;
 h=references:in-reply-to:cc:to:from:subject:message-id:date:from:to
 :cc:subject:date:message-id:reply-to;
 bh=3GzDcAN6z/gqY1vteqYoIpzAqqFfFDop/0cIsgNrspk=;
 b=TToQef0GtQXq0b8x9TxUl5dhvIaxvGAWfLFQIU6DmvmRbJY+za0JvGc4cyHbzVUipv
 /EWiIdZmZMW9eP8qhwFS95N5qyM8wqDd+eGtQ3QPpdyVi2+dGdx+FfqPcOWlD9Rtzgmz
 dQehFprRb/Ze5MaZPdFg9DRau0kvLiZbGzTMU=
X-Google-DKIM-Signature: v=1; a=rsa-sha256; c=relaxed/relaxed;
 d=1e100.net; s=20230601; t=1713337198; x=1713941998;
 h=references:in-reply-to:cc:to:from:subject:message-id:date
 :x-gm-message-state:from:to:cc:subject:date:message-id:reply-to;
 bh=3GzDcAN6z/gqY1vteqYoIpzAqqFfFDop/0cIsgNrspk=;
 b=XkwiYMA0+shsDOfFn5tb0xhJkrlTun3AulEIPxHJ0647RLKRo8+qpLmcmXFZszPH/B
 uqAVDweq5poqfAlvZUh41CKLiJYD/IW9h7+Tp6BWIRUBmogbZLeHr2LFtnprKo29mlf0
 V7P1KRYouGEj93Pl7z/PHHMr+61BnvrxVcUKenYR1MbBf+cUfQ2mzi2BTv79Rt7MN/LG
 86kJegtcF7wmRYB1ZjVLfVd5yKw/xrTmN/vjx2VB3I0wITZQLUnPCsVJZzQi1N3fZ7md
 +b5KOlMNEAlrlY9R/AaOabEzbzCIqmTkPwO5Kmah7y/21O3hekruxHFA022NaftlhfNM
 EKBg==
X-Gm-Message-State: AOJu0Yy9evt3FpF1IZnVxhlNJrR4TxJ+JlC+gmB5F8r7Ee+l5PY2W6Ci
 6lfJqAQepy4yI7IVnGFOuemZ0DF/1sRy2jvHKSMeu+vszIng3X+UmQcXDgEcvCj0yLQs5AuFLXH
 NALLWgklyTwC4Au7vSmSDIKkGQ9WGDaRFTxC3H7/c
X-Google-Smtp-Source: AGHT+IGZTzE753gduhr8mqgkpvgpSbtNswrhUAdsoxuaoMAfAgMY4iJaNJo4NPeXg5/yEH2G2tvKduiggrQV
X-Received: by 2002:a05:6a20:c888:b0:1aa:5d76:1916 with SMTP id
 hb8-20020a056a20c88800b001aa5d761916mr3850484pzb.34.1713337198468; 
 Tue, 16 Apr 2024 23:59:58 -0700 (PDT)
Received: from postal.iol.unh.edu (postal.iol.unh.edu. [132.177.123.84])
 by smtp-relay.gmail.com with ESMTPS id
 h13-20020a17090ac38d00b002a037d5c29asm49840pjt.17.2024.04.16.23.59.58
 (version=TLS1_2 cipher=ECDHE-ECDSA-AES128-GCM-SHA256 bits=128/128);
 Tue, 16 Apr 2024 23:59:58 -0700 (PDT)
X-Relaying-Domain: iol.unh.edu
Date: Tue, 16 Apr 2024 23:59:58 -0700 (PDT)
Message-ID: <661f736e.170a0220.aff14.3474SMTPIN_ADDED_MISSING@mx.google.com>
Received: from [172.21.0.7] (unknown [172.18.0.240])
 by postal.iol.unh.edu (Postfix) with ESMTP id 9D7FD604A958;
 Wed, 17 Apr 2024 02:59:57 -0400 (EDT)
Subject: |SUCCESS| pw139433-139434 [PATCH] [v2,2/2] dma/cnxk: remove completi
From: dpdklab@iol.unh.edu
To: Test Report <test-report@dpdk.org>
Cc: dpdk-test-reports@iol.unh.edu
In-Reply-To: <20240417055830.1935-2-pbhagavatula@marvell.com>
References: <20240417055830.1935-2-pbhagavatula@marvell.com>
Content-Type: text/plain
X-BeenThere: test-report@dpdk.org
X-Mailman-Version: 2.1.29
Precedence: list
List-Id: automatic DPDK test reports <test-report.dpdk.org>
List-Unsubscribe: <https://mails.dpdk.org/options/test-report>,
 <mailto:test-report-request@dpdk.org?subject=unsubscribe>
List-Archive: <http://mails.dpdk.org/archives/test-report/>
List-Post: <mailto:test-report@dpdk.org>
List-Help: <mailto:test-report-request@dpdk.org?subject=help>
List-Subscribe: <https://mails.dpdk.org/listinfo/test-report>,
 <mailto:test-report-request@dpdk.org?subject=subscribe>
Errors-To: test-report-bounces@dpdk.org

Test-Label: iol-abi-testing
Test-Status: SUCCESS
http://dpdk.org/patch/139434

_Testing PASS_

Submitter: Pavan Nikhilesh Bhagavatula <pbhagavatula@marvell.com>
Date: Wednesday, April 17 2024 05:58:30 
DPDK git baseline: Repo:dpdk
  Branch: master
  CommitID:e2e546ab5bf5e024986ccb5310ab43982f3bb40c

139433-139434 --> testing pass

Test environment and result as below:

+------------------+----------+
|   Environment    | abi_test |
+==================+==========+
| CentOS Stream 8  | PASS     |
+------------------+----------+
| Fedora 38        | PASS     |
+------------------+----------+
| Debian 12        | PASS     |
+------------------+----------+
| CentOS Stream 9  | PASS     |
+------------------+----------+
| Debian Bullseye  | PASS     |
+------------------+----------+
| Fedora 39        | PASS     |
+------------------+----------+
| Ubuntu 22.04     | PASS     |
+------------------+----------+
| openSUSE Leap 15 | PASS     |
+------------------+----------+


CentOS Stream 8
	Kernel: 5.4.0-167-generic
	Compiler: gcc 8.5.0 20210514

Fedora 38
	Kernel: Depends on container host
	Compiler: clang 16.0.6

Debian 12
	Kernel: Container Host Kernel
	Compiler: gcc 10.2.1

CentOS Stream 9
	Kernel: 5.4.0-167-generic
	Compiler: gcc 11.4.1 20230605

Debian Bullseye
	Kernel: 5.4.0-167-generic
	Compiler: gcc 10.2.1-6

Fedora 39
	Kernel: Depends on container host
	Compiler: clang 17.0.6

Ubuntu 22.04
	Kernel: 5.4.0-167-generic
	Compiler: gcc 11.4.0

openSUSE Leap 15
	Kernel: 5.4.0-167-generic
	Compiler: gcc 7.5.0

To view detailed results, visit:
https://lab.dpdk.org/results/dashboard/patchsets/29799/

UNH-IOL DPDK Community Lab

To manage your email subscriptions, visit: 
https://lab.dpdk.org/results/dashboard/preferences/subscriptions/