From mboxrd@z Thu Jan  1 00:00:00 1970
Return-Path: <test-report-bounces@dpdk.org>
Received: from mails.dpdk.org (mails.dpdk.org [217.70.189.124])
	by inbox.dpdk.org (Postfix) with ESMTP id 81C4743E8E
	for <public@inbox.dpdk.org>; Wed, 17 Apr 2024 09:04:33 +0200 (CEST)
Received: from mails.dpdk.org (localhost [127.0.0.1])
	by mails.dpdk.org (Postfix) with ESMTP id 7AF004029C;
	Wed, 17 Apr 2024 09:04:33 +0200 (CEST)
Received: from mail-io1-f97.google.com (mail-io1-f97.google.com
 [209.85.166.97]) by mails.dpdk.org (Postfix) with ESMTP id 4043D4028B
 for <test-report@dpdk.org>; Wed, 17 Apr 2024 09:04:22 +0200 (CEST)
Received: by mail-io1-f97.google.com with SMTP id
 ca18e2360f4ac-7d5ee54dcecso234144539f.0
 for <test-report@dpdk.org>; Wed, 17 Apr 2024 00:04:22 -0700 (PDT)
DKIM-Signature: v=1; a=rsa-sha256; c=relaxed/relaxed;
 d=iol.unh.edu; s=unh-iol; t=1713337461; x=1713942261; darn=dpdk.org;
 h=references:in-reply-to:cc:to:from:subject:message-id:date:from:to
 :cc:subject:date:message-id:reply-to;
 bh=PlYI0LdVh4OWOHe5f+nJGvtZdMJlhzeS5dHi4eFEnkE=;
 b=Cfr6WSvYzqhyejnzKJAd0tZPvKdNPcDbw3jVz1vZk+wg9TDFHfm0xCDy4wTNkuUglt
 HgGZg4g5xqUJmnXn1jOVWHPi8SEQHa83TgEFMcNW6+Fw+IO5QlXlmV/5dXjdKPJlyOaq
 B2X9YPOjFa9c465KLkN4B9Z80e4UhJOmeD6BU=
X-Google-DKIM-Signature: v=1; a=rsa-sha256; c=relaxed/relaxed;
 d=1e100.net; s=20230601; t=1713337461; x=1713942261;
 h=references:in-reply-to:cc:to:from:subject:message-id:date
 :x-gm-message-state:from:to:cc:subject:date:message-id:reply-to;
 bh=PlYI0LdVh4OWOHe5f+nJGvtZdMJlhzeS5dHi4eFEnkE=;
 b=PEb4Bk0aX+bGQW8U9YQoEhzTXI6g16u1RxOi0XPMoDRer2Dapg704aYxoXuW61AKhk
 crtmmBdLA8zkjWdDzrPoWoIV9/7HK0Jqe81g5uTnEBV6cF449DoapwJvVx2ElV3wLgQT
 a0fynefnBp8V7Dtju36mVR6IzuJCLrGBbTr50nSQUzbTLrKYNlLpy/G+vBTnw+1xwzBJ
 fxMnjTA0eQWkCjIWu1a5z3xNsVcuUDsYFvOdtwjCxdTBMbb9UwmgRBZzCj5WYazU9Kbv
 iFTs4a8gQh9+qNXix3Ef40C0QEp3CSQ2HO5WX/raoOxl39zoo6C6bsIVXkfh3jrGf8dD
 ghJg==
X-Gm-Message-State: AOJu0YwcMeHt+KCkn0FRwZY34xAlnY0wrHs7mV0HJVnuZeRc5x9niF/d
 G1KAUyGjQCLLvCAihO+7CXx05pKk0djdHLjkoDD2AdlMU01abMxyQdpK/Dxrp+AkMdGZepU7U+n
 /nuoNsLSNRWFPO0LATI9dVx3/6Gx13aSunOSp3OlIJ1rFjk1eBMmFTZF9
X-Google-Smtp-Source: AGHT+IGGn3OGvz/Xmjd4o7KcGQXjWvtxI48CNE/HZbpPnJ19O/sOrFHDdiuKcA/+SJ9QaFTeBgrfujrVJYZd
X-Received: by 2002:a05:6602:3689:b0:7d5:ff5d:9362 with SMTP id
 bf9-20020a056602368900b007d5ff5d9362mr19651014iob.1.1713337461705; 
 Wed, 17 Apr 2024 00:04:21 -0700 (PDT)
Received: from postal.iol.unh.edu (postal.iol.unh.edu.
 [2606:4100:3880:1234::84]) by smtp-relay.gmail.com with ESMTPS id
 s3-20020a6bdc03000000b007d0cd44f254sm665006ioc.18.2024.04.17.00.04.21
 (version=TLS1_2 cipher=ECDHE-ECDSA-AES128-GCM-SHA256 bits=128/128);
 Wed, 17 Apr 2024 00:04:21 -0700 (PDT)
X-Relaying-Domain: iol.unh.edu
Date: Wed, 17 Apr 2024 00:04:21 -0700 (PDT)
Message-ID: <661f7475.6b0a0220.bfceb.e89bSMTPIN_ADDED_MISSING@mx.google.com>
Received: from [172.17.0.3] (unknown [172.18.0.217])
 by postal.iol.unh.edu (Postfix) with ESMTP id 32903604A958;
 Wed, 17 Apr 2024 03:04:21 -0400 (EDT)
Subject: |SUCCESS| pw139433-139434 [PATCH] [v2,2/2] dma/cnxk: remove completi
From: dpdklab@iol.unh.edu
To: Test Report <test-report@dpdk.org>
Cc: dpdk-test-reports@iol.unh.edu
In-Reply-To: <20240417055830.1935-2-pbhagavatula@marvell.com>
References: <20240417055830.1935-2-pbhagavatula@marvell.com>
Content-Type: text/plain
X-BeenThere: test-report@dpdk.org
X-Mailman-Version: 2.1.29
Precedence: list
List-Id: automatic DPDK test reports <test-report.dpdk.org>
List-Unsubscribe: <https://mails.dpdk.org/options/test-report>,
 <mailto:test-report-request@dpdk.org?subject=unsubscribe>
List-Archive: <http://mails.dpdk.org/archives/test-report/>
List-Post: <mailto:test-report@dpdk.org>
List-Help: <mailto:test-report-request@dpdk.org?subject=help>
List-Subscribe: <https://mails.dpdk.org/listinfo/test-report>,
 <mailto:test-report-request@dpdk.org?subject=subscribe>
Errors-To: test-report-bounces@dpdk.org

Test-Label: iol-abi-testing
Test-Status: SUCCESS
http://dpdk.org/patch/139434

_Testing PASS_

Submitter: Pavan Nikhilesh Bhagavatula <pbhagavatula@marvell.com>
Date: Wednesday, April 17 2024 05:58:30 
DPDK git baseline: Repo:dpdk
  Branch: master
  CommitID:e2e546ab5bf5e024986ccb5310ab43982f3bb40c

139433-139434 --> testing pass

Test environment and result as below:

+------------------+----------+
|   Environment    | abi_test |
+==================+==========+
| CentOS Stream 8  | PASS     |
+------------------+----------+
| Fedora 38        | PASS     |
+------------------+----------+
| Debian 12        | PASS     |
+------------------+----------+
| CentOS Stream 9  | PASS     |
+------------------+----------+
| Debian Bullseye  | PASS     |
+------------------+----------+
| Fedora 39        | PASS     |
+------------------+----------+
| Ubuntu 22.04     | PASS     |
+------------------+----------+
| openSUSE Leap 15 | PASS     |
+------------------+----------+
| Fedora 37        | PASS     |
+------------------+----------+


CentOS Stream 8
	Kernel: 5.4.0-167-generic
	Compiler: gcc 8.5.0 20210514

Fedora 38
	Kernel: Depends on container host
	Compiler: clang 16.0.6

Debian 12
	Kernel: Container Host Kernel
	Compiler: gcc 10.2.1

CentOS Stream 9
	Kernel: 5.4.0-167-generic
	Compiler: gcc 11.4.1 20230605

Debian Bullseye
	Kernel: 5.4.0-167-generic
	Compiler: gcc 10.2.1-6

Fedora 39
	Kernel: Depends on container host
	Compiler: clang 17.0.6

Ubuntu 22.04
	Kernel: 5.4.0-167-generic
	Compiler: gcc 11.4.0

openSUSE Leap 15
	Kernel: 5.4.0-167-generic
	Compiler: gcc 7.5.0

Fedora 37
	Kernel: Depends on container host system
	Compiler: gcc 12.3.1

To view detailed results, visit:
https://lab.dpdk.org/results/dashboard/patchsets/29799/

UNH-IOL DPDK Community Lab

To manage your email subscriptions, visit: 
https://lab.dpdk.org/results/dashboard/preferences/subscriptions/