From mboxrd@z Thu Jan  1 00:00:00 1970
Return-Path: <test-report-bounces@dpdk.org>
Received: from mails.dpdk.org (mails.dpdk.org [217.70.189.124])
	by inbox.dpdk.org (Postfix) with ESMTP id E438443E8E
	for <public@inbox.dpdk.org>; Wed, 17 Apr 2024 09:06:08 +0200 (CEST)
Received: from mails.dpdk.org (localhost [127.0.0.1])
	by mails.dpdk.org (Postfix) with ESMTP id E07EE4029C;
	Wed, 17 Apr 2024 09:06:08 +0200 (CEST)
Received: from mail-ot1-f99.google.com (mail-ot1-f99.google.com
 [209.85.210.99]) by mails.dpdk.org (Postfix) with ESMTP id D53824028B
 for <test-report@dpdk.org>; Wed, 17 Apr 2024 09:06:01 +0200 (CEST)
Received: by mail-ot1-f99.google.com with SMTP id
 46e09a7af769-6eb86aeeb2cso1493948a34.3
 for <test-report@dpdk.org>; Wed, 17 Apr 2024 00:06:01 -0700 (PDT)
DKIM-Signature: v=1; a=rsa-sha256; c=relaxed/relaxed;
 d=iol.unh.edu; s=unh-iol; t=1713337561; x=1713942361; darn=dpdk.org;
 h=references:in-reply-to:cc:to:from:subject:message-id:date:from:to
 :cc:subject:date:message-id:reply-to;
 bh=PlYI0LdVh4OWOHe5f+nJGvtZdMJlhzeS5dHi4eFEnkE=;
 b=L86yMpLQBM41mQm5H5EfwfsyR16iAcVPImqQBSN9cEU+grZHi0gZAMMFwVzEzOPEA0
 XgG9DTYF0gfCHMIM07CQpPZ8EPtD1zDHmYIqT3gn4wW44IC6qjU50wGFF/vCfBMZSI3I
 R31/KSlVVHVXTJv3hsZg3GlvQL5N1+kycz8x8=
X-Google-DKIM-Signature: v=1; a=rsa-sha256; c=relaxed/relaxed;
 d=1e100.net; s=20230601; t=1713337561; x=1713942361;
 h=references:in-reply-to:cc:to:from:subject:message-id:date
 :x-gm-message-state:from:to:cc:subject:date:message-id:reply-to;
 bh=PlYI0LdVh4OWOHe5f+nJGvtZdMJlhzeS5dHi4eFEnkE=;
 b=Mf6XuA4HZHhmtuPlUvHMPVu8yYvq3TRqumBaYCYp8MJtg1Y415wr2boohY4Qf/qD/o
 rj8cDV/kqSgUMmt2NbZ8QfoMZCCE8tRyFqTQA/G1XFxwGCkLdqZMJXv5TI2iIfC+JwOo
 vyN/kNr3H1r0BAI0TH4DdoPSVMpiHr9fbQOaYmJmyjkR08Trk1B+H9ypo3gL692N0bf5
 ttYafRAjBA1U72Hf2zAk1LYY2O8a0SL3YBOVN/huKvI9hiOFOdRXAQ77HtES8mL73ZuE
 sA/l1nzXIvs5iExSUhQ+p6anE2qFYbwg7Jl7Jg+VxVp4CQ+N/JKWKhA9P9PQxo4J12xV
 YhwQ==
X-Gm-Message-State: AOJu0YwQCbxvfdYCdpfb0pmE5DLJGvHfDCL3Lgctu+lXheDVRbQN6suR
 KTsR27EpVI/olzzceQF7UzcZIW+rw+rvPJYei5qB4jBzFumiIIxrVzAkV/IFqpIUhJvXKbFnGtJ
 au7RHtmunQgbq5Q3otH84K6My6K7XIXNaSBJe/exV
X-Google-Smtp-Source: AGHT+IFaEuFPanncKIC+vm0CPdjohVJNUSPSFcnQdUq/twtyToQsQDzSaiBJEsuw8xCWJ2slpuC4ot7qj9eG
X-Received: by 2002:a9d:69d1:0:b0:6eb:7857:2b75 with SMTP id
 v17-20020a9d69d1000000b006eb78572b75mr10816121oto.6.1713337561187; 
 Wed, 17 Apr 2024 00:06:01 -0700 (PDT)
Received: from postal.iol.unh.edu (postal.iol.unh.edu. [132.177.123.84])
 by smtp-relay.gmail.com with ESMTPS id
 e24-20020a9d7318000000b006e4f08ad900sm695843otk.14.2024.04.17.00.06.01
 (version=TLS1_2 cipher=ECDHE-ECDSA-AES128-GCM-SHA256 bits=128/128);
 Wed, 17 Apr 2024 00:06:01 -0700 (PDT)
X-Relaying-Domain: iol.unh.edu
Date: Wed, 17 Apr 2024 00:06:01 -0700 (PDT)
Message-ID: <661f74d9.9d0a0220.a6730.cdceSMTPIN_ADDED_MISSING@mx.google.com>
Received: from [172.21.0.6] (unknown [172.18.0.240])
 by postal.iol.unh.edu (Postfix) with ESMTP id 4DDC2604A958;
 Wed, 17 Apr 2024 03:06:00 -0400 (EDT)
Subject: |SUCCESS| pw139433-139434 [PATCH] [v2,2/2] dma/cnxk: remove completi
From: dpdklab@iol.unh.edu
To: Test Report <test-report@dpdk.org>
Cc: dpdk-test-reports@iol.unh.edu
In-Reply-To: <20240417055830.1935-2-pbhagavatula@marvell.com>
References: <20240417055830.1935-2-pbhagavatula@marvell.com>
Content-Type: text/plain
X-BeenThere: test-report@dpdk.org
X-Mailman-Version: 2.1.29
Precedence: list
List-Id: automatic DPDK test reports <test-report.dpdk.org>
List-Unsubscribe: <https://mails.dpdk.org/options/test-report>,
 <mailto:test-report-request@dpdk.org?subject=unsubscribe>
List-Archive: <http://mails.dpdk.org/archives/test-report/>
List-Post: <mailto:test-report@dpdk.org>
List-Help: <mailto:test-report-request@dpdk.org?subject=help>
List-Subscribe: <https://mails.dpdk.org/listinfo/test-report>,
 <mailto:test-report-request@dpdk.org?subject=subscribe>
Errors-To: test-report-bounces@dpdk.org

Test-Label: iol-abi-testing
Test-Status: SUCCESS
http://dpdk.org/patch/139434

_Testing PASS_

Submitter: Pavan Nikhilesh Bhagavatula <pbhagavatula@marvell.com>
Date: Wednesday, April 17 2024 05:58:30 
DPDK git baseline: Repo:dpdk
  Branch: master
  CommitID:e2e546ab5bf5e024986ccb5310ab43982f3bb40c

139433-139434 --> testing pass

Test environment and result as below:

+------------------+----------+
|   Environment    | abi_test |
+==================+==========+
| CentOS Stream 8  | PASS     |
+------------------+----------+
| Fedora 38        | PASS     |
+------------------+----------+
| Debian 12        | PASS     |
+------------------+----------+
| CentOS Stream 9  | PASS     |
+------------------+----------+
| Debian Bullseye  | PASS     |
+------------------+----------+
| Fedora 39        | PASS     |
+------------------+----------+
| Ubuntu 22.04     | PASS     |
+------------------+----------+
| openSUSE Leap 15 | PASS     |
+------------------+----------+
| Fedora 37        | PASS     |
+------------------+----------+


CentOS Stream 8
	Kernel: 5.4.0-167-generic
	Compiler: gcc 8.5.0 20210514

Fedora 38
	Kernel: Depends on container host
	Compiler: clang 16.0.6

Debian 12
	Kernel: Container Host Kernel
	Compiler: gcc 10.2.1

CentOS Stream 9
	Kernel: 5.4.0-167-generic
	Compiler: gcc 11.4.1 20230605

Debian Bullseye
	Kernel: 5.4.0-167-generic
	Compiler: gcc 10.2.1-6

Fedora 39
	Kernel: Depends on container host
	Compiler: clang 17.0.6

Ubuntu 22.04
	Kernel: 5.4.0-167-generic
	Compiler: gcc 11.4.0

openSUSE Leap 15
	Kernel: 5.4.0-167-generic
	Compiler: gcc 7.5.0

Fedora 37
	Kernel: Depends on container host system
	Compiler: gcc 12.3.1

To view detailed results, visit:
https://lab.dpdk.org/results/dashboard/patchsets/29799/

UNH-IOL DPDK Community Lab

To manage your email subscriptions, visit: 
https://lab.dpdk.org/results/dashboard/preferences/subscriptions/