From mboxrd@z Thu Jan  1 00:00:00 1970
Return-Path: <test-report-bounces@dpdk.org>
Received: from mails.dpdk.org (mails.dpdk.org [217.70.189.124])
	by inbox.dpdk.org (Postfix) with ESMTP id 1D5B743E8E
	for <public@inbox.dpdk.org>; Wed, 17 Apr 2024 09:11:03 +0200 (CEST)
Received: from mails.dpdk.org (localhost [127.0.0.1])
	by mails.dpdk.org (Postfix) with ESMTP id 160734029C;
	Wed, 17 Apr 2024 09:11:03 +0200 (CEST)
Received: from mail-pf1-f227.google.com (mail-pf1-f227.google.com
 [209.85.210.227])
 by mails.dpdk.org (Postfix) with ESMTP id 06F114028B
 for <test-report@dpdk.org>; Wed, 17 Apr 2024 09:10:56 +0200 (CEST)
Received: by mail-pf1-f227.google.com with SMTP id
 d2e1a72fcca58-6ed0e9ccca1so4797555b3a.0
 for <test-report@dpdk.org>; Wed, 17 Apr 2024 00:10:55 -0700 (PDT)
DKIM-Signature: v=1; a=rsa-sha256; c=relaxed/relaxed;
 d=iol.unh.edu; s=unh-iol; t=1713337855; x=1713942655; darn=dpdk.org;
 h=references:in-reply-to:cc:to:from:subject:message-id:date:from:to
 :cc:subject:date:message-id:reply-to;
 bh=oZWneSuG/ONiW/m5tby19qvz7SNsWPrBo81UTm0cAho=;
 b=PBLXyyXxvsNHaJGlx/qvhmDMtcR0KVfhIL5oZKY1QMMlygC4phL218x0xebZcdvL78
 +qrWzfXP1uhsz4gpsc6vpvkDS7Lt9g6nHZ0soulChtoIYKmbx2YgwcCoPtAXeDLF7gQi
 mFos0TDh+MBpkV3Yz39+KiLZzzP5Lj4BOPN8Y=
X-Google-DKIM-Signature: v=1; a=rsa-sha256; c=relaxed/relaxed;
 d=1e100.net; s=20230601; t=1713337855; x=1713942655;
 h=references:in-reply-to:cc:to:from:subject:message-id:date
 :x-gm-message-state:from:to:cc:subject:date:message-id:reply-to;
 bh=oZWneSuG/ONiW/m5tby19qvz7SNsWPrBo81UTm0cAho=;
 b=q40b4AKKWU0iSOC4KKWol0GOg1uycLe1pO4XW44TaPI00XWs3hLdFYyKz4kCi7gSQw
 SuvJvmg7uJYEwVNvpZ41B3ybx856OnCm3JeS9o691UbfNxMBjHhRWaOASzVCGXGVf+DO
 AmQANDZyKfnvekLtk5Z+jn6f50wGPsZErRBnSaQpqtr+PjJcg7Iq0y4csfXam3aZwZ5d
 xEgAQgaBD2nG5a1iL9XuLUyeqso0VgYPOnXqeXJ0pIB4+tjfs26XPNTl/tl4TdKLtC4W
 d/RgcZJ4PH40wE96PCkLG8huzANguCSVPU5sowRapRBLd1SLsiPEHPEn7NF8LcMPhOXj
 Orng==
X-Gm-Message-State: AOJu0YzcPmkraNr9I++j54dT+NaQC7BV+galMXVjk6lNDG6n4gKMQZ5i
 8GVA2iTTKi+IyA80d+7cXdPVj2MAirsUotBmQ3lxtEx1T2aZTP6ESOUtv0Id98siLO2vT9qwswy
 b/aiHBeY7w8kYx5KBVsAtXzZ9Ilua/3yobzlXrFWmJi8dqICS4iBm0zgO
X-Google-Smtp-Source: AGHT+IEV3hy1m35RnyVpj3Zkqe3vE8fmiWP4EniXLtpJ19DuA5th3fIt4HM4g/q2SR/npQYjgQwyr2fZpqZ9
X-Received: by 2002:a05:6a20:12c7:b0:1a7:23c0:24e7 with SMTP id
 v7-20020a056a2012c700b001a723c024e7mr14892449pzg.42.1713337855189; 
 Wed, 17 Apr 2024 00:10:55 -0700 (PDT)
Received: from postal.iol.unh.edu (postal.iol.unh.edu.
 [2606:4100:3880:1234::84]) by smtp-relay.gmail.com with ESMTPS id
 ka37-20020a056a0093a500b006eac452f746sm1032341pfb.15.2024.04.17.00.10.55
 (version=TLS1_2 cipher=ECDHE-ECDSA-AES128-GCM-SHA256 bits=128/128);
 Wed, 17 Apr 2024 00:10:55 -0700 (PDT)
X-Relaying-Domain: iol.unh.edu
Date: Wed, 17 Apr 2024 00:10:55 -0700 (PDT)
Message-ID: <661f75ff.050a0220.1c42f.166cSMTPIN_ADDED_MISSING@mx.google.com>
Received: from [172.21.0.6] (unknown [172.18.0.240])
 by postal.iol.unh.edu (Postfix) with ESMTP id 3AFB4604A958;
 Wed, 17 Apr 2024 03:10:54 -0400 (EDT)
Subject: |SUCCESS| pw139433-139434 [PATCH] [v2,2/2] dma/cnxk: remove completi
From: dpdklab@iol.unh.edu
To: Test Report <test-report@dpdk.org>
Cc: dpdk-test-reports@iol.unh.edu
In-Reply-To: <20240417055830.1935-2-pbhagavatula@marvell.com>
References: <20240417055830.1935-2-pbhagavatula@marvell.com>
Content-Type: text/plain
X-BeenThere: test-report@dpdk.org
X-Mailman-Version: 2.1.29
Precedence: list
List-Id: automatic DPDK test reports <test-report.dpdk.org>
List-Unsubscribe: <https://mails.dpdk.org/options/test-report>,
 <mailto:test-report-request@dpdk.org?subject=unsubscribe>
List-Archive: <http://mails.dpdk.org/archives/test-report/>
List-Post: <mailto:test-report@dpdk.org>
List-Help: <mailto:test-report-request@dpdk.org?subject=help>
List-Subscribe: <https://mails.dpdk.org/listinfo/test-report>,
 <mailto:test-report-request@dpdk.org?subject=subscribe>
Errors-To: test-report-bounces@dpdk.org

Test-Label: iol-compile-arm64-testing
Test-Status: SUCCESS
http://dpdk.org/patch/139434

_Testing PASS_

Submitter: Pavan Nikhilesh Bhagavatula <pbhagavatula@marvell.com>
Date: Wednesday, April 17 2024 05:58:30 
DPDK git baseline: Repo:dpdk
  Branch: master
  CommitID:e2e546ab5bf5e024986ccb5310ab43982f3bb40c

139433-139434 --> testing pass

Test environment and result as below:

+--------------------------------------+--------------------+
|             Environment              | dpdk_meson_compile |
+======================================+====================+
| Ubuntu 20.04 ARM SVE                 | PASS               |
+--------------------------------------+--------------------+
| Debian 12 with MUSDK                 | PASS               |
+--------------------------------------+--------------------+
| Fedora 38 (ARM)                      | PASS               |
+--------------------------------------+--------------------+
| Fedora 37 (ARM)                      | PASS               |
+--------------------------------------+--------------------+
| Fedora 39 (ARM)                      | PASS               |
+--------------------------------------+--------------------+
| Debian 11 (Buster) (ARM)             | PASS               |
+--------------------------------------+--------------------+
| CentOS Stream 9 (ARM)                | PASS               |
+--------------------------------------+--------------------+
| Debian 12 (arm)                      | PASS               |
+--------------------------------------+--------------------+
| Ubuntu 20.04 (ARM)                   | PASS               |
+--------------------------------------+--------------------+
| Ubuntu 20.04 ARM Clang Cross Compile | PASS               |
+--------------------------------------+--------------------+


Ubuntu 20.04 ARM SVE
	Kernel: 5.4.0-167-generic
	Compiler: gcc (Ubuntu 10.5.0-1ubuntu1~20.04) 10.5.0

Debian 12 with MUSDK
	Kernel: Container Host Kernel
	Compiler: gcc 12.2.0

Fedora 38 (ARM)
	Kernel: Depends on container host
	Compiler: gcc 13.2.1

Fedora 37 (ARM)
	Kernel: Depends on container host
	Compiler: gcc 12.3.1

Fedora 39 (ARM)
	Kernel: Depends on container host
	Compiler: gcc 13.2.1

Debian 11 (Buster) (ARM)
	Kernel: Container Host Kernel
	Compiler: gcc 10.2.1

CentOS Stream 9 (ARM)
	Kernel: Container Host Kernel
	Compiler: gcc 11.4.1

Debian 12 (arm)
	Kernel: Container Host Kernel
	Compiler: gcc 12.2.0

Ubuntu 20.04 (ARM)
	Kernel: Container Host Kernel
	Compiler: gcc 9.4.0

Ubuntu 20.04 ARM Clang Cross Compile
	Kernel: 5.4.0-72-generic
	Compiler: clang 10.0.0-4ubuntu1

To view detailed results, visit:
https://lab.dpdk.org/results/dashboard/patchsets/29799/

UNH-IOL DPDK Community Lab

To manage your email subscriptions, visit: 
https://lab.dpdk.org/results/dashboard/preferences/subscriptions/