From mboxrd@z Thu Jan  1 00:00:00 1970
Return-Path: <test-report-bounces@dpdk.org>
Received: from mails.dpdk.org (mails.dpdk.org [217.70.189.124])
	by inbox.dpdk.org (Postfix) with ESMTP id B286A43E8E
	for <public@inbox.dpdk.org>; Wed, 17 Apr 2024 09:32:39 +0200 (CEST)
Received: from mails.dpdk.org (localhost [127.0.0.1])
	by mails.dpdk.org (Postfix) with ESMTP id A824A40A79;
	Wed, 17 Apr 2024 09:32:39 +0200 (CEST)
Received: from mail-io1-f98.google.com (mail-io1-f98.google.com
 [209.85.166.98]) by mails.dpdk.org (Postfix) with ESMTP id F361540A6B
 for <test-report@dpdk.org>; Wed, 17 Apr 2024 09:32:38 +0200 (CEST)
Received: by mail-io1-f98.google.com with SMTP id
 ca18e2360f4ac-7d5facf3161so208960539f.1
 for <test-report@dpdk.org>; Wed, 17 Apr 2024 00:32:38 -0700 (PDT)
DKIM-Signature: v=1; a=rsa-sha256; c=relaxed/relaxed;
 d=iol.unh.edu; s=unh-iol; t=1713339158; x=1713943958; darn=dpdk.org;
 h=references:in-reply-to:cc:to:from:subject:message-id:date:from:to
 :cc:subject:date:message-id:reply-to;
 bh=d7rEhBdmwC0UK/QP8BQAsXLAAB8d+VqCOx3a58NmEcE=;
 b=i++IF8y4DuAG1ew9HszwqpZIicuPlEu3MzhUYeYVH1JKZDS6hFvbcoHsr+tDExLAIK
 IqUbU53lnuW0JtVYqhP83h3zZX9DuIJm93BYThqRCifofonfz0AfeozEJd0WS27toYGx
 r83VZKLsmfAh3qER/ILc2S3iSMZ437vKHCx7w=
X-Google-DKIM-Signature: v=1; a=rsa-sha256; c=relaxed/relaxed;
 d=1e100.net; s=20230601; t=1713339158; x=1713943958;
 h=references:in-reply-to:cc:to:from:subject:message-id:date
 :x-gm-message-state:from:to:cc:subject:date:message-id:reply-to;
 bh=d7rEhBdmwC0UK/QP8BQAsXLAAB8d+VqCOx3a58NmEcE=;
 b=DAh1rcdEC1ukeMkvv/b1YK9YzUxghpAHR/MFHZlA9bmzaNT7tiHcqjQb0wjXI8Jg9a
 vjc0BOxEcQ2qS8bfjbSZXWyZjiIZdKWoJBVEFgH/EscC+ISEujTv3TQyu5iR8lpX+itP
 xd8+3Fxxd/zh0OyErVD3l5ma4JRnrd+LlxGo0WEf5RT6O2Sex1DHpR00GUWUf5ogbBw9
 nuLvwjazHEZPbJ+cAD8jcvks1FLcRPx7q5TzVIMcg/2dljvQpCe/O+nsKhrlOPlCkrpj
 KhpSpGS9AnF6eYXtNmLaImWt0zO8Mr77jg45+ozWeY9Ny4C0J+d8soWNHpP+Xc7rGtgp
 TSvQ==
X-Gm-Message-State: AOJu0YyIFcPRECv+0y4jRpynvlfuxrsOdZ4E4Wr7eMjREPbRq2bPHnx8
 Zg8wIC5TK2h/o+lqSEIUmVcy7uc4obB+y+RWITWl5L8ViCH/VZe6TT9GIewl/0TowmsBStKhL2L
 AD6RznqMNL/4TViKduScNgRChIlNNaZyCizAAgjRd
X-Google-Smtp-Source: AGHT+IHI1fErF/HEhQfhmg3ZxQIR9CYcwDAUho28QiXDiYuKWWEUgLL4XIe5yoA1nozOrctE/doSY2atohS3
X-Received: by 2002:a05:6602:29a2:b0:7d5:de55:a6c4 with SMTP id
 u2-20020a05660229a200b007d5de55a6c4mr19699558ios.4.1713339158375; 
 Wed, 17 Apr 2024 00:32:38 -0700 (PDT)
Received: from postal.iol.unh.edu (postal.iol.unh.edu. [132.177.123.84])
 by smtp-relay.gmail.com with ESMTPS id
 je8-20020a0566388a0800b00482ced30fe9sm675841jab.77.2024.04.17.00.32.38
 (version=TLS1_2 cipher=ECDHE-ECDSA-AES128-GCM-SHA256 bits=128/128);
 Wed, 17 Apr 2024 00:32:38 -0700 (PDT)
X-Relaying-Domain: iol.unh.edu
Date: Wed, 17 Apr 2024 00:32:38 -0700 (PDT)
Message-ID: <661f7b16.050a0220.13f71.068dSMTPIN_ADDED_MISSING@mx.google.com>
Received: from [172.17.0.2] (unknown [172.18.0.217])
 by postal.iol.unh.edu (Postfix) with ESMTP id DBEE46052514;
 Wed, 17 Apr 2024 03:32:37 -0400 (EDT)
Subject: |SUCCESS| pw139433-139434 [PATCH] [v2,2/2] dma/cnxk: remove completi
From: dpdklab@iol.unh.edu
To: Test Report <test-report@dpdk.org>
Cc: Pavan Nikhilesh Bhagavatula <pbhagavatula@marvell.com>
In-Reply-To: <20240417055830.1935-2-pbhagavatula@marvell.com>
References: <20240417055830.1935-2-pbhagavatula@marvell.com>
Content-Type: text/plain
X-BeenThere: test-report@dpdk.org
X-Mailman-Version: 2.1.29
Precedence: list
List-Id: automatic DPDK test reports <test-report.dpdk.org>
List-Unsubscribe: <https://mails.dpdk.org/options/test-report>,
 <mailto:test-report-request@dpdk.org?subject=unsubscribe>
List-Archive: <http://mails.dpdk.org/archives/test-report/>
List-Post: <mailto:test-report@dpdk.org>
List-Help: <mailto:test-report-request@dpdk.org?subject=help>
List-Subscribe: <https://mails.dpdk.org/listinfo/test-report>,
 <mailto:test-report-request@dpdk.org?subject=subscribe>
Errors-To: test-report-bounces@dpdk.org

Test-Label: iol-unit-amd64-testing
Test-Status: SUCCESS
http://dpdk.org/patch/139434

_Testing PASS_

Submitter: Pavan Nikhilesh Bhagavatula <pbhagavatula@marvell.com>
Date: Wednesday, April 17 2024 05:58:30 
DPDK git baseline: Repo:dpdk
  Branch: master
  CommitID:e2e546ab5bf5e024986ccb5310ab43982f3bb40c

139433-139434 --> testing pass

Test environment and result as below:

+---------------------+----------------+
|     Environment     | dpdk_unit_test |
+=====================+================+
| Windows Server 2019 | PASS           |
+---------------------+----------------+
| CentOS Stream 9     | PASS           |
+---------------------+----------------+
| Debian 12           | PASS           |
+---------------------+----------------+
| CentOS Stream 8     | PASS           |
+---------------------+----------------+
| Fedora 37           | PASS           |
+---------------------+----------------+
| Windows Server 2022 | PASS           |
+---------------------+----------------+
| Fedora 38           | PASS           |
+---------------------+----------------+
| openSUSE Leap 15    | PASS           |
+---------------------+----------------+
| Fedora 39           | PASS           |
+---------------------+----------------+
| Ubuntu 20.04        | PASS           |
+---------------------+----------------+
| Ubuntu 22.04        | PASS           |
+---------------------+----------------+
| RHEL8               | PASS           |
+---------------------+----------------+
| Debian Bullseye     | PASS           |
+---------------------+----------------+


Windows Server 2019
	Kernel: 10.0.17763
	Compiler: clang 14.0 and gcc 8.1.0 (MinGW)

CentOS Stream 9
	Kernel: 5.4.0-167-generic
	Compiler: gcc 11.4.1 20230605

Debian 12
	Kernel: Container Host Kernel
	Compiler: gcc 10.2.1

CentOS Stream 8
	Kernel: 5.4.0-167-generic
	Compiler: gcc 8.5.0 20210514

Fedora 37
	Kernel: Depends on container host system
	Compiler: gcc 12.3.1

Windows Server 2022
	Kernel: 10.0.20348.2031
	Compiler: clang 15.0.7, gcc 8.1.0 (MinGW), and MSVC VS 17.9

Fedora 38
	Kernel: Depends on container host
	Compiler: gcc 13.2.1

openSUSE Leap 15
	Kernel: 5.4.0-167-generic
	Compiler: gcc 7.5.0

Fedora 39
	Kernel: Depends on container host
	Compiler: gcc 13.2.1

Ubuntu 20.04
	Kernel: 5.4.0-167-generic
	Compiler: gcc 9.4.0-1ubuntu1~20.04.1

Ubuntu 22.04
	Kernel: 5.4.0-167-generic
	Compiler: gcc 11.4.0

RHEL8
	Kernel: 5.4.0-167-generic
	Compiler: gcc 8.5.0 20210514 (Red Hat 8.5.0-20)

Debian Bullseye
	Kernel: 5.4.0-167-generic
	Compiler: gcc 10.2.1-6

To view detailed results, visit:
https://lab.dpdk.org/results/dashboard/patchsets/29799/

UNH-IOL DPDK Community Lab

To manage your email subscriptions, visit: 
https://lab.dpdk.org/results/dashboard/preferences/subscriptions/