From mboxrd@z Thu Jan  1 00:00:00 1970
Return-Path: <test-report-bounces@dpdk.org>
Received: from mails.dpdk.org (mails.dpdk.org [217.70.189.124])
	by inbox.dpdk.org (Postfix) with ESMTP id 4EB3D43E8E
	for <public@inbox.dpdk.org>; Wed, 17 Apr 2024 09:43:54 +0200 (CEST)
Received: from mails.dpdk.org (localhost [127.0.0.1])
	by mails.dpdk.org (Postfix) with ESMTP id 4A39F40633;
	Wed, 17 Apr 2024 09:43:54 +0200 (CEST)
Received: from mail-io1-f97.google.com (mail-io1-f97.google.com
 [209.85.166.97]) by mails.dpdk.org (Postfix) with ESMTP id 40DA1402BD
 for <test-report@dpdk.org>; Wed, 17 Apr 2024 09:43:53 +0200 (CEST)
Received: by mail-io1-f97.google.com with SMTP id
 ca18e2360f4ac-7d03a66e895so24940639f.1
 for <test-report@dpdk.org>; Wed, 17 Apr 2024 00:43:53 -0700 (PDT)
DKIM-Signature: v=1; a=rsa-sha256; c=relaxed/relaxed;
 d=iol.unh.edu; s=unh-iol; t=1713339832; x=1713944632; darn=dpdk.org;
 h=references:in-reply-to:cc:to:from:subject:message-id:date:from:to
 :cc:subject:date:message-id:reply-to;
 bh=GqlLCMdaCjEVEfLjfrrkwr2X1Qfzc8w2R9O19yV/mCE=;
 b=JUiQ6BOiL5qpqvNtVqSY0cVEVnruS1DLmIq2setm6ItatI6BoBA88plcI6+SNp3zYu
 fFrOvhwR0lywMfSTzVr0O+AAbk4DKXfAU5IHEwJg5Ht5RgngMYSh/fBuPKsu8vyd0ro0
 0m+RJggSD2C5y5F+moawvg2iTy3Te9F6qP29E=
X-Google-DKIM-Signature: v=1; a=rsa-sha256; c=relaxed/relaxed;
 d=1e100.net; s=20230601; t=1713339832; x=1713944632;
 h=references:in-reply-to:cc:to:from:subject:message-id:date
 :x-gm-message-state:from:to:cc:subject:date:message-id:reply-to;
 bh=GqlLCMdaCjEVEfLjfrrkwr2X1Qfzc8w2R9O19yV/mCE=;
 b=u6FQHNZHFOdaLVpAC9J0B1Ovv3rxZULoJpKvNOnwpwpDc5sLTl/lZ5RrT+O3RgZ3fj
 MWia/pbIN+NJJrp2uatKWSlW0ch0r657bbiw90B872qHcKIPZa33dU3NR3FWj8m0YE12
 p+mYMu3Xd6DJsZGslW8CPLgPNgS8JWK1/EZmWw6A0rrIBtynPYeUAhMcTtrNPn+heKtW
 ip9IyxJ7X/EghvhrIukKyo1aZD2aHf20Oie4JSa2YtobiWZccWqsbdWbvIIMyvDC3y14
 dcAn8IXJUMvMs7bd2VFTSXlw1vNfnpPRTOBtP+zqvdAaDm7el68dGHrLHAsTSz9jvVI2
 koUg==
X-Gm-Message-State: AOJu0YyQIfOa2N8cdhTNAmfaBsnrSpMNm1rgQZ7G+pRycBXGqy2VXx+m
 r+p0yJLSpuwYDGyc1aOJlQN2Uocr8jJRRtxNQ0hM6XYdd2B9SRdPLMFV+FTKj3ssOerWykB4JMH
 Y6do8mXBqQ8vbIALnMWi1EdTSIjzXpIH0PGLF+xOQ
X-Google-Smtp-Source: AGHT+IHzRxoLIAWCf4qM+W/dfBF4NMB8YO2+CTfccbcnxZVcqh2pfV8rxB4ZE6eYUevZufBC7EUrrPOh6ynN
X-Received: by 2002:a92:c269:0:b0:368:920b:e211 with SMTP id
 h9-20020a92c269000000b00368920be211mr3357803ild.5.1713339832563; 
 Wed, 17 Apr 2024 00:43:52 -0700 (PDT)
Received: from postal.iol.unh.edu (postal.iol.unh.edu. [132.177.123.84])
 by smtp-relay.gmail.com with ESMTPS id
 z5-20020a92d185000000b0036b3430bfb7sm57281ilz.37.2024.04.17.00.43.52
 (version=TLS1_2 cipher=ECDHE-ECDSA-AES128-GCM-SHA256 bits=128/128);
 Wed, 17 Apr 2024 00:43:52 -0700 (PDT)
X-Relaying-Domain: iol.unh.edu
Date: Wed, 17 Apr 2024 00:43:52 -0700 (PDT)
Message-ID: <661f7db8.920a0220.72c35.2fd4SMTPIN_ADDED_MISSING@mx.google.com>
Received: from [172.17.0.2] (unknown [172.18.0.217])
 by postal.iol.unh.edu (Postfix) with ESMTP id 0204D6052514;
 Wed, 17 Apr 2024 03:43:51 -0400 (EDT)
Subject: |SUCCESS| pw139433-139434 [PATCH] [v2,2/2] dma/cnxk: remove completi
From: dpdklab@iol.unh.edu
To: Test Report <test-report@dpdk.org>
Cc: dpdk-test-reports@iol.unh.edu
In-Reply-To: <20240417055830.1935-2-pbhagavatula@marvell.com>
References: <20240417055830.1935-2-pbhagavatula@marvell.com>
Content-Type: text/plain
X-BeenThere: test-report@dpdk.org
X-Mailman-Version: 2.1.29
Precedence: list
List-Id: automatic DPDK test reports <test-report.dpdk.org>
List-Unsubscribe: <https://mails.dpdk.org/options/test-report>,
 <mailto:test-report-request@dpdk.org?subject=unsubscribe>
List-Archive: <http://mails.dpdk.org/archives/test-report/>
List-Post: <mailto:test-report@dpdk.org>
List-Help: <mailto:test-report-request@dpdk.org?subject=help>
List-Subscribe: <https://mails.dpdk.org/listinfo/test-report>,
 <mailto:test-report-request@dpdk.org?subject=subscribe>
Errors-To: test-report-bounces@dpdk.org

Test-Label: iol-compile-arm64-testing
Test-Status: SUCCESS
http://dpdk.org/patch/139434

_Testing PASS_

Submitter: Pavan Nikhilesh Bhagavatula <pbhagavatula@marvell.com>
Date: Wednesday, April 17 2024 05:58:30 
DPDK git baseline: Repo:dpdk
  Branch: master
  CommitID:e2e546ab5bf5e024986ccb5310ab43982f3bb40c

139433-139434 --> testing pass

Test environment and result as below:

+----------------------------------------+--------------------+
|              Environment               | dpdk_meson_compile |
+========================================+====================+
| Ubuntu 20.04 ARM SVE                   | PASS               |
+----------------------------------------+--------------------+
| Debian 12 with MUSDK                   | PASS               |
+----------------------------------------+--------------------+
| Fedora 38 (ARM)                        | PASS               |
+----------------------------------------+--------------------+
| Fedora 37 (ARM)                        | PASS               |
+----------------------------------------+--------------------+
| Fedora 39 (ARM)                        | PASS               |
+----------------------------------------+--------------------+
| Debian 11 (Buster) (ARM)               | PASS               |
+----------------------------------------+--------------------+
| CentOS Stream 9 (ARM)                  | PASS               |
+----------------------------------------+--------------------+
| Debian 12 (arm)                        | PASS               |
+----------------------------------------+--------------------+
| Ubuntu 20.04 (ARM)                     | PASS               |
+----------------------------------------+--------------------+
| Ubuntu 20.04 ARM Clang Cross Compile   | PASS               |
+----------------------------------------+--------------------+
| Ubuntu 20.04 aarch32 GCC Cross Compile | PASS               |
+----------------------------------------+--------------------+
| Ubuntu 20.04 ARM GCC Cross Compile     | PASS               |
+----------------------------------------+--------------------+


Ubuntu 20.04 ARM SVE
	Kernel: 5.4.0-167-generic
	Compiler: gcc (Ubuntu 10.5.0-1ubuntu1~20.04) 10.5.0

Debian 12 with MUSDK
	Kernel: Container Host Kernel
	Compiler: gcc 12.2.0

Fedora 38 (ARM)
	Kernel: Depends on container host
	Compiler: gcc 13.2.1

Fedora 37 (ARM)
	Kernel: Depends on container host
	Compiler: gcc 12.3.1

Fedora 39 (ARM)
	Kernel: Depends on container host
	Compiler: gcc 13.2.1

Debian 11 (Buster) (ARM)
	Kernel: Container Host Kernel
	Compiler: gcc 10.2.1

CentOS Stream 9 (ARM)
	Kernel: Container Host Kernel
	Compiler: gcc 11.4.1

Debian 12 (arm)
	Kernel: Container Host Kernel
	Compiler: gcc 12.2.0

Ubuntu 20.04 (ARM)
	Kernel: Container Host Kernel
	Compiler: gcc 9.4.0

Ubuntu 20.04 ARM Clang Cross Compile
	Kernel: 5.4.0-72-generic
	Compiler: clang 10.0.0-4ubuntu1

Ubuntu 20.04 aarch32 GCC Cross Compile
	Kernel: 5.4.0-167-generic
	Compiler: gcc 9.4.0

Ubuntu 20.04 ARM GCC Cross Compile
	Kernel: 5.4.0-167-generic
	Compiler: aarch64-linux-gnu-gcc (Ubuntu 9.4.0-1ubuntu1~20.04.2) 9.4.0

To view detailed results, visit:
https://lab.dpdk.org/results/dashboard/patchsets/29799/

UNH-IOL DPDK Community Lab

To manage your email subscriptions, visit: 
https://lab.dpdk.org/results/dashboard/preferences/subscriptions/