From mboxrd@z Thu Jan  1 00:00:00 1970
Return-Path: <test-report-bounces@dpdk.org>
Received: from mails.dpdk.org (mails.dpdk.org [217.70.189.124])
	by inbox.dpdk.org (Postfix) with ESMTP id C727F43E90
	for <public@inbox.dpdk.org>; Wed, 17 Apr 2024 11:23:46 +0200 (CEST)
Received: from mails.dpdk.org (localhost [127.0.0.1])
	by mails.dpdk.org (Postfix) with ESMTP id C11604029E;
	Wed, 17 Apr 2024 11:23:46 +0200 (CEST)
Received: from mail-ot1-f98.google.com (mail-ot1-f98.google.com
 [209.85.210.98]) by mails.dpdk.org (Postfix) with ESMTP id 9F4614028B
 for <test-report@dpdk.org>; Wed, 17 Apr 2024 11:23:45 +0200 (CEST)
Received: by mail-ot1-f98.google.com with SMTP id
 46e09a7af769-6eb812370a5so1664978a34.0
 for <test-report@dpdk.org>; Wed, 17 Apr 2024 02:23:45 -0700 (PDT)
DKIM-Signature: v=1; a=rsa-sha256; c=relaxed/relaxed;
 d=iol.unh.edu; s=unh-iol; t=1713345825; x=1713950625; darn=dpdk.org;
 h=references:in-reply-to:cc:to:from:subject:message-id:date:from:to
 :cc:subject:date:message-id:reply-to;
 bh=2YjPQF6mWAsp2kvJ10RaFZvyNQltq2KmMVxTPERMVK4=;
 b=XpF9hVJCpjMWTZYpXDoP8sjquKv8Xn7OdX63GPPiP480pujNZ4CVE2+gCps+epSzjC
 UPAJRtTO+n5G9ZscIgE5lCCkAnIJS2SDkAOcbS8LxfkAsHEdLYz9b28V7TJnbOa3LWlm
 FGzxYMuSGSHDEf67BVzzXHCFU5j0bXuU9dKxc=
X-Google-DKIM-Signature: v=1; a=rsa-sha256; c=relaxed/relaxed;
 d=1e100.net; s=20230601; t=1713345825; x=1713950625;
 h=references:in-reply-to:cc:to:from:subject:message-id:date
 :x-gm-message-state:from:to:cc:subject:date:message-id:reply-to;
 bh=2YjPQF6mWAsp2kvJ10RaFZvyNQltq2KmMVxTPERMVK4=;
 b=mrrOhvx22laspomUdpOL/5aHHVwnJ7waNUiDn+xvnyiReBXM6pxEPMtGoKQxNr/Yyn
 dbyLpze3HtWpk5VvZvlYAbskTPRT12Tc4aH1lYUbRUG4E/Wzk1CtVg760oJtfzkHBZtg
 9bUYv0W1tWaJyd8e6AMZEiRFC/MT12uYaLYmxnvVqy2ja9TrJ5NaTjZzclV0/5/XZm3I
 zOjvuci0O7lqEd7po6TjQPxYdJyn/UHEIdevLNf/o8xhGQvZ0tXMBw7G36JgBC8KgeUE
 apd8EQ3hgzavaIfZ9BcVdW3pEGbBUxcp+Zc4FVo3uReWnIYUasErPiJpdGjzBz3oTE2e
 iJYQ==
X-Gm-Message-State: AOJu0YwaqdL/4EsHAndmNswbB4j+Hpneqacn78MS8dt3QX35G1Y0GAzm
 808VuIXIGiKAE9XxZP68HT3UsedZBfkGjqDp3eFPB/n7byWonfd1qxlAmX+EiMti5w/ZOqVqsLr
 puiJNscX9T7aiptOMZ8zfc4Q7tFwWGve+ODsQDN0yeU1zoANhlxJKEdoF
X-Google-Smtp-Source: AGHT+IHBCeCfy8qeb9Aw9OA0Yj3TpAagVzf/n8w/DsJii1bXVMRsagNLWFSTHVv3hEwNx9MlyT9y8MuSghfD
X-Received: by 2002:a05:6830:601:b0:6ea:db2:8158 with SMTP id
 w1-20020a056830060100b006ea0db28158mr19668014oti.8.1713345824882; 
 Wed, 17 Apr 2024 02:23:44 -0700 (PDT)
Received: from postal.iol.unh.edu (postal.iol.unh.edu.
 [2606:4100:3880:1234::84]) by smtp-relay.gmail.com with ESMTPS id
 o28-20020a637e5c000000b005dc87314070sm667334pgn.4.2024.04.17.02.23.44
 (version=TLS1_2 cipher=ECDHE-ECDSA-AES128-GCM-SHA256 bits=128/128);
 Wed, 17 Apr 2024 02:23:44 -0700 (PDT)
X-Relaying-Domain: iol.unh.edu
Date: Wed, 17 Apr 2024 02:23:44 -0700 (PDT)
Message-ID: <661f9520.630a0220.bb065.164dSMTPIN_ADDED_MISSING@mx.google.com>
Received: from [172.21.0.7] (unknown [172.18.0.240])
 by postal.iol.unh.edu (Postfix) with ESMTP id E9D6F6052514;
 Wed, 17 Apr 2024 05:23:43 -0400 (EDT)
Subject: |SUCCESS| pw139445-139446 [PATCH] [v3,2/2] dma/cnxk: remove completi
From: dpdklab@iol.unh.edu
To: Test Report <test-report@dpdk.org>
Cc: dpdk-test-reports@iol.unh.edu
In-Reply-To: <20240417082645.4259-2-pbhagavatula@marvell.com>
References: <20240417082645.4259-2-pbhagavatula@marvell.com>
Content-Type: text/plain
X-BeenThere: test-report@dpdk.org
X-Mailman-Version: 2.1.29
Precedence: list
List-Id: automatic DPDK test reports <test-report.dpdk.org>
List-Unsubscribe: <https://mails.dpdk.org/options/test-report>,
 <mailto:test-report-request@dpdk.org?subject=unsubscribe>
List-Archive: <http://mails.dpdk.org/archives/test-report/>
List-Post: <mailto:test-report@dpdk.org>
List-Help: <mailto:test-report-request@dpdk.org?subject=help>
List-Subscribe: <https://mails.dpdk.org/listinfo/test-report>,
 <mailto:test-report-request@dpdk.org?subject=subscribe>
Errors-To: test-report-bounces@dpdk.org

Test-Label: iol-abi-testing
Test-Status: SUCCESS
http://dpdk.org/patch/139446

_Testing PASS_

Submitter: Pavan Nikhilesh Bhagavatula <pbhagavatula@marvell.com>
Date: Wednesday, April 17 2024 08:26:45 
DPDK git baseline: Repo:dpdk
  Branch: master
  CommitID:e2e546ab5bf5e024986ccb5310ab43982f3bb40c

139445-139446 --> testing pass

Test environment and result as below:

+-----------------+----------+
|   Environment   | abi_test |
+=================+==========+
| Debian 12       | PASS     |
+-----------------+----------+
| Debian Bullseye | PASS     |
+-----------------+----------+
| Fedora 37       | PASS     |
+-----------------+----------+
| CentOS Stream 8 | PASS     |
+-----------------+----------+
| CentOS Stream 9 | PASS     |
+-----------------+----------+
| Fedora 39       | PASS     |
+-----------------+----------+
| Fedora 38       | PASS     |
+-----------------+----------+
| Ubuntu 22.04    | PASS     |
+-----------------+----------+


Debian 12
	Kernel: Container Host Kernel
	Compiler: gcc 10.2.1

Debian Bullseye
	Kernel: 5.4.0-167-generic
	Compiler: gcc 10.2.1-6

Fedora 37
	Kernel: Depends on container host system
	Compiler: gcc 12.3.1

CentOS Stream 8
	Kernel: 5.4.0-167-generic
	Compiler: gcc 8.5.0 20210514

CentOS Stream 9
	Kernel: 5.4.0-167-generic
	Compiler: gcc 11.4.1 20230605

Fedora 39
	Kernel: Depends on container host
	Compiler: gcc 13.2.1

Fedora 38
	Kernel: Depends on container host
	Compiler: gcc 13.2.1

Ubuntu 22.04
	Kernel: 5.4.0-167-generic
	Compiler: gcc 11.4.0

To view detailed results, visit:
https://lab.dpdk.org/results/dashboard/patchsets/29803/

UNH-IOL DPDK Community Lab

To manage your email subscriptions, visit: 
https://lab.dpdk.org/results/dashboard/preferences/subscriptions/