From mboxrd@z Thu Jan  1 00:00:00 1970
Return-Path: <test-report-bounces@dpdk.org>
Received: from mails.dpdk.org (mails.dpdk.org [217.70.189.124])
	by inbox.dpdk.org (Postfix) with ESMTP id C21EE43E90
	for <public@inbox.dpdk.org>; Wed, 17 Apr 2024 11:32:34 +0200 (CEST)
Received: from mails.dpdk.org (localhost [127.0.0.1])
	by mails.dpdk.org (Postfix) with ESMTP id BE2E4402AE;
	Wed, 17 Apr 2024 11:32:34 +0200 (CEST)
Received: from mail-pl1-f225.google.com (mail-pl1-f225.google.com
 [209.85.214.225])
 by mails.dpdk.org (Postfix) with ESMTP id 3C7174029E
 for <test-report@dpdk.org>; Wed, 17 Apr 2024 11:32:26 +0200 (CEST)
Received: by mail-pl1-f225.google.com with SMTP id
 d9443c01a7336-1e5b6e8f662so40274865ad.0
 for <test-report@dpdk.org>; Wed, 17 Apr 2024 02:32:26 -0700 (PDT)
DKIM-Signature: v=1; a=rsa-sha256; c=relaxed/relaxed;
 d=iol.unh.edu; s=unh-iol; t=1713346345; x=1713951145; darn=dpdk.org;
 h=references:in-reply-to:cc:to:from:subject:message-id:date:from:to
 :cc:subject:date:message-id:reply-to;
 bh=w7IEg0W0i3VlFvce5O3md0Xgt2MGH2j5X5IoY/UX5hM=;
 b=jFj029iQCgAeNkIJ7kQJ1riL1o+sMor8qoJbAufFR7O/8QINKJWYTD2121Xr5pjTe/
 CdBXkeMxDtJbMafIhnU1qMQZvHEfZQ0Y5qipE4CrJezRnEV8lVZwrkwlR3MZVWj1ouvL
 ADyBW/uLqIPmVW1nCysbS3LHkwxon7+qp0WgE=
X-Google-DKIM-Signature: v=1; a=rsa-sha256; c=relaxed/relaxed;
 d=1e100.net; s=20230601; t=1713346345; x=1713951145;
 h=references:in-reply-to:cc:to:from:subject:message-id:date
 :x-gm-message-state:from:to:cc:subject:date:message-id:reply-to;
 bh=w7IEg0W0i3VlFvce5O3md0Xgt2MGH2j5X5IoY/UX5hM=;
 b=PIYjdQ7fAN+78VPnVbd+Zx9b9mkOGT9RmWld2PsHmv/j3GfPo77yUnQ+RrkZw3w8yN
 ogqJAgkfqg4Cj57V/MmIjZEAh88ZyNKwqSWwUi7g/3u9EiTDTGQPcSYOwfQQRp45KaX5
 SWRz2TIA+X2gB0a0LRYFToRwY4Eg+bUHeb4SSZKBByjOzjPLGfVYWVvgSvDEmRiTQyRH
 DTMjJF0RXO/Fc5q61nK+PEpjPNbHaO4KdYZ7tgpxMVEdvPD5ssSI/4mqz4AJ5aPaEOf8
 1JEVdOKFZfpdxlQBypXsCnBXeo0jCTFA7WZrak/tq0SUNcV/kou3DBykX989pHaNn0ru
 i7nw==
X-Gm-Message-State: AOJu0Yw9GsRoAZkt1jvWalW6v6rEBfdig3c+PSHo58uHP1wI0OoHUWvp
 0k8X1QdjO9LhMspGuISgFffPWgNUUlPVK5qke2qzy2hGSLbvTe6lt+UBgO1+Kf9x/b/jamdW8zj
 rFQW71Wr/r2ETPlJjEjd96BO7AXJxcF7+VSGZDRlZ
X-Google-Smtp-Source: AGHT+IHtMuPZ2VlkLOfkuFushiRL/pFj2p9elkZRSpcFOxTBhLRmaze5B8MxpQvbz9CT0W7ZlnBopnFn+e3x
X-Received: by 2002:a17:902:ecc7:b0:1e5:2885:2 with SMTP id
 a7-20020a170902ecc700b001e528850002mr14650726plh.68.1713346345502; 
 Wed, 17 Apr 2024 02:32:25 -0700 (PDT)
Received: from postal.iol.unh.edu (postal.iol.unh.edu. [132.177.123.84])
 by smtp-relay.gmail.com with ESMTPS id
 jy16-20020a17090342d000b001e83a16f68asm3363plb.44.2024.04.17.02.32.25
 (version=TLS1_2 cipher=ECDHE-ECDSA-AES128-GCM-SHA256 bits=128/128);
 Wed, 17 Apr 2024 02:32:25 -0700 (PDT)
X-Relaying-Domain: iol.unh.edu
Date: Wed, 17 Apr 2024 02:32:25 -0700 (PDT)
Message-ID: <661f9729.170a0220.d9418.029fSMTPIN_ADDED_MISSING@mx.google.com>
Received: from [172.21.0.6] (unknown [172.18.0.240])
 by postal.iol.unh.edu (Postfix) with ESMTP id 877DD6052514;
 Wed, 17 Apr 2024 05:32:24 -0400 (EDT)
Subject: |SUCCESS| pw139445-139446 [PATCH] [v3,2/2] dma/cnxk: remove completi
From: dpdklab@iol.unh.edu
To: Test Report <test-report@dpdk.org>
Cc: dpdk-test-reports@iol.unh.edu
In-Reply-To: <20240417082645.4259-2-pbhagavatula@marvell.com>
References: <20240417082645.4259-2-pbhagavatula@marvell.com>
Content-Type: text/plain
X-BeenThere: test-report@dpdk.org
X-Mailman-Version: 2.1.29
Precedence: list
List-Id: automatic DPDK test reports <test-report.dpdk.org>
List-Unsubscribe: <https://mails.dpdk.org/options/test-report>,
 <mailto:test-report-request@dpdk.org?subject=unsubscribe>
List-Archive: <http://mails.dpdk.org/archives/test-report/>
List-Post: <mailto:test-report@dpdk.org>
List-Help: <mailto:test-report-request@dpdk.org?subject=help>
List-Subscribe: <https://mails.dpdk.org/listinfo/test-report>,
 <mailto:test-report-request@dpdk.org?subject=subscribe>
Errors-To: test-report-bounces@dpdk.org

Test-Label: iol-unit-arm64-testing
Test-Status: SUCCESS
http://dpdk.org/patch/139446

_Testing PASS_

Submitter: Pavan Nikhilesh Bhagavatula <pbhagavatula@marvell.com>
Date: Wednesday, April 17 2024 08:26:45 
DPDK git baseline: Repo:dpdk
  Branch: master
  CommitID:e2e546ab5bf5e024986ccb5310ab43982f3bb40c

139445-139446 --> testing pass

Test environment and result as below:

+-----------------------------+---------------------------+------------------------------+----------------+--------------+
|         Environment         | cryptodev_sw_zuc_autotest | cryptodev_sw_snow3g_autotest | dpdk_unit_test | lpm_autotest |
+=============================+===========================+==============================+================+==============+
| Debian 12 (arm)             | PASS                      | PASS                         | PASS           | SKIPPED      |
+-----------------------------+---------------------------+------------------------------+----------------+--------------+
| Fedora 37 (ARM)             | SKIPPED                   | SKIPPED                      | PASS           | SKIPPED      |
+-----------------------------+---------------------------+------------------------------+----------------+--------------+
| Debian 11 (Buster) (ARM)    | SKIPPED                   | SKIPPED                      | PASS           | SKIPPED      |
+-----------------------------+---------------------------+------------------------------+----------------+--------------+
| CentOS Stream 9 (ARM)       | SKIPPED                   | SKIPPED                      | PASS           | SKIPPED      |
+-----------------------------+---------------------------+------------------------------+----------------+--------------+
| Fedora 38 (ARM)             | SKIPPED                   | SKIPPED                      | PASS           | SKIPPED      |
+-----------------------------+---------------------------+------------------------------+----------------+--------------+
| Ubuntu 20.04 (ARM)          | SKIPPED                   | SKIPPED                      | PASS           | SKIPPED      |
+-----------------------------+---------------------------+------------------------------+----------------+--------------+
| Fedora 39 (ARM)             | SKIPPED                   | SKIPPED                      | PASS           | SKIPPED      |
+-----------------------------+---------------------------+------------------------------+----------------+--------------+
| 32-bit Ubuntu 20.04.4 (ARM) | SKIPPED                   | SKIPPED                      | PASS           | SKIPPED      |
+-----------------------------+---------------------------+------------------------------+----------------+--------------+
| Ubuntu 20.04 ARM SVE        | SKIPPED                   | SKIPPED                      | SKIPPED        | PASS         |
+-----------------------------+---------------------------+------------------------------+----------------+--------------+


Debian 12 (arm)
	Kernel: Container Host Kernel
	Compiler: gcc 12.2.0

Fedora 37 (ARM)
	Kernel: Depends on container host
	Compiler: gcc 12.3.1

Debian 11 (Buster) (ARM)
	Kernel: Container Host Kernel
	Compiler: gcc 10.2.1

CentOS Stream 9 (ARM)
	Kernel: Container Host Kernel
	Compiler: gcc 11.4.1

Fedora 38 (ARM)
	Kernel: Depends on container host
	Compiler: gcc 13.2.1

Ubuntu 20.04 (ARM)
	Kernel: Container Host Kernel
	Compiler: gcc 9.4.0

Fedora 39 (ARM)
	Kernel: Depends on container host
	Compiler: gcc 13.2.1

32-bit Ubuntu 20.04.4 (ARM)
	Kernel: 5.4.0-155-generic aarch64
	Compiler: gcc 9.4

Ubuntu 20.04 ARM SVE
	Kernel: 5.4.0-167-generic
	Compiler: gcc (Ubuntu 10.5.0-1ubuntu1~20.04) 10.5.0

To view detailed results, visit:
https://lab.dpdk.org/results/dashboard/patchsets/29803/

UNH-IOL DPDK Community Lab

To manage your email subscriptions, visit: 
https://lab.dpdk.org/results/dashboard/preferences/subscriptions/