From mboxrd@z Thu Jan  1 00:00:00 1970
Return-Path: <test-report-bounces@dpdk.org>
Received: from mails.dpdk.org (mails.dpdk.org [217.70.189.124])
	by inbox.dpdk.org (Postfix) with ESMTP id 13BD243E90
	for <public@inbox.dpdk.org>; Wed, 17 Apr 2024 11:36:05 +0200 (CEST)
Received: from mails.dpdk.org (localhost [127.0.0.1])
	by mails.dpdk.org (Postfix) with ESMTP id 0F550402AE;
	Wed, 17 Apr 2024 11:36:05 +0200 (CEST)
Received: from mail-yw1-f225.google.com (mail-yw1-f225.google.com
 [209.85.128.225])
 by mails.dpdk.org (Postfix) with ESMTP id 14D1E4029E
 for <test-report@dpdk.org>; Wed, 17 Apr 2024 11:36:02 +0200 (CEST)
Received: by mail-yw1-f225.google.com with SMTP id
 00721157ae682-61816fc256dso47666497b3.0
 for <test-report@dpdk.org>; Wed, 17 Apr 2024 02:36:02 -0700 (PDT)
DKIM-Signature: v=1; a=rsa-sha256; c=relaxed/relaxed;
 d=iol.unh.edu; s=unh-iol; t=1713346561; x=1713951361; darn=dpdk.org;
 h=references:in-reply-to:cc:to:from:subject:message-id:date:from:to
 :cc:subject:date:message-id:reply-to;
 bh=PA3JG56Yc93kwOQKLeYy9nwnMJajk+FV8SwZjxKe2Xk=;
 b=SbBTWDbEnfM0vb//EMPAcy2HClsbtuU9YzRFfLJhQ6EZcnTkz1ZYc0Yo4jF3yfq6HT
 fMdnBqcLtL02NgnSDa1OVeswwnJhfcOyHTmoMXHwwBR9/RLyegBbkuOkc6Qockj6mkx/
 N9i8Qus35rrtTf9TiIQlKFnm0gPzkftdBePzw=
X-Google-DKIM-Signature: v=1; a=rsa-sha256; c=relaxed/relaxed;
 d=1e100.net; s=20230601; t=1713346561; x=1713951361;
 h=references:in-reply-to:cc:to:from:subject:message-id:date
 :x-gm-message-state:from:to:cc:subject:date:message-id:reply-to;
 bh=PA3JG56Yc93kwOQKLeYy9nwnMJajk+FV8SwZjxKe2Xk=;
 b=dXddsApkvtXzASGdjsZK9uqKFOZOy5+RbltO4bh/zK0itKXnncQo93miNNQikgKrq5
 eDn+yDC5X6NRnTsZwnP8e/yG52f4fNTuA3FMh82vEYqEqlm2vdkcXY+u5/BloRbIzzKd
 8IKIuwqnKfV2lCdjraY4i1bMgDe2eXn9RSzmj08A7SgeFL3+pkjuDtK0yQT/u1tAdMqd
 eT4ubzQoKPx5loS8UTR8QzkqEaLmmzJfbJT/f7G7ba4FbLUXqDo8J1TJvravPTcFG44b
 2lJ4vZ3BbyI6Z1rrLD3rijAN7mO6E8V7IJN8dLz5XlxLT+7v1FbAJqPp5rs8+bq2ncnA
 7Rxg==
X-Gm-Message-State: AOJu0YwSwNngjVa8fhLAzs8cWFWLbPr/B0DrlSJM05tEATUmSAXVhbez
 0JwogmFJfugGj3nR6a9uZ61/mL1B5FStqvWfI4yPJwB+wSefGCAjFv9LUbXaYQUn3RypSPavkrD
 FBgjr0CQrsXdv2LQ6JoJZJnSZbHuhAkCwD5I2zdQy
X-Google-Smtp-Source: AGHT+IFsk2WIiJDbOl29tA1x3+BFS4Vaidp/kg+McE3kNqWtL6wyAO2zAPLUxDE4maHquzv1vLad3pZ1lfKL
X-Received: by 2002:a05:690c:92:b0:618:7a0d:d5ef with SMTP id
 be18-20020a05690c009200b006187a0dd5efmr14778243ywb.28.1713346561437; 
 Wed, 17 Apr 2024 02:36:01 -0700 (PDT)
Received: from postal.iol.unh.edu (postal.iol.unh.edu. [132.177.123.84])
 by smtp-relay.gmail.com with ESMTPS id
 z39-20020a81ac67000000b006154a3df41asm1074233ywj.39.2024.04.17.02.36.01
 (version=TLS1_2 cipher=ECDHE-ECDSA-AES128-GCM-SHA256 bits=128/128);
 Wed, 17 Apr 2024 02:36:01 -0700 (PDT)
X-Relaying-Domain: iol.unh.edu
Date: Wed, 17 Apr 2024 02:36:01 -0700 (PDT)
Message-ID: <661f9801.810a0220.629b6.8844SMTPIN_ADDED_MISSING@mx.google.com>
Received: from [172.17.0.3] (unknown [172.18.0.217])
 by postal.iol.unh.edu (Postfix) with ESMTP id 170C06052514;
 Wed, 17 Apr 2024 05:36:01 -0400 (EDT)
Subject: |SUCCESS| pw139445-139446 [PATCH] [v3,2/2] dma/cnxk: remove completi
From: dpdklab@iol.unh.edu
To: Test Report <test-report@dpdk.org>
Cc: dpdk-test-reports@iol.unh.edu
In-Reply-To: <20240417082645.4259-2-pbhagavatula@marvell.com>
References: <20240417082645.4259-2-pbhagavatula@marvell.com>
Content-Type: text/plain
X-BeenThere: test-report@dpdk.org
X-Mailman-Version: 2.1.29
Precedence: list
List-Id: automatic DPDK test reports <test-report.dpdk.org>
List-Unsubscribe: <https://mails.dpdk.org/options/test-report>,
 <mailto:test-report-request@dpdk.org?subject=unsubscribe>
List-Archive: <http://mails.dpdk.org/archives/test-report/>
List-Post: <mailto:test-report@dpdk.org>
List-Help: <mailto:test-report-request@dpdk.org?subject=help>
List-Subscribe: <https://mails.dpdk.org/listinfo/test-report>,
 <mailto:test-report-request@dpdk.org?subject=subscribe>
Errors-To: test-report-bounces@dpdk.org

Test-Label: iol-compile-amd64-testing
Test-Status: SUCCESS
http://dpdk.org/patch/139446

_Testing PASS_

Submitter: Pavan Nikhilesh Bhagavatula <pbhagavatula@marvell.com>
Date: Wednesday, April 17 2024 08:26:45 
DPDK git baseline: Repo:dpdk
  Branch: master
  CommitID:e2e546ab5bf5e024986ccb5310ab43982f3bb40c

139445-139446 --> testing pass

Test environment and result as below:

+---------------------+--------------------+----------------------+-------------------+
|     Environment     | dpdk_meson_compile | dpdk_mingw64_compile | dpdk_msvc_compile |
+=====================+====================+======================+===================+
| CentOS Stream 8     | PASS               | SKIPPED              | SKIPPED           |
+---------------------+--------------------+----------------------+-------------------+
| Debian Bullseye     | PASS               | SKIPPED              | SKIPPED           |
+---------------------+--------------------+----------------------+-------------------+
| CentOS Stream 9     | PASS               | SKIPPED              | SKIPPED           |
+---------------------+--------------------+----------------------+-------------------+
| Fedora 37           | PASS               | SKIPPED              | SKIPPED           |
+---------------------+--------------------+----------------------+-------------------+
| Fedora 38           | PASS               | SKIPPED              | SKIPPED           |
+---------------------+--------------------+----------------------+-------------------+
| Fedora 39           | PASS               | SKIPPED              | SKIPPED           |
+---------------------+--------------------+----------------------+-------------------+
| FreeBSD 13.2        | PASS               | SKIPPED              | SKIPPED           |
+---------------------+--------------------+----------------------+-------------------+
| openSUSE Leap 15    | PASS               | SKIPPED              | SKIPPED           |
+---------------------+--------------------+----------------------+-------------------+
| Windows Server 2022 | PASS               | PASS                 | PASS              |
+---------------------+--------------------+----------------------+-------------------+
| Ubuntu 22.04        | PASS               | SKIPPED              | SKIPPED           |
+---------------------+--------------------+----------------------+-------------------+
| Windows Server 2019 | PASS               | PASS                 | SKIPPED           |
+---------------------+--------------------+----------------------+-------------------+
| Ubuntu 20.04        | PASS               | SKIPPED              | SKIPPED           |
+---------------------+--------------------+----------------------+-------------------+
| Alpine              | PASS               | SKIPPED              | SKIPPED           |
+---------------------+--------------------+----------------------+-------------------+


CentOS Stream 8
	Kernel: 5.4.0-167-generic
	Compiler: gcc 8.5.0 20210514

Debian Bullseye
	Kernel: 5.4.0-167-generic
	Compiler: gcc 10.2.1-6

CentOS Stream 9
	Kernel: 5.4.0-167-generic
	Compiler: gcc 11.4.1 20230605

Fedora 37
	Kernel: Depends on container host system
	Compiler: gcc 12.3.1

Fedora 38
	Kernel: Depends on container host
	Compiler: gcc 13.2.1

Fedora 39
	Kernel: Depends on container host
	Compiler: gcc 13.2.1

FreeBSD 13.2
	Kernel: 13.2
	Compiler: clang 14.0.5

openSUSE Leap 15
	Kernel: 5.4.0-167-generic
	Compiler: gcc 7.5.0

Windows Server 2022
	Kernel: 10.0.20348.2031
	Compiler: clang 15.0.7, gcc 8.1.0 (MinGW), and MSVC VS 17.9

Ubuntu 22.04
	Kernel: 5.4.0-167-generic
	Compiler: gcc 11.4.0

Windows Server 2019
	Kernel: 10.0.17763
	Compiler: clang 14.0 and gcc 8.1.0 (MinGW)

Ubuntu 20.04
	Kernel: 5.4.0-167-generic
	Compiler: gcc 9.4.0-1ubuntu1~20.04.1

Alpine
	Kernel: 5.4.0-167-generic
	Compiler: gcc (Alpine 12.2.1_git20220924-r10) 12.2.1 20220924

To view detailed results, visit:
https://lab.dpdk.org/results/dashboard/patchsets/29803/

UNH-IOL DPDK Community Lab

To manage your email subscriptions, visit: 
https://lab.dpdk.org/results/dashboard/preferences/subscriptions/