From mboxrd@z Thu Jan  1 00:00:00 1970
Return-Path: <test-report-bounces@dpdk.org>
Received: from mails.dpdk.org (mails.dpdk.org [217.70.189.124])
	by inbox.dpdk.org (Postfix) with ESMTP id 5A11643E90
	for <public@inbox.dpdk.org>; Wed, 17 Apr 2024 11:36:30 +0200 (CEST)
Received: from mails.dpdk.org (localhost [127.0.0.1])
	by mails.dpdk.org (Postfix) with ESMTP id 55605402AE;
	Wed, 17 Apr 2024 11:36:30 +0200 (CEST)
Received: from mail-pf1-f226.google.com (mail-pf1-f226.google.com
 [209.85.210.226])
 by mails.dpdk.org (Postfix) with ESMTP id 8E6764029E
 for <test-report@dpdk.org>; Wed, 17 Apr 2024 11:36:28 +0200 (CEST)
Received: by mail-pf1-f226.google.com with SMTP id
 d2e1a72fcca58-6ee12766586so455736b3a.0
 for <test-report@dpdk.org>; Wed, 17 Apr 2024 02:36:28 -0700 (PDT)
DKIM-Signature: v=1; a=rsa-sha256; c=relaxed/relaxed;
 d=iol.unh.edu; s=unh-iol; t=1713346588; x=1713951388; darn=dpdk.org;
 h=references:in-reply-to:cc:to:from:subject:message-id:date:from:to
 :cc:subject:date:message-id:reply-to;
 bh=PA3JG56Yc93kwOQKLeYy9nwnMJajk+FV8SwZjxKe2Xk=;
 b=bdrWRw9xnDy82UE11Lyyeq5X/Pykof7EegZW4TEjHgLb3/US2U+wEJqzo/ywc7KQxa
 I+4J4FGEWtGoEVUoyDSyVXjT2x0q9crsK8/KmusZf8/UIOT7fQCDhnDOCrAR/TEd+ty+
 WByc6dbakjg5BOZUZjRslrkebRrxZcRCI0x90=
X-Google-DKIM-Signature: v=1; a=rsa-sha256; c=relaxed/relaxed;
 d=1e100.net; s=20230601; t=1713346588; x=1713951388;
 h=references:in-reply-to:cc:to:from:subject:message-id:date
 :x-gm-message-state:from:to:cc:subject:date:message-id:reply-to;
 bh=PA3JG56Yc93kwOQKLeYy9nwnMJajk+FV8SwZjxKe2Xk=;
 b=eqQ/viM+amiwYi0gnTu6vMnyDa6qdrOBuPd5AHKMGgG+7Dd4lILqo7gIu5P3CALrDt
 +PFAUfK06a1OlGD930P30gMKSiV01XcDMjdiRZ22aMahNepYKekE2kvAinD6i2qK4yyj
 LGCa4meipWWuMfo6uacLJJGYs7U5Wzn2jmqvNYyMoi7RnKqLmFE9opt3RsDcwuDCSBHv
 6+yNwWTEOGtw6fK3hsn/VwVP41SjY4nmqhLckdaHdZrsFumbuoSCkb2ZBjfTjdwRovvv
 EB/XoWKys+v8o0cJdzS0XLUiQPp8tFN0d5PjakMHwpVtk7ywLsRU+vxTlQMYmktEGdKG
 i3YQ==
X-Gm-Message-State: AOJu0Yx1MxSakKL6JBuZr2+nCxFBRu4v/wI/hZFX8Kh+e+rkBt/csEqU
 TXnPDr+o18aIcYbgBgG7IeNYY72jK1ssDsE2Hk3uL2ylQTfmoDdJc3pKw6EFJh7XvHDpyxdhcF7
 vSZD93tNtmyDumCNANOyldjfG8FsTKQ0v3Ywh+ah3tRtT4jbUeMtcAIEm
X-Google-Smtp-Source: AGHT+IEdpiOQYCvshIPzpqcPciKdwehrk6IW5inDieY85LHd660dTnH+6yRpgV4T5aIWR3S+1/WAjHMKZlpb
X-Received: by 2002:a05:6a21:4995:b0:1a9:f78f:8beb with SMTP id
 ax21-20020a056a21499500b001a9f78f8bebmr6965373pzc.1.1713346587656; 
 Wed, 17 Apr 2024 02:36:27 -0700 (PDT)
Received: from postal.iol.unh.edu (postal.iol.unh.edu.
 [2606:4100:3880:1234::84]) by smtp-relay.gmail.com with ESMTPS id
 n20-20020a638f14000000b005dcbbecac78sm723725pgd.26.2024.04.17.02.36.27
 (version=TLS1_2 cipher=ECDHE-ECDSA-AES128-GCM-SHA256 bits=128/128);
 Wed, 17 Apr 2024 02:36:27 -0700 (PDT)
X-Relaying-Domain: iol.unh.edu
Date: Wed, 17 Apr 2024 02:36:27 -0700 (PDT)
Message-ID: <661f981b.630a0220.e19a0.3dd5SMTPIN_ADDED_MISSING@mx.google.com>
Received: from [172.17.0.3] (unknown [172.18.0.217])
 by postal.iol.unh.edu (Postfix) with ESMTP id DA1526052514;
 Wed, 17 Apr 2024 05:36:26 -0400 (EDT)
Subject: |SUCCESS| pw139445-139446 [PATCH] [v3,2/2] dma/cnxk: remove completi
From: dpdklab@iol.unh.edu
To: Test Report <test-report@dpdk.org>
Cc: dpdk-test-reports@iol.unh.edu
In-Reply-To: <20240417082645.4259-2-pbhagavatula@marvell.com>
References: <20240417082645.4259-2-pbhagavatula@marvell.com>
Content-Type: text/plain
X-BeenThere: test-report@dpdk.org
X-Mailman-Version: 2.1.29
Precedence: list
List-Id: automatic DPDK test reports <test-report.dpdk.org>
List-Unsubscribe: <https://mails.dpdk.org/options/test-report>,
 <mailto:test-report-request@dpdk.org?subject=unsubscribe>
List-Archive: <http://mails.dpdk.org/archives/test-report/>
List-Post: <mailto:test-report@dpdk.org>
List-Help: <mailto:test-report-request@dpdk.org?subject=help>
List-Subscribe: <https://mails.dpdk.org/listinfo/test-report>,
 <mailto:test-report-request@dpdk.org?subject=subscribe>
Errors-To: test-report-bounces@dpdk.org

Test-Label: iol-compile-amd64-testing
Test-Status: SUCCESS
http://dpdk.org/patch/139446

_Testing PASS_

Submitter: Pavan Nikhilesh Bhagavatula <pbhagavatula@marvell.com>
Date: Wednesday, April 17 2024 08:26:45 
DPDK git baseline: Repo:dpdk
  Branch: master
  CommitID:e2e546ab5bf5e024986ccb5310ab43982f3bb40c

139445-139446 --> testing pass

Test environment and result as below:

+---------------------+--------------------+----------------------+-------------------+
|     Environment     | dpdk_meson_compile | dpdk_mingw64_compile | dpdk_msvc_compile |
+=====================+====================+======================+===================+
| CentOS Stream 8     | PASS               | SKIPPED              | SKIPPED           |
+---------------------+--------------------+----------------------+-------------------+
| Debian Bullseye     | PASS               | SKIPPED              | SKIPPED           |
+---------------------+--------------------+----------------------+-------------------+
| CentOS Stream 9     | PASS               | SKIPPED              | SKIPPED           |
+---------------------+--------------------+----------------------+-------------------+
| Fedora 37           | PASS               | SKIPPED              | SKIPPED           |
+---------------------+--------------------+----------------------+-------------------+
| Fedora 38           | PASS               | SKIPPED              | SKIPPED           |
+---------------------+--------------------+----------------------+-------------------+
| Fedora 39           | PASS               | SKIPPED              | SKIPPED           |
+---------------------+--------------------+----------------------+-------------------+
| FreeBSD 13.2        | PASS               | SKIPPED              | SKIPPED           |
+---------------------+--------------------+----------------------+-------------------+
| openSUSE Leap 15    | PASS               | SKIPPED              | SKIPPED           |
+---------------------+--------------------+----------------------+-------------------+
| Windows Server 2022 | PASS               | PASS                 | PASS              |
+---------------------+--------------------+----------------------+-------------------+
| Ubuntu 22.04        | PASS               | SKIPPED              | SKIPPED           |
+---------------------+--------------------+----------------------+-------------------+
| Windows Server 2019 | PASS               | PASS                 | SKIPPED           |
+---------------------+--------------------+----------------------+-------------------+
| Ubuntu 20.04        | PASS               | SKIPPED              | SKIPPED           |
+---------------------+--------------------+----------------------+-------------------+
| Alpine              | PASS               | SKIPPED              | SKIPPED           |
+---------------------+--------------------+----------------------+-------------------+


CentOS Stream 8
	Kernel: 5.4.0-167-generic
	Compiler: gcc 8.5.0 20210514

Debian Bullseye
	Kernel: 5.4.0-167-generic
	Compiler: gcc 10.2.1-6

CentOS Stream 9
	Kernel: 5.4.0-167-generic
	Compiler: gcc 11.4.1 20230605

Fedora 37
	Kernel: Depends on container host system
	Compiler: gcc 12.3.1

Fedora 38
	Kernel: Depends on container host
	Compiler: gcc 13.2.1

Fedora 39
	Kernel: Depends on container host
	Compiler: gcc 13.2.1

FreeBSD 13.2
	Kernel: 13.2
	Compiler: clang 14.0.5

openSUSE Leap 15
	Kernel: 5.4.0-167-generic
	Compiler: gcc 7.5.0

Windows Server 2022
	Kernel: 10.0.20348.2031
	Compiler: clang 15.0.7, gcc 8.1.0 (MinGW), and MSVC VS 17.9

Ubuntu 22.04
	Kernel: 5.4.0-167-generic
	Compiler: gcc 11.4.0

Windows Server 2019
	Kernel: 10.0.17763
	Compiler: clang 14.0 and gcc 8.1.0 (MinGW)

Ubuntu 20.04
	Kernel: 5.4.0-167-generic
	Compiler: gcc 9.4.0-1ubuntu1~20.04.1

Alpine
	Kernel: 5.4.0-167-generic
	Compiler: gcc (Alpine 12.2.1_git20220924-r10) 12.2.1 20220924

To view detailed results, visit:
https://lab.dpdk.org/results/dashboard/patchsets/29803/

UNH-IOL DPDK Community Lab

To manage your email subscriptions, visit: 
https://lab.dpdk.org/results/dashboard/preferences/subscriptions/