From mboxrd@z Thu Jan  1 00:00:00 1970
Return-Path: <test-report-bounces@dpdk.org>
Received: from mails.dpdk.org (mails.dpdk.org [217.70.189.124])
	by inbox.dpdk.org (Postfix) with ESMTP id B9FA343E90
	for <public@inbox.dpdk.org>; Wed, 17 Apr 2024 11:39:03 +0200 (CEST)
Received: from mails.dpdk.org (localhost [127.0.0.1])
	by mails.dpdk.org (Postfix) with ESMTP id B47F0402AE;
	Wed, 17 Apr 2024 11:39:03 +0200 (CEST)
Received: from mail-pl1-f228.google.com (mail-pl1-f228.google.com
 [209.85.214.228])
 by mails.dpdk.org (Postfix) with ESMTP id 09F094029E
 for <test-report@dpdk.org>; Wed, 17 Apr 2024 11:38:59 +0200 (CEST)
Received: by mail-pl1-f228.google.com with SMTP id
 d9443c01a7336-1e4266673bbso46393765ad.2
 for <test-report@dpdk.org>; Wed, 17 Apr 2024 02:38:58 -0700 (PDT)
DKIM-Signature: v=1; a=rsa-sha256; c=relaxed/relaxed;
 d=iol.unh.edu; s=unh-iol; t=1713346738; x=1713951538; darn=dpdk.org;
 h=references:in-reply-to:cc:to:from:subject:message-id:date:from:to
 :cc:subject:date:message-id:reply-to;
 bh=Pt9QYftBgiNPIlR/Jw4Y2apXucLROsfOrQa6c4WCwEA=;
 b=MhQ6nu+jGqGXTDN4UQ2NwcwRmKlawXMz9qS0vp/zvu91DR5g8OSvLHxqeyIHwDyEdI
 ZI6IBtLP6gZ0xZqd7u9JSMVeip1jtstjhnBFonDnZzAbanNJLVAQ7koPmjDuFceN9PBq
 5XOw6+JuC6QgyuMKR2oIsaPV1MzVIlhEKrthA=
X-Google-DKIM-Signature: v=1; a=rsa-sha256; c=relaxed/relaxed;
 d=1e100.net; s=20230601; t=1713346738; x=1713951538;
 h=references:in-reply-to:cc:to:from:subject:message-id:date
 :x-gm-message-state:from:to:cc:subject:date:message-id:reply-to;
 bh=Pt9QYftBgiNPIlR/Jw4Y2apXucLROsfOrQa6c4WCwEA=;
 b=mjM4OTS1gwNBLQ2qOmqYueHca6Qeu/Az7Rf0rmc/lpWFbK0DfxCKIJOhHCyUWZqt5o
 4MMLeNKHJ0sqz78q3gB86TlCk+46X7V8qiGbRjD2z9TA4BrobTcPl7aeMf8EgCevvvdw
 C+7v28Wj26OHuT8tJRH9a2V/lagz0Cdt99CghYphsHI0YxORGmyHjYYexQTdWk806JrY
 jAqAf4bK9GzjpA700rJbsJWHn0l53cqiPCuOpZrLwGeRMm0P7AbngD6KGBrchLbhpaTe
 6Q2oWifAJv0KnfhDsYIYiwkpibQ+UDk4oVwLgnVEKGZtt+0y82wg2b7q8B12eR9Nt9+t
 v/YA==
X-Gm-Message-State: AOJu0Yy4BewDv9OwksZJckgrcfADQwHx/x8Wdx5W4zjfL4aKp+4jYIjy
 VD9DrCBXKTH2dY6DAcCqnSXU1U68QlXO/vn8Dq4PcwvkCqvNi9eX4X03DLybTG0Q2DsBF1oXn3R
 3RBZuSIUwEMNU8/D0ztpXotGrY0ySntw4U5j6zw0J
X-Google-Smtp-Source: AGHT+IHUSxh+zB4SdzaDCIHfkcFTnq0Z/fDm+seTGIqkaXX01bprBr430oALTJjko9wG79Y6Y31SPfy9zs8l
X-Received: by 2002:a17:902:db09:b0:1e5:9dee:9f34 with SMTP id
 m9-20020a170902db0900b001e59dee9f34mr16456856plx.36.1713346738229; 
 Wed, 17 Apr 2024 02:38:58 -0700 (PDT)
Received: from postal.iol.unh.edu (postal.iol.unh.edu. [132.177.123.84])
 by smtp-relay.gmail.com with ESMTPS id
 ku13-20020a170903288d00b001e2c70909d5sm505223plb.23.2024.04.17.02.38.58
 (version=TLS1_2 cipher=ECDHE-ECDSA-AES128-GCM-SHA256 bits=128/128);
 Wed, 17 Apr 2024 02:38:58 -0700 (PDT)
X-Relaying-Domain: iol.unh.edu
Date: Wed, 17 Apr 2024 02:38:58 -0700 (PDT)
Message-ID: <661f98b2.170a0220.91a26.721bSMTPIN_ADDED_MISSING@mx.google.com>
Received: from [172.17.0.3] (unknown [172.18.0.217])
 by postal.iol.unh.edu (Postfix) with ESMTP id 625556052514;
 Wed, 17 Apr 2024 05:38:57 -0400 (EDT)
Subject: |SUCCESS| pw139445-139446 [PATCH] [v3,2/2] dma/cnxk: remove completi
From: dpdklab@iol.unh.edu
To: Test Report <test-report@dpdk.org>
Cc: dpdk-test-reports@iol.unh.edu
In-Reply-To: <20240417082645.4259-2-pbhagavatula@marvell.com>
References: <20240417082645.4259-2-pbhagavatula@marvell.com>
Content-Type: text/plain
X-BeenThere: test-report@dpdk.org
X-Mailman-Version: 2.1.29
Precedence: list
List-Id: automatic DPDK test reports <test-report.dpdk.org>
List-Unsubscribe: <https://mails.dpdk.org/options/test-report>,
 <mailto:test-report-request@dpdk.org?subject=unsubscribe>
List-Archive: <http://mails.dpdk.org/archives/test-report/>
List-Post: <mailto:test-report@dpdk.org>
List-Help: <mailto:test-report-request@dpdk.org?subject=help>
List-Subscribe: <https://mails.dpdk.org/listinfo/test-report>,
 <mailto:test-report-request@dpdk.org?subject=subscribe>
Errors-To: test-report-bounces@dpdk.org

Test-Label: iol-compile-amd64-testing
Test-Status: SUCCESS
http://dpdk.org/patch/139446

_Testing PASS_

Submitter: Pavan Nikhilesh Bhagavatula <pbhagavatula@marvell.com>
Date: Wednesday, April 17 2024 08:26:45 
DPDK git baseline: Repo:dpdk
  Branch: master
  CommitID:e2e546ab5bf5e024986ccb5310ab43982f3bb40c

139445-139446 --> testing pass

Test environment and result as below:

+---------------------+--------------------+----------------------+-------------------+
|     Environment     | dpdk_meson_compile | dpdk_mingw64_compile | dpdk_msvc_compile |
+=====================+====================+======================+===================+
| CentOS Stream 8     | PASS               | SKIPPED              | SKIPPED           |
+---------------------+--------------------+----------------------+-------------------+
| Debian Bullseye     | PASS               | SKIPPED              | SKIPPED           |
+---------------------+--------------------+----------------------+-------------------+
| CentOS Stream 9     | PASS               | SKIPPED              | SKIPPED           |
+---------------------+--------------------+----------------------+-------------------+
| Fedora 37           | PASS               | SKIPPED              | SKIPPED           |
+---------------------+--------------------+----------------------+-------------------+
| Fedora 38           | PASS               | SKIPPED              | SKIPPED           |
+---------------------+--------------------+----------------------+-------------------+
| Fedora 39           | PASS               | SKIPPED              | SKIPPED           |
+---------------------+--------------------+----------------------+-------------------+
| FreeBSD 13.2        | PASS               | SKIPPED              | SKIPPED           |
+---------------------+--------------------+----------------------+-------------------+
| openSUSE Leap 15    | PASS               | SKIPPED              | SKIPPED           |
+---------------------+--------------------+----------------------+-------------------+
| Windows Server 2022 | PASS               | PASS                 | PASS              |
+---------------------+--------------------+----------------------+-------------------+
| Ubuntu 22.04        | PASS               | SKIPPED              | SKIPPED           |
+---------------------+--------------------+----------------------+-------------------+
| Windows Server 2019 | PASS               | PASS                 | SKIPPED           |
+---------------------+--------------------+----------------------+-------------------+
| Ubuntu 20.04        | PASS               | SKIPPED              | SKIPPED           |
+---------------------+--------------------+----------------------+-------------------+
| Alpine              | PASS               | SKIPPED              | SKIPPED           |
+---------------------+--------------------+----------------------+-------------------+
| RHEL8               | PASS               | SKIPPED              | SKIPPED           |
+---------------------+--------------------+----------------------+-------------------+
| Debian 12           | PASS               | SKIPPED              | SKIPPED           |
+---------------------+--------------------+----------------------+-------------------+


CentOS Stream 8
	Kernel: 5.4.0-167-generic
	Compiler: gcc 8.5.0 20210514

Debian Bullseye
	Kernel: 5.4.0-167-generic
	Compiler: gcc 10.2.1-6

CentOS Stream 9
	Kernel: 5.4.0-167-generic
	Compiler: gcc 11.4.1 20230605

Fedora 37
	Kernel: Depends on container host system
	Compiler: gcc 12.3.1

Fedora 38
	Kernel: Depends on container host
	Compiler: gcc 13.2.1

Fedora 39
	Kernel: Depends on container host
	Compiler: gcc 13.2.1

FreeBSD 13.2
	Kernel: 13.2
	Compiler: clang 14.0.5

openSUSE Leap 15
	Kernel: 5.4.0-167-generic
	Compiler: gcc 7.5.0

Windows Server 2022
	Kernel: 10.0.20348.2031
	Compiler: clang 15.0.7, gcc 8.1.0 (MinGW), and MSVC VS 17.9

Ubuntu 22.04
	Kernel: 5.4.0-167-generic
	Compiler: gcc 11.4.0

Windows Server 2019
	Kernel: 10.0.17763
	Compiler: clang 14.0 and gcc 8.1.0 (MinGW)

Ubuntu 20.04
	Kernel: 5.4.0-167-generic
	Compiler: gcc 9.4.0-1ubuntu1~20.04.1

Alpine
	Kernel: 5.4.0-167-generic
	Compiler: gcc (Alpine 12.2.1_git20220924-r10) 12.2.1 20220924

RHEL8
	Kernel: 5.4.0-167-generic
	Compiler: gcc 8.5.0 20210514 (Red Hat 8.5.0-20)

Debian 12
	Kernel: Container Host Kernel
	Compiler: gcc 10.2.1

To view detailed results, visit:
https://lab.dpdk.org/results/dashboard/patchsets/29803/

UNH-IOL DPDK Community Lab

To manage your email subscriptions, visit: 
https://lab.dpdk.org/results/dashboard/preferences/subscriptions/