From mboxrd@z Thu Jan  1 00:00:00 1970
Return-Path: <test-report-bounces@dpdk.org>
Received: from mails.dpdk.org (mails.dpdk.org [217.70.189.124])
	by inbox.dpdk.org (Postfix) with ESMTP id AEC3F43E91
	for <public@inbox.dpdk.org>; Wed, 17 Apr 2024 12:40:59 +0200 (CEST)
Received: from mails.dpdk.org (localhost [127.0.0.1])
	by mails.dpdk.org (Postfix) with ESMTP id A5FA0402AE;
	Wed, 17 Apr 2024 12:40:59 +0200 (CEST)
Received: from mail-yw1-f225.google.com (mail-yw1-f225.google.com
 [209.85.128.225])
 by mails.dpdk.org (Postfix) with ESMTP id 1BC4F4029E
 for <test-report@dpdk.org>; Wed, 17 Apr 2024 12:40:58 +0200 (CEST)
Received: by mail-yw1-f225.google.com with SMTP id
 00721157ae682-6181d032bf9so52162957b3.3
 for <test-report@dpdk.org>; Wed, 17 Apr 2024 03:40:58 -0700 (PDT)
DKIM-Signature: v=1; a=rsa-sha256; c=relaxed/relaxed;
 d=iol.unh.edu; s=unh-iol; t=1713350457; x=1713955257; darn=dpdk.org;
 h=references:in-reply-to:cc:to:from:subject:message-id:date:from:to
 :cc:subject:date:message-id:reply-to;
 bh=EzW7bzGgyovYo/6ut6Xa2JmmwuIfBaaJD5+RzgI6sow=;
 b=HP95ggG83OjpduSEsKNM9FFkds7sWuhaL0bfjq//B5dPFNbmD4Y9TQedntpvCm4ZWP
 TldZAUcJ90yBwj+OIdyLAGwSMc1avlZ7vj3jc6opn8UiqiLOn2fauRRTMXtBGgOxJ6pG
 lasYOWi1hnLgYfIAW42wlhypPjQ8cx6BIgGco=
X-Google-DKIM-Signature: v=1; a=rsa-sha256; c=relaxed/relaxed;
 d=1e100.net; s=20230601; t=1713350457; x=1713955257;
 h=references:in-reply-to:cc:to:from:subject:message-id:date
 :x-gm-message-state:from:to:cc:subject:date:message-id:reply-to;
 bh=EzW7bzGgyovYo/6ut6Xa2JmmwuIfBaaJD5+RzgI6sow=;
 b=c6HqXiVuNVOxBE6ZtS4SMBKrALvbu3w1GSNEgyyJuT6d/yXZ8zGJ2ijLF0lNWhMFyp
 mj87NrLSsCa2yPlvtJ8L8gsBj8B69VI+N1MGXDKekKlF6P0jN/NjAHL1YAK+vyYdVQwQ
 p4aTQvVmpCey5fVX8tHaL27NCHEEEk2EiHon1r2HfnFog5VEkbyJGgN/J9qNEk4eqLLo
 175P0zkBhjhrjAM7gMWJAmsXrB85tYoH2pApDGPcZBqI9Jlhm43K4rpZGcUuHdT44blF
 jI8nZpJI9/fMrlmD2D0hMpTn5qXohgBCov5RwaYW4vRE9HX4Qf+mwqfqGBvPWl6LwFp1
 aFCg==
X-Gm-Message-State: AOJu0YwtgR8XsQJ80EupPLNfEjk4/s2X/WgstoMoCym5G+skh1j/jCg0
 hvLXi6IERbrf07Y2TGqCs0fijoY9tLu622qtz/Ga99BAkVM4Ht+t/wWqdk3ZOnjZvsFTAqGmJA5
 k4tZHlXglgsXQCfZvUYERQ6SGtnuWrt9Uge2tJoFH
X-Google-Smtp-Source: AGHT+IEdcqr6xA32QwMtGQcgY8/Yve1krCpX2BGIUevQflkOOGBVqxu7XfFYK98/BOyPYfUjrupXjQuSx3nu
X-Received: by 2002:a05:690c:f83:b0:61b:de8:7c22 with SMTP id
 df3-20020a05690c0f8300b0061b0de87c22mr989339ywb.22.1713350457502; 
 Wed, 17 Apr 2024 03:40:57 -0700 (PDT)
Received: from postal.iol.unh.edu (postal.iol.unh.edu. [132.177.123.84])
 by smtp-relay.gmail.com with ESMTPS id
 u79-20020a0deb52000000b0061aae25890csm681398ywe.2.2024.04.17.03.40.57
 (version=TLS1_2 cipher=ECDHE-ECDSA-AES128-GCM-SHA256 bits=128/128);
 Wed, 17 Apr 2024 03:40:57 -0700 (PDT)
X-Relaying-Domain: iol.unh.edu
Date: Wed, 17 Apr 2024 03:40:57 -0700 (PDT)
Message-ID: <661fa739.0d0a0220.3f6b3.7fa6SMTPIN_ADDED_MISSING@mx.google.com>
Received: from [172.21.0.6] (unknown [172.18.0.240])
 by postal.iol.unh.edu (Postfix) with ESMTP id 21A676052514;
 Wed, 17 Apr 2024 06:40:57 -0400 (EDT)
Subject: |SUCCESS| pw139438-139444 [PATCH] [v2,7/7] dma/odm: add remaining op
From: dpdklab@iol.unh.edu
To: Test Report <test-report@dpdk.org>
Cc: dpdk-test-reports@iol.unh.edu
In-Reply-To: <20240417072708.322-8-anoobj@marvell.com>
References: <20240417072708.322-8-anoobj@marvell.com>
Content-Type: text/plain
X-BeenThere: test-report@dpdk.org
X-Mailman-Version: 2.1.29
Precedence: list
List-Id: automatic DPDK test reports <test-report.dpdk.org>
List-Unsubscribe: <https://mails.dpdk.org/options/test-report>,
 <mailto:test-report-request@dpdk.org?subject=unsubscribe>
List-Archive: <http://mails.dpdk.org/archives/test-report/>
List-Post: <mailto:test-report@dpdk.org>
List-Help: <mailto:test-report-request@dpdk.org?subject=help>
List-Subscribe: <https://mails.dpdk.org/listinfo/test-report>,
 <mailto:test-report-request@dpdk.org?subject=subscribe>
Errors-To: test-report-bounces@dpdk.org

Test-Label: iol-abi-testing
Test-Status: SUCCESS
http://dpdk.org/patch/139444

_Testing PASS_

Submitter: Anoob Joseph <anoobj@marvell.com>
Date: Wednesday, April 17 2024 07:27:08 
DPDK git baseline: Repo:dpdk
  Branch: master
  CommitID:e2e546ab5bf5e024986ccb5310ab43982f3bb40c

139438-139444 --> testing pass

Test environment and result as below:

+------------------+----------+
|   Environment    | abi_test |
+==================+==========+
| Debian Bullseye  | PASS     |
+------------------+----------+
| Fedora 38        | PASS     |
+------------------+----------+
| Fedora 39        | PASS     |
+------------------+----------+
| openSUSE Leap 15 | PASS     |
+------------------+----------+
| CentOS Stream 9  | PASS     |
+------------------+----------+
| Ubuntu 22.04     | PASS     |
+------------------+----------+
| Debian 12        | PASS     |
+------------------+----------+
| CentOS Stream 8  | PASS     |
+------------------+----------+
| RHEL8            | PASS     |
+------------------+----------+


Debian Bullseye
	Kernel: 5.4.0-167-generic
	Compiler: gcc 10.2.1-6

Fedora 38
	Kernel: Depends on container host
	Compiler: gcc 13.2.1

Fedora 39
	Kernel: Depends on container host
	Compiler: gcc 13.2.1

openSUSE Leap 15
	Kernel: 5.4.0-167-generic
	Compiler: gcc 7.5.0

CentOS Stream 9
	Kernel: 5.4.0-167-generic
	Compiler: gcc 11.4.1 20230605

Ubuntu 22.04
	Kernel: 5.4.0-167-generic
	Compiler: gcc 11.4.0

Debian 12
	Kernel: Container Host Kernel
	Compiler: gcc 10.2.1

CentOS Stream 8
	Kernel: 5.4.0-167-generic
	Compiler: gcc 8.5.0 20210514

RHEL8
	Kernel: 5.4.0-167-generic
	Compiler: gcc 8.5.0 20210514 (Red Hat 8.5.0-20)

To view detailed results, visit:
https://lab.dpdk.org/results/dashboard/patchsets/29802/

UNH-IOL DPDK Community Lab

To manage your email subscriptions, visit: 
https://lab.dpdk.org/results/dashboard/preferences/subscriptions/