From mboxrd@z Thu Jan  1 00:00:00 1970
Return-Path: <test-report-bounces@dpdk.org>
Received: from mails.dpdk.org (mails.dpdk.org [217.70.189.124])
	by inbox.dpdk.org (Postfix) with ESMTP id 3E9E143E91
	for <public@inbox.dpdk.org>; Wed, 17 Apr 2024 12:45:45 +0200 (CEST)
Received: from mails.dpdk.org (localhost [127.0.0.1])
	by mails.dpdk.org (Postfix) with ESMTP id 378AA402AE;
	Wed, 17 Apr 2024 12:45:45 +0200 (CEST)
Received: from mail-qv1-f99.google.com (mail-qv1-f99.google.com
 [209.85.219.99]) by mails.dpdk.org (Postfix) with ESMTP id 2DE204029E
 for <test-report@dpdk.org>; Wed, 17 Apr 2024 12:45:43 +0200 (CEST)
Received: by mail-qv1-f99.google.com with SMTP id
 6a1803df08f44-69b782287f9so9109356d6.0
 for <test-report@dpdk.org>; Wed, 17 Apr 2024 03:45:43 -0700 (PDT)
DKIM-Signature: v=1; a=rsa-sha256; c=relaxed/relaxed;
 d=iol.unh.edu; s=unh-iol; t=1713350742; x=1713955542; darn=dpdk.org;
 h=references:in-reply-to:cc:to:from:subject:message-id:date:from:to
 :cc:subject:date:message-id:reply-to;
 bh=Pp1h4233w7NCr3UE1fVQWBrYsiwNTXiuZfn2pleB0QA=;
 b=Ft34ZjCNbFDnHYikH+HnBPuPdh/lmNmzIMVCswotrobjFvB+srynSEyQw2TKU/kE4g
 X2S1hlrTCEVtbm+TZe90cM4Kp1xRcnYos/PqCa8lDY8ZNNZnXXhGloOd9pn1YD/X/gPR
 2BtXrI5nfnr9AY2kWJa1cZD1ySFw2MXcgFUfc=
X-Google-DKIM-Signature: v=1; a=rsa-sha256; c=relaxed/relaxed;
 d=1e100.net; s=20230601; t=1713350742; x=1713955542;
 h=references:in-reply-to:cc:to:from:subject:message-id:date
 :x-gm-message-state:from:to:cc:subject:date:message-id:reply-to;
 bh=Pp1h4233w7NCr3UE1fVQWBrYsiwNTXiuZfn2pleB0QA=;
 b=XUQ2cVAk9K1HCxd2ldr0gLQ8J90JjnhS1jLlDr32URdPbatm56n+CLvGTkhHZGxIrP
 VM2QVkYKrNfjTvKUPCd5Z4aXtCM9Ai3N0fYOmsXS9AOm92BWhaJODIkQu247K9vujOlV
 FCXv+gPFFgqXE0Fdzoz0IirDqUrWZP70l6o13dgYx+MImjs/Ul/GnZHTlDFDmeGECU6T
 J0zWmw1rsRed8jq+Bn2Ln5AcwTq8fkk7T13alMIBPkfsN4eD54TVvG/9YDCTtijxepA5
 96aZUBSrMYe9v4bUW0gnmEm+1YAqwJPlrt+VkZ0TfpwnRT8advg/T6mbLssnoD9qpVvH
 zzXw==
X-Gm-Message-State: AOJu0Yzp25NnGE3nEmGCpMMctQHo+iWvDoUasYRH76Oyux6oFLj3Rb2P
 7yQrDqWx/WMOu56Y726D5Db4/R+7r6mRz9x2ZjC+YF6oKeMytbht1jqMpcvJD3lSU0rL8XxOPZR
 wWdN5Bzy3LsHb1yZVmuNPFzwVD96hKl4yT40GNZPg8d6Mumg8ZdTAkGyF
X-Google-Smtp-Source: AGHT+IHU23ir637HOl3VPjeNmOqqQI0LKnVnLRmrpDRn1u37Esba8R3pV2o5OdQ8cLwNBcd4/rjVLTXKE2Y1
X-Received: by 2002:ad4:4181:0:b0:6a0:43f4:61b1 with SMTP id
 e1-20020ad44181000000b006a043f461b1mr1809790qvp.65.1713350742669; 
 Wed, 17 Apr 2024 03:45:42 -0700 (PDT)
Received: from postal.iol.unh.edu (postal.iol.unh.edu.
 [2606:4100:3880:1234::84]) by smtp-relay.gmail.com with ESMTPS id
 o12-20020ad45c8c000000b0069b43ff899csm1056818qvh.59.2024.04.17.03.45.42
 (version=TLS1_2 cipher=ECDHE-ECDSA-AES128-GCM-SHA256 bits=128/128);
 Wed, 17 Apr 2024 03:45:42 -0700 (PDT)
X-Relaying-Domain: iol.unh.edu
Date: Wed, 17 Apr 2024 03:45:42 -0700 (PDT)
Message-ID: <661fa856.d40a0220.f8b5f.3b3aSMTPIN_ADDED_MISSING@mx.google.com>
Received: from [172.21.0.6] (unknown [172.18.0.240])
 by postal.iol.unh.edu (Postfix) with ESMTP id 3136F6052514;
 Wed, 17 Apr 2024 06:45:42 -0400 (EDT)
Subject: |SUCCESS| pw139438-139444 [PATCH] [v2,7/7] dma/odm: add remaining op
From: dpdklab@iol.unh.edu
To: Test Report <test-report@dpdk.org>
Cc: dpdk-test-reports@iol.unh.edu
In-Reply-To: <20240417072708.322-8-anoobj@marvell.com>
References: <20240417072708.322-8-anoobj@marvell.com>
Content-Type: text/plain
X-BeenThere: test-report@dpdk.org
X-Mailman-Version: 2.1.29
Precedence: list
List-Id: automatic DPDK test reports <test-report.dpdk.org>
List-Unsubscribe: <https://mails.dpdk.org/options/test-report>,
 <mailto:test-report-request@dpdk.org?subject=unsubscribe>
List-Archive: <http://mails.dpdk.org/archives/test-report/>
List-Post: <mailto:test-report@dpdk.org>
List-Help: <mailto:test-report-request@dpdk.org?subject=help>
List-Subscribe: <https://mails.dpdk.org/listinfo/test-report>,
 <mailto:test-report-request@dpdk.org?subject=subscribe>
Errors-To: test-report-bounces@dpdk.org

Test-Label: iol-compile-arm64-testing
Test-Status: SUCCESS
http://dpdk.org/patch/139444

_Testing PASS_

Submitter: Anoob Joseph <anoobj@marvell.com>
Date: Wednesday, April 17 2024 07:27:08 
DPDK git baseline: Repo:dpdk
  Branch: master
  CommitID:e2e546ab5bf5e024986ccb5310ab43982f3bb40c

139438-139444 --> testing pass

Test environment and result as below:

+--------------------------+--------------------+
|       Environment        | dpdk_meson_compile |
+==========================+====================+
| Ubuntu 20.04 ARM SVE     | PASS               |
+--------------------------+--------------------+
| Fedora 37 (ARM)          | PASS               |
+--------------------------+--------------------+
| Debian 12 with MUSDK     | PASS               |
+--------------------------+--------------------+
| Fedora 39 (ARM)          | PASS               |
+--------------------------+--------------------+
| Debian 11 (Buster) (ARM) | PASS               |
+--------------------------+--------------------+
| Debian 12 (arm)          | PASS               |
+--------------------------+--------------------+
| Ubuntu 20.04 (ARM)       | PASS               |
+--------------------------+--------------------+
| CentOS Stream 9 (ARM)    | PASS               |
+--------------------------+--------------------+
| Fedora 38 (ARM)          | PASS               |
+--------------------------+--------------------+


Ubuntu 20.04 ARM SVE
	Kernel: 5.4.0-167-generic
	Compiler: gcc (Ubuntu 10.5.0-1ubuntu1~20.04) 10.5.0

Fedora 37 (ARM)
	Kernel: Depends on container host
	Compiler: gcc 12.3.1

Debian 12 with MUSDK
	Kernel: Container Host Kernel
	Compiler: gcc 12.2.0

Fedora 39 (ARM)
	Kernel: Depends on container host
	Compiler: gcc 13.2.1

Debian 11 (Buster) (ARM)
	Kernel: Container Host Kernel
	Compiler: gcc 10.2.1

Debian 12 (arm)
	Kernel: Container Host Kernel
	Compiler: gcc 12.2.0

Ubuntu 20.04 (ARM)
	Kernel: Container Host Kernel
	Compiler: gcc 9.4.0

CentOS Stream 9 (ARM)
	Kernel: Container Host Kernel
	Compiler: gcc 11.4.1

Fedora 38 (ARM)
	Kernel: Depends on container host
	Compiler: gcc 13.2.1

To view detailed results, visit:
https://lab.dpdk.org/results/dashboard/patchsets/29802/

UNH-IOL DPDK Community Lab

To manage your email subscriptions, visit: 
https://lab.dpdk.org/results/dashboard/preferences/subscriptions/