From mboxrd@z Thu Jan  1 00:00:00 1970
Return-Path: <test-report-bounces@dpdk.org>
Received: from mails.dpdk.org (mails.dpdk.org [217.70.189.124])
	by inbox.dpdk.org (Postfix) with ESMTP id D779743E91
	for <public@inbox.dpdk.org>; Wed, 17 Apr 2024 12:47:46 +0200 (CEST)
Received: from mails.dpdk.org (localhost [127.0.0.1])
	by mails.dpdk.org (Postfix) with ESMTP id D1082402AE;
	Wed, 17 Apr 2024 12:47:46 +0200 (CEST)
Received: from mail-yb1-f228.google.com (mail-yb1-f228.google.com
 [209.85.219.228])
 by mails.dpdk.org (Postfix) with ESMTP id CBE6E4029E
 for <test-report@dpdk.org>; Wed, 17 Apr 2024 12:47:45 +0200 (CEST)
Received: by mail-yb1-f228.google.com with SMTP id
 3f1490d57ef6-dd02fb9a31cso4745108276.3
 for <test-report@dpdk.org>; Wed, 17 Apr 2024 03:47:45 -0700 (PDT)
DKIM-Signature: v=1; a=rsa-sha256; c=relaxed/relaxed;
 d=iol.unh.edu; s=unh-iol; t=1713350865; x=1713955665; darn=dpdk.org;
 h=references:in-reply-to:cc:to:from:subject:message-id:date:from:to
 :cc:subject:date:message-id:reply-to;
 bh=Pp1h4233w7NCr3UE1fVQWBrYsiwNTXiuZfn2pleB0QA=;
 b=aw6euzzaOXOctReOvlJ3nb9+yH6zdxAtqS2nEtDdrnohAtQJppHD1S7lYgRFOw3HQy
 GHVduT1SBqXTxKRosqelX4MwQ0epAXxLyNHE+0MKZ4CBolGPCcnJQ20KB75fVJpCHvkR
 wZaozu4EkEqxinG9zTmmufQ0dh7+UMqDdpC00=
X-Google-DKIM-Signature: v=1; a=rsa-sha256; c=relaxed/relaxed;
 d=1e100.net; s=20230601; t=1713350865; x=1713955665;
 h=references:in-reply-to:cc:to:from:subject:message-id:date
 :x-gm-message-state:from:to:cc:subject:date:message-id:reply-to;
 bh=Pp1h4233w7NCr3UE1fVQWBrYsiwNTXiuZfn2pleB0QA=;
 b=PHoFZRPiD0J6cACzAc1xZszbkuLTuwuwL2Fkgm0E7lH3TkPkm1ZMeN4JrJkQgPhk2D
 hENJ6p4PrjHqxw48s7xM9L2j0FgAvDYYQdZEQwzs4i3Mw72P3IQfw/gyPVjpPJumsKhb
 ojPuzUOaqk4pLiEeBwkqIX9POubeIQXW6klDyJLeIk3T5iUfYJVUBgBuubaaLFcFX1t0
 03o7hvPqAvyz6BQeTshCnFa+mu2D4HSIgW1142L90yQ8VPm1LtkBb1znL/Y3Fp+p3jVh
 ssz61KXtkznFxW0OsD3BDacjqohoRdRLujoKZZl72HC/YrNNE1nLPJT5vVWZYfZ3WdZX
 kUlQ==
X-Gm-Message-State: AOJu0Yx2t6nIxsXCdzCn3/KTh5nVHTRsOY7YVaNP0BsFZMc8E4ZqN+Yz
 3bgCsM/MnEE5wjuHoq7a7n0Lit9H3chnRsrW0vUWEhFCUvdniWxk8Sx6l+n8GriiQY+9pWRd6g8
 oJmId3DI2naGKiBTzn5UbUW9rvoBxXBFsLP5N7PIHTycmn/eYyqdkfGr7
X-Google-Smtp-Source: AGHT+IEf+oyztA4z2kSHA1NTXSqL5yjDPdJ4NI2DKk+dsEjF74yKBja9uftBHOTkDW3oyc6bJWJp3R8urWnN
X-Received: by 2002:a25:aea3:0:b0:de3:e1ea:d23 with SMTP id
 b35-20020a25aea3000000b00de3e1ea0d23mr8614058ybj.51.1713350865300; 
 Wed, 17 Apr 2024 03:47:45 -0700 (PDT)
Received: from postal.iol.unh.edu (postal.iol.unh.edu.
 [2606:4100:3880:1234::84]) by smtp-relay.gmail.com with ESMTPS id
 ck2-20020a05690218c200b00dc251651929sm745568ybb.13.2024.04.17.03.47.45
 (version=TLS1_2 cipher=ECDHE-ECDSA-AES128-GCM-SHA256 bits=128/128);
 Wed, 17 Apr 2024 03:47:45 -0700 (PDT)
X-Relaying-Domain: iol.unh.edu
Date: Wed, 17 Apr 2024 03:47:45 -0700 (PDT)
Message-ID: <661fa8d1.050a0220.12c0.25b7SMTPIN_ADDED_MISSING@mx.google.com>
Received: from [172.21.0.6] (unknown [172.18.0.240])
 by postal.iol.unh.edu (Postfix) with ESMTP id D92586052514;
 Wed, 17 Apr 2024 06:47:44 -0400 (EDT)
Subject: |SUCCESS| pw139438-139444 [PATCH] [v2,7/7] dma/odm: add remaining op
From: dpdklab@iol.unh.edu
To: Test Report <test-report@dpdk.org>
Cc: dpdk-test-reports@iol.unh.edu
In-Reply-To: <20240417072708.322-8-anoobj@marvell.com>
References: <20240417072708.322-8-anoobj@marvell.com>
Content-Type: text/plain
X-BeenThere: test-report@dpdk.org
X-Mailman-Version: 2.1.29
Precedence: list
List-Id: automatic DPDK test reports <test-report.dpdk.org>
List-Unsubscribe: <https://mails.dpdk.org/options/test-report>,
 <mailto:test-report-request@dpdk.org?subject=unsubscribe>
List-Archive: <http://mails.dpdk.org/archives/test-report/>
List-Post: <mailto:test-report@dpdk.org>
List-Help: <mailto:test-report-request@dpdk.org?subject=help>
List-Subscribe: <https://mails.dpdk.org/listinfo/test-report>,
 <mailto:test-report-request@dpdk.org?subject=subscribe>
Errors-To: test-report-bounces@dpdk.org

Test-Label: iol-compile-arm64-testing
Test-Status: SUCCESS
http://dpdk.org/patch/139444

_Testing PASS_

Submitter: Anoob Joseph <anoobj@marvell.com>
Date: Wednesday, April 17 2024 07:27:08 
DPDK git baseline: Repo:dpdk
  Branch: master
  CommitID:e2e546ab5bf5e024986ccb5310ab43982f3bb40c

139438-139444 --> testing pass

Test environment and result as below:

+--------------------------+--------------------+
|       Environment        | dpdk_meson_compile |
+==========================+====================+
| Ubuntu 20.04 ARM SVE     | PASS               |
+--------------------------+--------------------+
| Fedora 37 (ARM)          | PASS               |
+--------------------------+--------------------+
| Debian 12 with MUSDK     | PASS               |
+--------------------------+--------------------+
| Fedora 39 (ARM)          | PASS               |
+--------------------------+--------------------+
| Debian 11 (Buster) (ARM) | PASS               |
+--------------------------+--------------------+
| Debian 12 (arm)          | PASS               |
+--------------------------+--------------------+
| Ubuntu 20.04 (ARM)       | PASS               |
+--------------------------+--------------------+
| CentOS Stream 9 (ARM)    | PASS               |
+--------------------------+--------------------+
| Fedora 38 (ARM)          | PASS               |
+--------------------------+--------------------+


Ubuntu 20.04 ARM SVE
	Kernel: 5.4.0-167-generic
	Compiler: gcc (Ubuntu 10.5.0-1ubuntu1~20.04) 10.5.0

Fedora 37 (ARM)
	Kernel: Depends on container host
	Compiler: gcc 12.3.1

Debian 12 with MUSDK
	Kernel: Container Host Kernel
	Compiler: gcc 12.2.0

Fedora 39 (ARM)
	Kernel: Depends on container host
	Compiler: gcc 13.2.1

Debian 11 (Buster) (ARM)
	Kernel: Container Host Kernel
	Compiler: gcc 10.2.1

Debian 12 (arm)
	Kernel: Container Host Kernel
	Compiler: gcc 12.2.0

Ubuntu 20.04 (ARM)
	Kernel: Container Host Kernel
	Compiler: gcc 9.4.0

CentOS Stream 9 (ARM)
	Kernel: Container Host Kernel
	Compiler: gcc 11.4.1

Fedora 38 (ARM)
	Kernel: Depends on container host
	Compiler: gcc 13.2.1

To view detailed results, visit:
https://lab.dpdk.org/results/dashboard/patchsets/29802/

UNH-IOL DPDK Community Lab

To manage your email subscriptions, visit: 
https://lab.dpdk.org/results/dashboard/preferences/subscriptions/