From mboxrd@z Thu Jan  1 00:00:00 1970
Return-Path: <test-report-bounces@dpdk.org>
Received: from mails.dpdk.org (mails.dpdk.org [217.70.189.124])
	by inbox.dpdk.org (Postfix) with ESMTP id A39A143E91
	for <public@inbox.dpdk.org>; Wed, 17 Apr 2024 12:52:55 +0200 (CEST)
Received: from mails.dpdk.org (localhost [127.0.0.1])
	by mails.dpdk.org (Postfix) with ESMTP id 9E6A9402AE;
	Wed, 17 Apr 2024 12:52:55 +0200 (CEST)
Received: from mail-io1-f100.google.com (mail-io1-f100.google.com
 [209.85.166.100])
 by mails.dpdk.org (Postfix) with ESMTP id 01C674029E
 for <test-report@dpdk.org>; Wed, 17 Apr 2024 12:52:55 +0200 (CEST)
Received: by mail-io1-f100.google.com with SMTP id
 ca18e2360f4ac-7d5facf3161so214316139f.1
 for <test-report@dpdk.org>; Wed, 17 Apr 2024 03:52:54 -0700 (PDT)
DKIM-Signature: v=1; a=rsa-sha256; c=relaxed/relaxed;
 d=iol.unh.edu; s=unh-iol; t=1713351174; x=1713955974; darn=dpdk.org;
 h=references:in-reply-to:cc:to:from:subject:message-id:date:from:to
 :cc:subject:date:message-id:reply-to;
 bh=Y9UrYJXSI3AMKn6cwVqZFKMYSuDwtnqAbKfx1rT0D1w=;
 b=QVze2Gd/4zgo13v2eM+IpgT8XX4gk55epDiC5egv8GSVzVRiMqM90eYBpUbFjMQ/Yy
 zTnndnbCuqjEnHY5B6VwRlmM6IBu0FtYXGPMQEP6NasaqABB/YQDu6RWlwfGHnX8nTsX
 TfhjX9s9hJSwcVYHRt0mIEczqw2L9t6eZiuK0=
X-Google-DKIM-Signature: v=1; a=rsa-sha256; c=relaxed/relaxed;
 d=1e100.net; s=20230601; t=1713351174; x=1713955974;
 h=references:in-reply-to:cc:to:from:subject:message-id:date
 :x-gm-message-state:from:to:cc:subject:date:message-id:reply-to;
 bh=Y9UrYJXSI3AMKn6cwVqZFKMYSuDwtnqAbKfx1rT0D1w=;
 b=MOik/GjV8Cus4IhUvB9IZ7FZgQGNgu2l6gVRvdz3JACwCDsg9+sujusjIynGyf0K6d
 Q+joXEmzOqhK8uf/+FlRizoFgFoQENcVGkWQP4lawWkfkm2M2i+y+y3T2eWkimKzkj9E
 CojgDrColecMoHz4GW9impErSPwij5eYoFjqo9DIuMG+ajN4k+Mzwbx1WNHuQVI+BwAU
 xnlyg25VlMIRSe+iuQbF2gRziGkcLWx/ZEzBceE6R3WWe5zfHts7jPgIL8qUwWXnZSH8
 CSPIFELmlKxXbRQFfYSS+UQZsK6T11nfGEtrzgT6LikZEDk/MRuq26jwy2zhc6KlVCQ3
 MzYA==
X-Gm-Message-State: AOJu0YxP1IwUJM0+a4vwibeJ6S/99NO5H/2YbcFXMFKcTgGb7nXHZrkn
 NAoT1fI+IP1sQudzoagGn/vsqUhBo98K9KsGcsTBqgIdIleI9bcG1SOOnqSBOGGSuEqH5Kg2Bbr
 6VT+PZ9aRjLv4LXEdTNEBxoNLx8d0tqQimUzKpyo+/xtRY6d98BIuhNqi
X-Google-Smtp-Source: AGHT+IHBoBp5oJbKtQWEthoMdKpL+ZdbUXJzZrTuP7SX4+uZzhmmYGOYSTYwKdYHZ3IYFYyKCBxMxDS+v3i/
X-Received: by 2002:a05:6e02:2188:b0:36a:37fb:b43d with SMTP id
 j8-20020a056e02218800b0036a37fbb43dmr21344949ila.15.1713351174496; 
 Wed, 17 Apr 2024 03:52:54 -0700 (PDT)
Received: from postal.iol.unh.edu (postal.iol.unh.edu.
 [2606:4100:3880:1234::84]) by smtp-relay.gmail.com with ESMTPS id
 j8-20020a056e02154800b00369f19b25a1sm777900ilu.3.2024.04.17.03.52.54
 (version=TLS1_2 cipher=ECDHE-ECDSA-AES128-GCM-SHA256 bits=128/128);
 Wed, 17 Apr 2024 03:52:54 -0700 (PDT)
X-Relaying-Domain: iol.unh.edu
Date: Wed, 17 Apr 2024 03:52:54 -0700 (PDT)
Message-ID: <661faa06.050a0220.654ce.4d3bSMTPIN_ADDED_MISSING@mx.google.com>
Received: from [172.21.0.6] (unknown [172.18.0.240])
 by postal.iol.unh.edu (Postfix) with ESMTP id F1B3E6052514;
 Wed, 17 Apr 2024 06:52:53 -0400 (EDT)
Subject: |SUCCESS| pw139436-139437 [PATCH] [RFC,2/2] ethdev: add data size fi
From: dpdklab@iol.unh.edu
To: Test Report <test-report@dpdk.org>
Cc: dpdk-test-reports@iol.unh.edu
In-Reply-To: <20240417072304.3260172-3-michaelba@nvidia.com>
References: <20240417072304.3260172-3-michaelba@nvidia.com>
Content-Type: text/plain
X-BeenThere: test-report@dpdk.org
X-Mailman-Version: 2.1.29
Precedence: list
List-Id: automatic DPDK test reports <test-report.dpdk.org>
List-Unsubscribe: <https://mails.dpdk.org/options/test-report>,
 <mailto:test-report-request@dpdk.org?subject=unsubscribe>
List-Archive: <http://mails.dpdk.org/archives/test-report/>
List-Post: <mailto:test-report@dpdk.org>
List-Help: <mailto:test-report-request@dpdk.org?subject=help>
List-Subscribe: <https://mails.dpdk.org/listinfo/test-report>,
 <mailto:test-report-request@dpdk.org?subject=subscribe>
Errors-To: test-report-bounces@dpdk.org

Test-Label: iol-abi-testing
Test-Status: SUCCESS
http://dpdk.org/patch/139437

_Testing PASS_

Submitter: Michael Baum <michaelba@nvidia.com>
Date: Wednesday, April 17 2024 07:23:04 
DPDK git baseline: Repo:dpdk
  Branch: master
  CommitID:ea9b0f7277acc931ced3fee4a3ee087a26ee1401

139436-139437 --> testing pass

Test environment and result as below:

+------------------+----------+
|   Environment    | abi_test |
+==================+==========+
| Fedora 38        | PASS     |
+------------------+----------+
| Debian Bullseye  | PASS     |
+------------------+----------+
| CentOS Stream 8  | PASS     |
+------------------+----------+
| Fedora 39        | PASS     |
+------------------+----------+
| CentOS Stream 9  | PASS     |
+------------------+----------+
| Fedora 37        | PASS     |
+------------------+----------+
| Debian 12        | PASS     |
+------------------+----------+
| Ubuntu 22.04     | PASS     |
+------------------+----------+
| openSUSE Leap 15 | PASS     |
+------------------+----------+
| RHEL8            | PASS     |
+------------------+----------+


Fedora 38
	Kernel: Depends on container host
	Compiler: clang 16.0.6

Debian Bullseye
	Kernel: 5.4.0-167-generic
	Compiler: gcc 10.2.1-6

CentOS Stream 8
	Kernel: 5.4.0-167-generic
	Compiler: gcc 8.5.0 20210514

Fedora 39
	Kernel: Depends on container host
	Compiler: clang 17.0.6

CentOS Stream 9
	Kernel: 5.4.0-167-generic
	Compiler: gcc 11.4.1 20230605

Fedora 37
	Kernel: Depends on container host system
	Compiler: gcc 12.3.1

Debian 12
	Kernel: Container Host Kernel
	Compiler: gcc 10.2.1

Ubuntu 22.04
	Kernel: 5.4.0-167-generic
	Compiler: gcc 11.4.0

openSUSE Leap 15
	Kernel: 5.4.0-167-generic
	Compiler: gcc 7.5.0

RHEL8
	Kernel: 5.4.0-167-generic
	Compiler: gcc 8.5.0 20210514 (Red Hat 8.5.0-20)

To view detailed results, visit:
https://lab.dpdk.org/results/dashboard/patchsets/29801/

UNH-IOL DPDK Community Lab

To manage your email subscriptions, visit: 
https://lab.dpdk.org/results/dashboard/preferences/subscriptions/