From mboxrd@z Thu Jan  1 00:00:00 1970
Return-Path: <test-report-bounces@dpdk.org>
Received: from mails.dpdk.org (mails.dpdk.org [217.70.189.124])
	by inbox.dpdk.org (Postfix) with ESMTP id 3756E43E91
	for <public@inbox.dpdk.org>; Wed, 17 Apr 2024 13:17:04 +0200 (CEST)
Received: from mails.dpdk.org (localhost [127.0.0.1])
	by mails.dpdk.org (Postfix) with ESMTP id 30530402AE;
	Wed, 17 Apr 2024 13:17:04 +0200 (CEST)
Received: from mail-io1-f100.google.com (mail-io1-f100.google.com
 [209.85.166.100])
 by mails.dpdk.org (Postfix) with ESMTP id 3FFA04029E
 for <test-report@dpdk.org>; Wed, 17 Apr 2024 13:17:02 +0200 (CEST)
Received: by mail-io1-f100.google.com with SMTP id
 ca18e2360f4ac-7d5e27eca85so245604839f.3
 for <test-report@dpdk.org>; Wed, 17 Apr 2024 04:17:02 -0700 (PDT)
DKIM-Signature: v=1; a=rsa-sha256; c=relaxed/relaxed;
 d=iol.unh.edu; s=unh-iol; t=1713352621; x=1713957421; darn=dpdk.org;
 h=references:in-reply-to:cc:to:from:subject:message-id:date:from:to
 :cc:subject:date:message-id:reply-to;
 bh=0X1fcacuvhArOv/kt4VRrj4LHqTcyThLieMWXEVjM1c=;
 b=WBVFtjj9aYDIY7MCqu0EKQZyc0+qeJKWqvESvxNnvdPOO5GM0Ck4WuzKv2jL55YPZm
 GfW0lg2acq0imMLAzNNA8lziVMMDz/7qWHipI27NVQixhBvydUGg224SRuU06DTU0G9K
 IBwc6CcJTegrc6WzXLW+wKNF1vw1ilBQzgSAk=
X-Google-DKIM-Signature: v=1; a=rsa-sha256; c=relaxed/relaxed;
 d=1e100.net; s=20230601; t=1713352621; x=1713957421;
 h=references:in-reply-to:cc:to:from:subject:message-id:date
 :x-gm-message-state:from:to:cc:subject:date:message-id:reply-to;
 bh=0X1fcacuvhArOv/kt4VRrj4LHqTcyThLieMWXEVjM1c=;
 b=ShGXIANd51dmJXCf7lgjYjusmVudDAmJV/Ms7OYRfowOMOKkDSPb1yC+Q46wseRGaQ
 67+o1CWvI8jkHUun6g5fal/OGC7gV5oq4HCgNay5+jv3LoRgQTNjCe6RN1f62HVMWQAt
 mg9VTiddMkCSEJpWfCbtoOYvTYa+DUvbmSqi5ePxTtKJ2Gb9aIuDVGrcmjDAMtqUHf1c
 1Kuo1Os69kA68ORNWmZKeTeLbMR5Kg0RSUZtQclWkTPkVOxxSB3yYAtRCtAYPedraty9
 QwNrF/YF2/FU+CWvCiyYYUks3M/B+oisDf437HM51Np4N4bpAto6PZ2UmiETPiP0ZblH
 4CHA==
X-Gm-Message-State: AOJu0YwM23o/VvDhNQ2Gm2dZ8sz0JBJrxDR2f69M/9laCvyD08g/u1dP
 1bnuq9zJhe40A25PmCc9cGqyramo3xvx4RnLdz+ODQ2D3xorBwFN/0yzm0h4MJay8fMd5cwhLta
 UOpVWUDykc8b5eY/sG9+RP+moTDx0x6wYQa9XPmOSk2c1PKSbDb2e3jys
X-Google-Smtp-Source: AGHT+IH8UWi381Bl351k5Iv0faZ2aqjSgW060qgNCgBPSNYDK2juv+ZA+4MMIy/8A4NAPpZ/bpcrWvP1m8u1
X-Received: by 2002:a05:6e02:1c02:b0:36b:1868:fab7 with SMTP id
 l2-20020a056e021c0200b0036b1868fab7mr13749721ilh.15.1713352621701; 
 Wed, 17 Apr 2024 04:17:01 -0700 (PDT)
Received: from postal.iol.unh.edu (postal.iol.unh.edu.
 [2606:4100:3880:1234::84]) by smtp-relay.gmail.com with ESMTPS id
 je8-20020a0566388a0800b00482ced30fe9sm694384jab.77.2024.04.17.04.17.01
 (version=TLS1_2 cipher=ECDHE-ECDSA-AES128-GCM-SHA256 bits=128/128);
 Wed, 17 Apr 2024 04:17:01 -0700 (PDT)
X-Relaying-Domain: iol.unh.edu
Date: Wed, 17 Apr 2024 04:17:01 -0700 (PDT)
Message-ID: <661fafad.050a0220.13f71.156cSMTPIN_ADDED_MISSING@mx.google.com>
Received: from [172.17.0.3] (unknown [172.18.0.217])
 by postal.iol.unh.edu (Postfix) with ESMTP id 5A0616052514;
 Wed, 17 Apr 2024 07:17:01 -0400 (EDT)
Subject: |SUCCESS| pw139438-139444 [PATCH] [v2,7/7] dma/odm: add remaining op
From: dpdklab@iol.unh.edu
To: Test Report <test-report@dpdk.org>
Cc: dpdk-test-reports@iol.unh.edu
In-Reply-To: <20240417072708.322-8-anoobj@marvell.com>
References: <20240417072708.322-8-anoobj@marvell.com>
Content-Type: text/plain
X-BeenThere: test-report@dpdk.org
X-Mailman-Version: 2.1.29
Precedence: list
List-Id: automatic DPDK test reports <test-report.dpdk.org>
List-Unsubscribe: <https://mails.dpdk.org/options/test-report>,
 <mailto:test-report-request@dpdk.org?subject=unsubscribe>
List-Archive: <http://mails.dpdk.org/archives/test-report/>
List-Post: <mailto:test-report@dpdk.org>
List-Help: <mailto:test-report-request@dpdk.org?subject=help>
List-Subscribe: <https://mails.dpdk.org/listinfo/test-report>,
 <mailto:test-report-request@dpdk.org?subject=subscribe>
Errors-To: test-report-bounces@dpdk.org

Test-Label: iol-unit-amd64-testing
Test-Status: SUCCESS
http://dpdk.org/patch/139444

_Testing PASS_

Submitter: Anoob Joseph <anoobj@marvell.com>
Date: Wednesday, April 17 2024 07:27:08 
DPDK git baseline: Repo:dpdk
  Branch: master
  CommitID:e2e546ab5bf5e024986ccb5310ab43982f3bb40c

139438-139444 --> testing pass

Test environment and result as below:

+---------------------+----------------+
|     Environment     | dpdk_unit_test |
+=====================+================+
| Windows Server 2019 | PASS           |
+---------------------+----------------+
| Windows Server 2022 | PASS           |
+---------------------+----------------+
| CentOS Stream 8     | PASS           |
+---------------------+----------------+
| Debian 12           | PASS           |
+---------------------+----------------+
| Debian Bullseye     | PASS           |
+---------------------+----------------+
| Fedora 38           | PASS           |
+---------------------+----------------+
| Fedora 37           | PASS           |
+---------------------+----------------+
| RHEL8               | PASS           |
+---------------------+----------------+
| Fedora 39           | PASS           |
+---------------------+----------------+
| Ubuntu 20.04        | PASS           |
+---------------------+----------------+
| Ubuntu 22.04        | PASS           |
+---------------------+----------------+


Windows Server 2019
	Kernel: 10.0.17763
	Compiler: clang 14.0 and gcc 8.1.0 (MinGW)

Windows Server 2022
	Kernel: 10.0.20348.2031
	Compiler: clang 15.0.7, gcc 8.1.0 (MinGW), and MSVC VS 17.9

CentOS Stream 8
	Kernel: 5.4.0-167-generic
	Compiler: gcc 8.5.0 20210514

Debian 12
	Kernel: Container Host Kernel
	Compiler: gcc 10.2.1

Debian Bullseye
	Kernel: 5.4.0-167-generic
	Compiler: gcc 10.2.1-6

Fedora 38
	Kernel: Depends on container host
	Compiler: gcc 13.2.1

Fedora 37
	Kernel: Depends on container host system
	Compiler: gcc 12.3.1

RHEL8
	Kernel: 5.4.0-167-generic
	Compiler: gcc 8.5.0 20210514 (Red Hat 8.5.0-20)

Fedora 39
	Kernel: Depends on container host
	Compiler: gcc 13.2.1

Ubuntu 20.04
	Kernel: 5.4.0-167-generic
	Compiler: gcc 9.4.0-1ubuntu1~20.04.1

Ubuntu 22.04
	Kernel: 5.4.0-167-generic
	Compiler: gcc 11.4.0

To view detailed results, visit:
https://lab.dpdk.org/results/dashboard/patchsets/29802/

UNH-IOL DPDK Community Lab

To manage your email subscriptions, visit: 
https://lab.dpdk.org/results/dashboard/preferences/subscriptions/