From mboxrd@z Thu Jan  1 00:00:00 1970
Return-Path: <test-report-bounces@dpdk.org>
Received: from mails.dpdk.org (mails.dpdk.org [217.70.189.124])
	by inbox.dpdk.org (Postfix) with ESMTP id 63C5243E91
	for <public@inbox.dpdk.org>; Wed, 17 Apr 2024 13:38:21 +0200 (CEST)
Received: from mails.dpdk.org (localhost [127.0.0.1])
	by mails.dpdk.org (Postfix) with ESMTP id 46A03402AE;
	Wed, 17 Apr 2024 13:38:21 +0200 (CEST)
Received: from mail-vs1-f98.google.com (mail-vs1-f98.google.com
 [209.85.217.98]) by mails.dpdk.org (Postfix) with ESMTP id D4A814029E
 for <test-report@dpdk.org>; Wed, 17 Apr 2024 13:38:20 +0200 (CEST)
Received: by mail-vs1-f98.google.com with SMTP id
 ada2fe7eead31-47a21267aa8so2062186137.3
 for <test-report@dpdk.org>; Wed, 17 Apr 2024 04:38:20 -0700 (PDT)
DKIM-Signature: v=1; a=rsa-sha256; c=relaxed/relaxed;
 d=iol.unh.edu; s=unh-iol; t=1713353900; x=1713958700; darn=dpdk.org;
 h=references:in-reply-to:cc:to:from:subject:message-id:date:from:to
 :cc:subject:date:message-id:reply-to;
 bh=Q+lL8KYsTB79A9mqdWICyaWbSLKSl575q+VMsFcH70A=;
 b=iHmcMUmGKcXqyqaS4X6McsKlYXzlEYb4KF6Jdq2taRADdAsZiQmiVaqqaLNnp0jq3I
 uXja77wTAoSJVm5TJWyPthHiSAGj3d/nRGxDCzRzjATCmbqF3JUDmBCsqvRNnMX12Jxh
 XzMi8nlfegkewB14NUAoUmZLdbHmISMdawi8I=
X-Google-DKIM-Signature: v=1; a=rsa-sha256; c=relaxed/relaxed;
 d=1e100.net; s=20230601; t=1713353900; x=1713958700;
 h=references:in-reply-to:cc:to:from:subject:message-id:date
 :x-gm-message-state:from:to:cc:subject:date:message-id:reply-to;
 bh=Q+lL8KYsTB79A9mqdWICyaWbSLKSl575q+VMsFcH70A=;
 b=GogQI4mt+R9EJYzycsdib5mzas++SK01oUN84fQixHK2xgWgF6IDm1a+ZAXkV3x44a
 KeFXMpVWIS2/sOKo7PYHLRyRynqvAJvKDN8VnRYbXIqotIOWMzdHv8Hc6qL60TZ5NpYq
 2dP30Qn8YwiNVElXiaFmIj5YVbBfb1vn3q5mXWYTaBUT4bIy7shdSRS+kIGehArT+8Hx
 byeeaPzNyw+l9TweGrnWi5JJJvB6asoU0FOJw+HY/3/GiPswl1PIvNbvUHzblcDRqMmm
 24syKi1BVJ93H2+iHLp4vmNRvf8Vyw4ZpQdzu3k8j6o8FVfyDI96FpuMboenM9ssugnW
 SqcQ==
X-Gm-Message-State: AOJu0YxkGfc6SfbIC81Ol2H9fB7De9TQb/0jtmA6hOeXlc+Yj2vt1L2b
 wj4Fyqwr7rBTEQuGKXTK8fRAok2esFzfCBEMV2PEcRqesG+iHBSxsdtsoXsDlgROOkaQTbATQzn
 F2KYf755yuyLh1j+s80WGe1iMJExhk3MRlh0+XiYv
X-Google-Smtp-Source: AGHT+IGJ398t21Yh/ylxJnhGASth4V6fOLcuLGg7wumUHjy8GA8rMkgLTQMBAmNN0NWu5HLRSTQXqIqp9ITC
X-Received: by 2002:a05:6122:901:b0:4d8:6ae0:36a6 with SMTP id
 j1-20020a056122090100b004d86ae036a6mr13977835vka.3.1713353900166; 
 Wed, 17 Apr 2024 04:38:20 -0700 (PDT)
Received: from postal.iol.unh.edu (postal.iol.unh.edu. [132.177.123.84])
 by smtp-relay.gmail.com with ESMTPS id
 j15-20020a056122218f00b004da963ef76csm808841vkd.7.2024.04.17.04.38.20
 (version=TLS1_2 cipher=ECDHE-ECDSA-AES128-GCM-SHA256 bits=128/128);
 Wed, 17 Apr 2024 04:38:20 -0700 (PDT)
X-Relaying-Domain: iol.unh.edu
Date: Wed, 17 Apr 2024 04:38:20 -0700 (PDT)
Message-ID: <661fb4ac.050a0220.b3f0f.3e5eSMTPIN_ADDED_MISSING@mx.google.com>
Received: from [172.21.0.6] (unknown [172.18.0.240])
 by postal.iol.unh.edu (Postfix) with ESMTP id BC3AD6052514;
 Wed, 17 Apr 2024 07:38:19 -0400 (EDT)
Subject: |SUCCESS| pw139438-139444 [PATCH] [v2,7/7] dma/odm: add remaining op
From: dpdklab@iol.unh.edu
To: Test Report <test-report@dpdk.org>
Cc: dpdk-test-reports@iol.unh.edu
In-Reply-To: <20240417072708.322-8-anoobj@marvell.com>
References: <20240417072708.322-8-anoobj@marvell.com>
Content-Type: text/plain
X-BeenThere: test-report@dpdk.org
X-Mailman-Version: 2.1.29
Precedence: list
List-Id: automatic DPDK test reports <test-report.dpdk.org>
List-Unsubscribe: <https://mails.dpdk.org/options/test-report>,
 <mailto:test-report-request@dpdk.org?subject=unsubscribe>
List-Archive: <http://mails.dpdk.org/archives/test-report/>
List-Post: <mailto:test-report@dpdk.org>
List-Help: <mailto:test-report-request@dpdk.org?subject=help>
List-Subscribe: <https://mails.dpdk.org/listinfo/test-report>,
 <mailto:test-report-request@dpdk.org?subject=subscribe>
Errors-To: test-report-bounces@dpdk.org

Test-Label: iol-unit-amd64-testing
Test-Status: SUCCESS
http://dpdk.org/patch/139444

_Testing PASS_

Submitter: Anoob Joseph <anoobj@marvell.com>
Date: Wednesday, April 17 2024 07:27:08 
DPDK git baseline: Repo:dpdk
  Branch: master
  CommitID:e2e546ab5bf5e024986ccb5310ab43982f3bb40c

139438-139444 --> testing pass

Test environment and result as below:

+---------------------+----------------+
|     Environment     | dpdk_unit_test |
+=====================+================+
| Windows Server 2019 | PASS           |
+---------------------+----------------+
| Windows Server 2022 | PASS           |
+---------------------+----------------+
| CentOS Stream 8     | PASS           |
+---------------------+----------------+
| Debian 12           | PASS           |
+---------------------+----------------+
| Debian Bullseye     | PASS           |
+---------------------+----------------+
| Fedora 38           | PASS           |
+---------------------+----------------+
| Fedora 37           | PASS           |
+---------------------+----------------+
| RHEL8               | PASS           |
+---------------------+----------------+
| Fedora 39           | PASS           |
+---------------------+----------------+
| Ubuntu 20.04        | PASS           |
+---------------------+----------------+
| Ubuntu 22.04        | PASS           |
+---------------------+----------------+
| CentOS Stream 9     | PASS           |
+---------------------+----------------+
| openSUSE Leap 15    | PASS           |
+---------------------+----------------+


Windows Server 2019
	Kernel: 10.0.17763
	Compiler: clang 14.0 and gcc 8.1.0 (MinGW)

Windows Server 2022
	Kernel: 10.0.20348.2031
	Compiler: clang 15.0.7, gcc 8.1.0 (MinGW), and MSVC VS 17.9

CentOS Stream 8
	Kernel: 5.4.0-167-generic
	Compiler: gcc 8.5.0 20210514

Debian 12
	Kernel: Container Host Kernel
	Compiler: gcc 10.2.1

Debian Bullseye
	Kernel: 5.4.0-167-generic
	Compiler: gcc 10.2.1-6

Fedora 38
	Kernel: Depends on container host
	Compiler: gcc 13.2.1

Fedora 37
	Kernel: Depends on container host system
	Compiler: gcc 12.3.1

RHEL8
	Kernel: 5.4.0-167-generic
	Compiler: gcc 8.5.0 20210514 (Red Hat 8.5.0-20)

Fedora 39
	Kernel: Depends on container host
	Compiler: gcc 13.2.1

Ubuntu 20.04
	Kernel: 5.4.0-167-generic
	Compiler: gcc 9.4.0-1ubuntu1~20.04.1

Ubuntu 22.04
	Kernel: 5.4.0-167-generic
	Compiler: gcc 11.4.0

CentOS Stream 9
	Kernel: 5.4.0-167-generic
	Compiler: gcc 11.4.1 20230605

openSUSE Leap 15
	Kernel: 5.4.0-167-generic
	Compiler: gcc 7.5.0

To view detailed results, visit:
https://lab.dpdk.org/results/dashboard/patchsets/29802/

UNH-IOL DPDK Community Lab

To manage your email subscriptions, visit: 
https://lab.dpdk.org/results/dashboard/preferences/subscriptions/