From mboxrd@z Thu Jan  1 00:00:00 1970
Return-Path: <test-report-bounces@dpdk.org>
Received: from mails.dpdk.org (mails.dpdk.org [217.70.189.124])
	by inbox.dpdk.org (Postfix) with ESMTP id 8BEA943E91
	for <public@inbox.dpdk.org>; Wed, 17 Apr 2024 13:40:12 +0200 (CEST)
Received: from mails.dpdk.org (localhost [127.0.0.1])
	by mails.dpdk.org (Postfix) with ESMTP id 87A0B402AE;
	Wed, 17 Apr 2024 13:40:12 +0200 (CEST)
Received: from mail-ua1-f100.google.com (mail-ua1-f100.google.com
 [209.85.222.100])
 by mails.dpdk.org (Postfix) with ESMTP id 951284029E
 for <test-report@dpdk.org>; Wed, 17 Apr 2024 13:40:10 +0200 (CEST)
Received: by mail-ua1-f100.google.com with SMTP id
 a1e0cc1a2514c-7eb89aa9176so374610241.3
 for <test-report@dpdk.org>; Wed, 17 Apr 2024 04:40:10 -0700 (PDT)
DKIM-Signature: v=1; a=rsa-sha256; c=relaxed/relaxed;
 d=iol.unh.edu; s=unh-iol; t=1713354010; x=1713958810; darn=dpdk.org;
 h=references:in-reply-to:cc:to:from:subject:message-id:date:from:to
 :cc:subject:date:message-id:reply-to;
 bh=Jf7lM6D/Rm84Md2VLvKZp2iExrLldVrub5B8o6idYRU=;
 b=YhnXUF8nhwgseHYEmwGJYdoY3ZsecsHuPEtSMHgkF252ZbRw8aophrQynCTi1+mUZ7
 WDoy5yBW3mMMmuKD6chy9f3OIbcLQamfLbyRtBsmDfjGePO/Pc5pdT7ypdiGq+pOUwht
 2pSB16A4dUM4u1J9mrD13tkTLvQK0hlbMmmHA=
X-Google-DKIM-Signature: v=1; a=rsa-sha256; c=relaxed/relaxed;
 d=1e100.net; s=20230601; t=1713354010; x=1713958810;
 h=references:in-reply-to:cc:to:from:subject:message-id:date
 :x-gm-message-state:from:to:cc:subject:date:message-id:reply-to;
 bh=Jf7lM6D/Rm84Md2VLvKZp2iExrLldVrub5B8o6idYRU=;
 b=miRC1DtupPhinvW6hxSPQPDsErDDfCAZJElZdU30EDxUOL4nDsTU/TvDZzKipERko7
 ykmu2yjfU8XdcLoMbNmFNnaI5MCqqfhTjNGyXDI4Xue3AoANOdTI4tiSmHscaYPX0DeD
 pNPFFoEe8suUFramqPqmEPvAJli9RtYB17XI4BOVo71ndicpA76SD4aOYdqIFFsEFgpg
 yGbsJ3wrXwFOghmLqF/LryvyRQP/gc52MlLsdS85LwRX8LGrIFDjbSrrz9DeEKyQ8sgh
 uHiyBiCzRbJEfTZCpUmd8iOImymzE6fNsPicc2DL2ZfOd45CPKlefaO966WD31zGGvv+
 LLhQ==
X-Gm-Message-State: AOJu0Yxzuy2gkcM+qwdZAm1bS4frM6XTpTJiax9cPhCH/aVIKZxi9LG/
 XGaAc+KEKubLSWIBz+lk1t+SlrR3o9zc5v25vh2PnhRdHzgnV2DHjzEpVLCZ4LAIxF8H8lZtKo5
 beR/jAmdJXcJFe+HaHjMvuuw+PA293/qmPfwunKhy
X-Google-Smtp-Source: AGHT+IFHkdBCBBV3CeR/ESnqpohIBhFP/oHIzCeLMCyvrqCWIeUroVgRq9ItKDURx4oA/avBkfp1rQlYZhsf
X-Received: by 2002:a05:6122:882:b0:4c8:90e5:6792 with SMTP id
 2-20020a056122088200b004c890e56792mr15812259vkf.7.1713354009953; 
 Wed, 17 Apr 2024 04:40:09 -0700 (PDT)
Received: from postal.iol.unh.edu (postal.iol.unh.edu. [132.177.123.84])
 by smtp-relay.gmail.com with ESMTPS id
 fy2-20020a0561223c8200b004daabb1429csm887371vkb.0.2024.04.17.04.40.09
 (version=TLS1_2 cipher=ECDHE-ECDSA-AES128-GCM-SHA256 bits=128/128);
 Wed, 17 Apr 2024 04:40:09 -0700 (PDT)
X-Relaying-Domain: iol.unh.edu
Date: Wed, 17 Apr 2024 04:40:09 -0700 (PDT)
Message-ID: <661fb519.050a0220.f7b41.81a1SMTPIN_ADDED_MISSING@mx.google.com>
Received: from [172.21.0.6] (unknown [172.18.0.240])
 by postal.iol.unh.edu (Postfix) with ESMTP id 981706052514;
 Wed, 17 Apr 2024 07:40:09 -0400 (EDT)
Subject: |SUCCESS| pw139438-139444 [PATCH] [v2,7/7] dma/odm: add remaining op
From: dpdklab@iol.unh.edu
To: Test Report <test-report@dpdk.org>
Cc: dpdk-test-reports@iol.unh.edu
In-Reply-To: <20240417072708.322-8-anoobj@marvell.com>
References: <20240417072708.322-8-anoobj@marvell.com>
Content-Type: text/plain
X-BeenThere: test-report@dpdk.org
X-Mailman-Version: 2.1.29
Precedence: list
List-Id: automatic DPDK test reports <test-report.dpdk.org>
List-Unsubscribe: <https://mails.dpdk.org/options/test-report>,
 <mailto:test-report-request@dpdk.org?subject=unsubscribe>
List-Archive: <http://mails.dpdk.org/archives/test-report/>
List-Post: <mailto:test-report@dpdk.org>
List-Help: <mailto:test-report-request@dpdk.org?subject=help>
List-Subscribe: <https://mails.dpdk.org/listinfo/test-report>,
 <mailto:test-report-request@dpdk.org?subject=subscribe>
Errors-To: test-report-bounces@dpdk.org

Test-Label: iol-compile-arm64-testing
Test-Status: SUCCESS
http://dpdk.org/patch/139444

_Testing PASS_

Submitter: Anoob Joseph <anoobj@marvell.com>
Date: Wednesday, April 17 2024 07:27:08 
DPDK git baseline: Repo:dpdk
  Branch: master
  CommitID:e2e546ab5bf5e024986ccb5310ab43982f3bb40c

139438-139444 --> testing pass

Test environment and result as below:

+----------------------------------------+--------------------+
|              Environment               | dpdk_meson_compile |
+========================================+====================+
| Ubuntu 20.04 ARM SVE                   | PASS               |
+----------------------------------------+--------------------+
| Fedora 37 (ARM)                        | PASS               |
+----------------------------------------+--------------------+
| Debian 12 with MUSDK                   | PASS               |
+----------------------------------------+--------------------+
| Fedora 39 (ARM)                        | PASS               |
+----------------------------------------+--------------------+
| Debian 11 (Buster) (ARM)               | PASS               |
+----------------------------------------+--------------------+
| Debian 12 (arm)                        | PASS               |
+----------------------------------------+--------------------+
| Ubuntu 20.04 (ARM)                     | PASS               |
+----------------------------------------+--------------------+
| CentOS Stream 9 (ARM)                  | PASS               |
+----------------------------------------+--------------------+
| Fedora 38 (ARM)                        | PASS               |
+----------------------------------------+--------------------+
| Ubuntu 20.04 ARM Clang Cross Compile   | PASS               |
+----------------------------------------+--------------------+
| Ubuntu 20.04 aarch32 GCC Cross Compile | PASS               |
+----------------------------------------+--------------------+


Ubuntu 20.04 ARM SVE
	Kernel: 5.4.0-167-generic
	Compiler: gcc (Ubuntu 10.5.0-1ubuntu1~20.04) 10.5.0

Fedora 37 (ARM)
	Kernel: Depends on container host
	Compiler: gcc 12.3.1

Debian 12 with MUSDK
	Kernel: Container Host Kernel
	Compiler: gcc 12.2.0

Fedora 39 (ARM)
	Kernel: Depends on container host
	Compiler: gcc 13.2.1

Debian 11 (Buster) (ARM)
	Kernel: Container Host Kernel
	Compiler: gcc 10.2.1

Debian 12 (arm)
	Kernel: Container Host Kernel
	Compiler: gcc 12.2.0

Ubuntu 20.04 (ARM)
	Kernel: Container Host Kernel
	Compiler: gcc 9.4.0

CentOS Stream 9 (ARM)
	Kernel: Container Host Kernel
	Compiler: gcc 11.4.1

Fedora 38 (ARM)
	Kernel: Depends on container host
	Compiler: gcc 13.2.1

Ubuntu 20.04 ARM Clang Cross Compile
	Kernel: 5.4.0-72-generic
	Compiler: clang 10.0.0-4ubuntu1

Ubuntu 20.04 aarch32 GCC Cross Compile
	Kernel: 5.4.0-167-generic
	Compiler: gcc 9.4.0

To view detailed results, visit:
https://lab.dpdk.org/results/dashboard/patchsets/29802/

UNH-IOL DPDK Community Lab

To manage your email subscriptions, visit: 
https://lab.dpdk.org/results/dashboard/preferences/subscriptions/