From mboxrd@z Thu Jan  1 00:00:00 1970
Return-Path: <test-report-bounces@dpdk.org>
Received: from mails.dpdk.org (mails.dpdk.org [217.70.189.124])
	by inbox.dpdk.org (Postfix) with ESMTP id D50A643E91
	for <public@inbox.dpdk.org>; Wed, 17 Apr 2024 13:40:52 +0200 (CEST)
Received: from mails.dpdk.org (localhost [127.0.0.1])
	by mails.dpdk.org (Postfix) with ESMTP id C9D81402AE;
	Wed, 17 Apr 2024 13:40:52 +0200 (CEST)
Received: from mail-pg1-f226.google.com (mail-pg1-f226.google.com
 [209.85.215.226])
 by mails.dpdk.org (Postfix) with ESMTP id 936674029E
 for <test-report@dpdk.org>; Wed, 17 Apr 2024 13:40:51 +0200 (CEST)
Received: by mail-pg1-f226.google.com with SMTP id
 41be03b00d2f7-5d3907ff128so4317373a12.3
 for <test-report@dpdk.org>; Wed, 17 Apr 2024 04:40:51 -0700 (PDT)
DKIM-Signature: v=1; a=rsa-sha256; c=relaxed/relaxed;
 d=iol.unh.edu; s=unh-iol; t=1713354051; x=1713958851; darn=dpdk.org;
 h=references:in-reply-to:cc:to:from:subject:message-id:date:from:to
 :cc:subject:date:message-id:reply-to;
 bh=9jBEyCJPFFkBWPCT0hWvaS8EcftoLD9sz/hw6oy2DqE=;
 b=TBKHiM3LfQdLIhIenlxN9qvluzbCKxsV7jV60lCyaN4kyFXZTmyl6t1y2u6F3WIbr8
 PLMIr1nRzeVnLq2+YWdUNIEiFT1NBnS2upbBUbrdTTum4v1od4lEwqjFL2sCDFDIF5Lb
 cSpk8w3XAQt+u7Y56zjGTj1PZDbDa3dLk9wS8=
X-Google-DKIM-Signature: v=1; a=rsa-sha256; c=relaxed/relaxed;
 d=1e100.net; s=20230601; t=1713354051; x=1713958851;
 h=references:in-reply-to:cc:to:from:subject:message-id:date
 :x-gm-message-state:from:to:cc:subject:date:message-id:reply-to;
 bh=9jBEyCJPFFkBWPCT0hWvaS8EcftoLD9sz/hw6oy2DqE=;
 b=Tbp78EUG/JEFx4DghSXsgVaNi5bHTivKlmw40AtPnXda9fDTh8ZTZ7T7GKLdi29L88
 i+2J5HbrbtsqoWZEZ+wgVi80+9U6nDNAHesP9GU+peu/A2yxeayw/bMNCxYiMJLuIC+x
 SCnekHyWpF2nsKCrQuG0zqsvL3E4XwNaHAsN6E/2QZ/zDVVnjcrXLgvEK5xP1QCVPDuO
 P/TtfNVY5yZVeXZshOJFigr0k4Q3MghZIa8I8Tq9Pzhx/d8/O5z/8pT6hLe5wdytE4Yr
 5DQ/Wi8JRzz3pVoyXtnlMNIco+WeiV/uFMg8gDY3js96Enig3hZ1N4f0OUvFi9VoGj3M
 eWIA==
X-Gm-Message-State: AOJu0YzovbqwqvDai9HQnYEr7E97LQgNskJFxmacKyUsxVbIbUPg0Fl3
 a3LxwEpnR3fNPdJ8Ay95K39THvcQXUjkRUiytpHwCJxTL99B6tv7sMBQA7Cqpi1ivGK+1T9e1vG
 VmHhb7cvgpZmHOWMcCr0R/ZZ/8aaLNAaTiTO5aaiLUavpH4GmX7yzHg9f
X-Google-Smtp-Source: AGHT+IF+NrPllqwCDpLUca6Ya03cGWMwcGnf/Ai1IXd2NPvfF2l1N8tpbMMD4VQo/Hv9qZ8MMePHpMme8jGr
X-Received: by 2002:a17:90a:f2ce:b0:2a2:e183:6306 with SMTP id
 gt14-20020a17090af2ce00b002a2e1836306mr14479710pjb.45.1713354050672; 
 Wed, 17 Apr 2024 04:40:50 -0700 (PDT)
Received: from postal.iol.unh.edu (postal.iol.unh.edu.
 [2606:4100:3880:1234::84]) by smtp-relay.gmail.com with ESMTPS id
 bv18-20020a17090af19200b002a258357b04sm82545pjb.16.2024.04.17.04.40.50
 (version=TLS1_2 cipher=ECDHE-ECDSA-AES128-GCM-SHA256 bits=128/128);
 Wed, 17 Apr 2024 04:40:50 -0700 (PDT)
X-Relaying-Domain: iol.unh.edu
Date: Wed, 17 Apr 2024 04:40:50 -0700 (PDT)
Message-ID: <661fb542.170a0220.424d2.5595SMTPIN_ADDED_MISSING@mx.google.com>
Received: from [172.21.0.6] (unknown [172.18.0.240])
 by postal.iol.unh.edu (Postfix) with ESMTP id 175C96052514;
 Wed, 17 Apr 2024 07:40:50 -0400 (EDT)
Subject: |SUCCESS| pw139436-139437 [PATCH] [RFC,2/2] ethdev: add data size fi
From: dpdklab@iol.unh.edu
To: Test Report <test-report@dpdk.org>
Cc: dpdk-test-reports@iol.unh.edu
In-Reply-To: <20240417072304.3260172-3-michaelba@nvidia.com>
References: <20240417072304.3260172-3-michaelba@nvidia.com>
Content-Type: text/plain
X-BeenThere: test-report@dpdk.org
X-Mailman-Version: 2.1.29
Precedence: list
List-Id: automatic DPDK test reports <test-report.dpdk.org>
List-Unsubscribe: <https://mails.dpdk.org/options/test-report>,
 <mailto:test-report-request@dpdk.org?subject=unsubscribe>
List-Archive: <http://mails.dpdk.org/archives/test-report/>
List-Post: <mailto:test-report@dpdk.org>
List-Help: <mailto:test-report-request@dpdk.org?subject=help>
List-Subscribe: <https://mails.dpdk.org/listinfo/test-report>,
 <mailto:test-report-request@dpdk.org?subject=subscribe>
Errors-To: test-report-bounces@dpdk.org

Test-Label: iol-unit-arm64-testing
Test-Status: SUCCESS
http://dpdk.org/patch/139437

_Testing PASS_

Submitter: Michael Baum <michaelba@nvidia.com>
Date: Wednesday, April 17 2024 07:23:04 
DPDK git baseline: Repo:dpdk
  Branch: master
  CommitID:ea9b0f7277acc931ced3fee4a3ee087a26ee1401

139436-139437 --> testing pass

Test environment and result as below:

+-----------------------------+----------------+
|         Environment         | dpdk_unit_test |
+=============================+================+
| Debian 12 (arm)             | PASS           |
+-----------------------------+----------------+
| Fedora 37 (ARM)             | PASS           |
+-----------------------------+----------------+
| Debian 11 (Buster) (ARM)    | PASS           |
+-----------------------------+----------------+
| CentOS Stream 9 (ARM)       | PASS           |
+-----------------------------+----------------+
| 32-bit Ubuntu 20.04.4 (ARM) | PASS           |
+-----------------------------+----------------+
| Fedora 38 (ARM)             | PASS           |
+-----------------------------+----------------+
| Fedora 38 (ARM Clang)       | PASS           |
+-----------------------------+----------------+


Debian 12 (arm)
	Kernel: Container Host Kernel
	Compiler: gcc 12.2.0

Fedora 37 (ARM)
	Kernel: Depends on container host
	Compiler: gcc 12.3.1

Debian 11 (Buster) (ARM)
	Kernel: Container Host Kernel
	Compiler: gcc 10.2.1

CentOS Stream 9 (ARM)
	Kernel: Container Host Kernel
	Compiler: gcc 11.4.1

32-bit Ubuntu 20.04.4 (ARM)
	Kernel: 5.4.0-155-generic aarch64
	Compiler: gcc 9.4

Fedora 38 (ARM)
	Kernel: Depends on container host
	Compiler: gcc 13.2.1

Fedora 38 (ARM Clang)
	Kernel: Depends on container host
	Compiler: clang 16.0.6

To view detailed results, visit:
https://lab.dpdk.org/results/dashboard/patchsets/29801/

UNH-IOL DPDK Community Lab

To manage your email subscriptions, visit: 
https://lab.dpdk.org/results/dashboard/preferences/subscriptions/