From mboxrd@z Thu Jan  1 00:00:00 1970
Return-Path: <test-report-bounces@dpdk.org>
Received: from mails.dpdk.org (mails.dpdk.org [217.70.189.124])
	by inbox.dpdk.org (Postfix) with ESMTP id 59D9243E92
	for <public@inbox.dpdk.org>; Wed, 17 Apr 2024 14:07:48 +0200 (CEST)
Received: from mails.dpdk.org (localhost [127.0.0.1])
	by mails.dpdk.org (Postfix) with ESMTP id 55D86402AE;
	Wed, 17 Apr 2024 14:07:48 +0200 (CEST)
Received: from mail-il1-f228.google.com (mail-il1-f228.google.com
 [209.85.166.228])
 by mails.dpdk.org (Postfix) with ESMTP id 8B6F24029E
 for <test-report@dpdk.org>; Wed, 17 Apr 2024 14:07:47 +0200 (CEST)
Received: by mail-il1-f228.google.com with SMTP id
 e9e14a558f8ab-36b3b323151so355565ab.2
 for <test-report@dpdk.org>; Wed, 17 Apr 2024 05:07:47 -0700 (PDT)
DKIM-Signature: v=1; a=rsa-sha256; c=relaxed/relaxed;
 d=iol.unh.edu; s=unh-iol; t=1713355667; x=1713960467; darn=dpdk.org;
 h=references:in-reply-to:cc:to:from:subject:message-id:date:from:to
 :cc:subject:date:message-id:reply-to;
 bh=3UULkjz9HZp9Wr8fR7Y0QVzR3P2z6wJIgmjf3qXtXE8=;
 b=fynZidpZ5qEFotorTBY5g+heHzRLEDBipvEtuuunv0ZAKVY8x5lJgGZhp8TD9U93vi
 EDcQSmt5cAGnGW5NkixHwX3ZUTo/7c4vp7eaU6fm/iJNTcn8z7cqeRsCQymrE9jYMweK
 M5NDG8ItHUv8Q2veGhEjoQDn8byAT9Mw1Rz44=
X-Google-DKIM-Signature: v=1; a=rsa-sha256; c=relaxed/relaxed;
 d=1e100.net; s=20230601; t=1713355667; x=1713960467;
 h=references:in-reply-to:cc:to:from:subject:message-id:date
 :x-gm-message-state:from:to:cc:subject:date:message-id:reply-to;
 bh=3UULkjz9HZp9Wr8fR7Y0QVzR3P2z6wJIgmjf3qXtXE8=;
 b=sBfMj2qyyUvVhzJWXAuDZ8SgY1mpA8h9oGuej30KgXr6UZgYSwIyVC3wR3LEYSvDq0
 YQsvg6lVM+Vdz5V7qkZ/WF46NC8nOjwkxvwjNAWHljeGXYjA0/jCmoA/RXwWFmbUCoPV
 hrBV+W9nasP/a0USs1ECM4yO0NyfK7cISMvEMlsbRLBr0W0lAVshut6t6ClsQmJXP/8J
 cYllWzoTXhdJe/+DG0TFc8/xiKXytwiSSFZNmT39nWulWE4XMeWkxnQ2HE671IJ4/7ll
 ikP+rx9DP4zhNsQ0uFUqZ9IbycJg0tI/qkuGw8xx3ZKnLrRmzzJVe/upJ9hVrTFb9yoG
 kkmg==
X-Gm-Message-State: AOJu0YzBxpmVmna6lB+xqXMihexmuth95OAujbPXyCI8pCVSn9ndAi87
 5UW7POUTL7vQaQJ2KESmT3U8SgmAO9EwV700WwdwbfUxBO/apbRz5l5aCUay83mDfDf8jG7WXRJ
 rhOVjGw4uorzt2gqOi2n+4T7U0HpZbwlTXZA8laDb
X-Google-Smtp-Source: AGHT+IEoCi2J2pWJHH3RD2RjiTTe3SBA177bGP+Pk4djt0siNxGMSo2KyQ+55hJC0Pu/N2/ifFJqqF9kdPth
X-Received: by 2002:a05:6e02:1c4c:b0:36a:1e55:5358 with SMTP id
 d12-20020a056e021c4c00b0036a1e555358mr18385719ilg.18.1713355666969; 
 Wed, 17 Apr 2024 05:07:46 -0700 (PDT)
Received: from postal.iol.unh.edu (postal.iol.unh.edu. [132.177.123.84])
 by smtp-relay.gmail.com with ESMTPS id
 c2-20020a92d3c2000000b0036b3157fd90sm116205ilh.26.2024.04.17.05.07.46
 (version=TLS1_2 cipher=ECDHE-ECDSA-AES128-GCM-SHA256 bits=128/128);
 Wed, 17 Apr 2024 05:07:46 -0700 (PDT)
X-Relaying-Domain: iol.unh.edu
Date: Wed, 17 Apr 2024 05:07:46 -0700 (PDT)
Message-ID: <661fbb92.920a0220.b47a0.64cfSMTPIN_ADDED_MISSING@mx.google.com>
Received: from [172.21.0.7] (unknown [172.18.0.240])
 by postal.iol.unh.edu (Postfix) with ESMTP id 8A7C36052514;
 Wed, 17 Apr 2024 08:07:46 -0400 (EDT)
Subject: |SUCCESS| pw139436-139437 [PATCH] [RFC,2/2] ethdev: add data size fi
From: dpdklab@iol.unh.edu
To: Test Report <test-report@dpdk.org>
Cc: dpdk-test-reports@iol.unh.edu
In-Reply-To: <20240417072304.3260172-3-michaelba@nvidia.com>
References: <20240417072304.3260172-3-michaelba@nvidia.com>
Content-Type: text/plain
X-BeenThere: test-report@dpdk.org
X-Mailman-Version: 2.1.29
Precedence: list
List-Id: automatic DPDK test reports <test-report.dpdk.org>
List-Unsubscribe: <https://mails.dpdk.org/options/test-report>,
 <mailto:test-report-request@dpdk.org?subject=unsubscribe>
List-Archive: <http://mails.dpdk.org/archives/test-report/>
List-Post: <mailto:test-report@dpdk.org>
List-Help: <mailto:test-report-request@dpdk.org?subject=help>
List-Subscribe: <https://mails.dpdk.org/listinfo/test-report>,
 <mailto:test-report-request@dpdk.org?subject=subscribe>
Errors-To: test-report-bounces@dpdk.org

Test-Label: iol-unit-arm64-testing
Test-Status: SUCCESS
http://dpdk.org/patch/139437

_Testing PASS_

Submitter: Michael Baum <michaelba@nvidia.com>
Date: Wednesday, April 17 2024 07:23:04 
DPDK git baseline: Repo:dpdk
  Branch: master
  CommitID:ea9b0f7277acc931ced3fee4a3ee087a26ee1401

139436-139437 --> testing pass

Test environment and result as below:

+-----------------------------+----------------+---------------------------+--------------+------------------------------+
|         Environment         | dpdk_unit_test | cryptodev_sw_zuc_autotest | lpm_autotest | cryptodev_sw_snow3g_autotest |
+=============================+================+===========================+==============+==============================+
| Debian 12 (arm)             | PASS           | PASS                      | SKIPPED      | PASS                         |
+-----------------------------+----------------+---------------------------+--------------+------------------------------+
| Fedora 37 (ARM)             | PASS           | SKIPPED                   | SKIPPED      | SKIPPED                      |
+-----------------------------+----------------+---------------------------+--------------+------------------------------+
| Debian 11 (Buster) (ARM)    | PASS           | SKIPPED                   | SKIPPED      | SKIPPED                      |
+-----------------------------+----------------+---------------------------+--------------+------------------------------+
| CentOS Stream 9 (ARM)       | PASS           | SKIPPED                   | SKIPPED      | SKIPPED                      |
+-----------------------------+----------------+---------------------------+--------------+------------------------------+
| 32-bit Ubuntu 20.04.4 (ARM) | PASS           | SKIPPED                   | SKIPPED      | SKIPPED                      |
+-----------------------------+----------------+---------------------------+--------------+------------------------------+
| Fedora 38 (ARM)             | PASS           | SKIPPED                   | SKIPPED      | SKIPPED                      |
+-----------------------------+----------------+---------------------------+--------------+------------------------------+
| Fedora 38 (ARM Clang)       | PASS           | SKIPPED                   | SKIPPED      | SKIPPED                      |
+-----------------------------+----------------+---------------------------+--------------+------------------------------+
| Ubuntu 20.04 (ARM)          | PASS           | SKIPPED                   | SKIPPED      | SKIPPED                      |
+-----------------------------+----------------+---------------------------+--------------+------------------------------+
| Fedora 39 (ARM)             | PASS           | SKIPPED                   | SKIPPED      | SKIPPED                      |
+-----------------------------+----------------+---------------------------+--------------+------------------------------+
| Fedora 39 (ARM Clang)       | PASS           | SKIPPED                   | SKIPPED      | SKIPPED                      |
+-----------------------------+----------------+---------------------------+--------------+------------------------------+
| Ubuntu 20.04 ARM SVE        | SKIPPED        | SKIPPED                   | PASS         | SKIPPED                      |
+-----------------------------+----------------+---------------------------+--------------+------------------------------+


Debian 12 (arm)
	Kernel: Container Host Kernel
	Compiler: gcc 12.2.0

Fedora 37 (ARM)
	Kernel: Depends on container host
	Compiler: gcc 12.3.1

Debian 11 (Buster) (ARM)
	Kernel: Container Host Kernel
	Compiler: gcc 10.2.1

CentOS Stream 9 (ARM)
	Kernel: Container Host Kernel
	Compiler: gcc 11.4.1

32-bit Ubuntu 20.04.4 (ARM)
	Kernel: 5.4.0-155-generic aarch64
	Compiler: gcc 9.4

Fedora 38 (ARM)
	Kernel: Depends on container host
	Compiler: gcc 13.2.1

Fedora 38 (ARM Clang)
	Kernel: Depends on container host
	Compiler: clang 16.0.6

Ubuntu 20.04 (ARM)
	Kernel: Container Host Kernel
	Compiler: gcc 9.4.0

Fedora 39 (ARM)
	Kernel: Depends on container host
	Compiler: gcc 13.2.1

Fedora 39 (ARM Clang)
	Kernel: Depends on container host
	Compiler: clang 17.0.6

Ubuntu 20.04 ARM SVE
	Kernel: 5.4.0-167-generic
	Compiler: gcc (Ubuntu 10.5.0-1ubuntu1~20.04) 10.5.0

To view detailed results, visit:
https://lab.dpdk.org/results/dashboard/patchsets/29801/

UNH-IOL DPDK Community Lab

To manage your email subscriptions, visit: 
https://lab.dpdk.org/results/dashboard/preferences/subscriptions/