From mboxrd@z Thu Jan  1 00:00:00 1970
Return-Path: <test-report-bounces@dpdk.org>
Received: from mails.dpdk.org (mails.dpdk.org [217.70.189.124])
	by inbox.dpdk.org (Postfix) with ESMTP id 1EEFE43E92
	for <public@inbox.dpdk.org>; Wed, 17 Apr 2024 14:12:40 +0200 (CEST)
Received: from mails.dpdk.org (localhost [127.0.0.1])
	by mails.dpdk.org (Postfix) with ESMTP id 19EBC402AE;
	Wed, 17 Apr 2024 14:12:40 +0200 (CEST)
Received: from mail-yb1-f228.google.com (mail-yb1-f228.google.com
 [209.85.219.228])
 by mails.dpdk.org (Postfix) with ESMTP id 61B324029E
 for <test-report@dpdk.org>; Wed, 17 Apr 2024 14:12:39 +0200 (CEST)
Received: by mail-yb1-f228.google.com with SMTP id
 3f1490d57ef6-dcc7cdb3a98so5313806276.2
 for <test-report@dpdk.org>; Wed, 17 Apr 2024 05:12:39 -0700 (PDT)
DKIM-Signature: v=1; a=rsa-sha256; c=relaxed/relaxed;
 d=iol.unh.edu; s=unh-iol; t=1713355959; x=1713960759; darn=dpdk.org;
 h=references:in-reply-to:cc:to:from:subject:message-id:date:from:to
 :cc:subject:date:message-id:reply-to;
 bh=5pjfF3OGbn/hHtW1UKVQvebv2bJAyZVv+eoAotgPDNE=;
 b=EGdlC/XmAVJ3SlW+AA4C+iDjLNLIJn7YTb0jAwICq+ii88w5ruwom06jbb2l2vZcYj
 YqamHtc5p75fqUSVVHU9DMx6Y3XRadGAks1iZEDiJo71q/TkM/SgqFXsYsL3rxozMO+n
 Wy7jpm7Q7o10OsNCO/dnJ5NTOc2Q/1ntBOd2E=
X-Google-DKIM-Signature: v=1; a=rsa-sha256; c=relaxed/relaxed;
 d=1e100.net; s=20230601; t=1713355959; x=1713960759;
 h=references:in-reply-to:cc:to:from:subject:message-id:date
 :x-gm-message-state:from:to:cc:subject:date:message-id:reply-to;
 bh=5pjfF3OGbn/hHtW1UKVQvebv2bJAyZVv+eoAotgPDNE=;
 b=C3XQeH/TrucBS5evuHetLSJ+90N00fow891mDl6TiaPmTWFC/VQFpgIlk70JhdwxFa
 tXUbeAljxtka6jodRnKAvZCpyrxy6lpmJKHIkwbUwyXU4MF4l0CkgmvENthVS/8zmHN6
 4xNcBT0iBiPiAPoKAc9ytYBo45AsbnG60FJWwsB/FvjCQ5BaGKoQD5v7X6LGZKVeHOY3
 JxbG8TOezYgEp1D0ky7Tvi6OsBC2yJUrDZZtTvURUyNeZGdub6rRiZNzI56oyIk+kCVp
 4sYpLSJs7joiWcYnn0rSoQeDzAScHXnMLqMRV7cXZN9OHHiI4GS+jz2NfrnGbgIGDfOF
 ZlyQ==
X-Gm-Message-State: AOJu0YwQMgju+UHOs/fWpWx0SIerWH0WuBr+m3J21jF1f4Cvx8xrvd+G
 9EvyPdthFSUDOnBcEaJyEEnD9CnP0530OCy+tb5epzTJdgi2+hF5DV6d926N5PRARnHSL5TLitD
 VsITVHiMB11qLZZEkK/wHzfY/ZnwgC/YaJchOTjRfbGdF/IWjPXPg385Y
X-Google-Smtp-Source: AGHT+IFlxG6jVB8Uz6KNL7nHBmjbQetWQWMrBW55MyysCGBWlTWGkjuWeofTMAT2OgpCMdjrRz4CwFLMI67Y
X-Received: by 2002:a25:ac05:0:b0:de3:ec93:d20a with SMTP id
 w5-20020a25ac05000000b00de3ec93d20amr7104836ybi.37.1713355958743; 
 Wed, 17 Apr 2024 05:12:38 -0700 (PDT)
Received: from postal.iol.unh.edu (postal.iol.unh.edu.
 [2606:4100:3880:1234::84]) by smtp-relay.gmail.com with ESMTPS id
 o12-20020ad45c8c000000b0069b43ff899csm1067020qvh.59.2024.04.17.05.12.38
 (version=TLS1_2 cipher=ECDHE-ECDSA-AES128-GCM-SHA256 bits=128/128);
 Wed, 17 Apr 2024 05:12:38 -0700 (PDT)
X-Relaying-Domain: iol.unh.edu
Date: Wed, 17 Apr 2024 05:12:38 -0700 (PDT)
Message-ID: <661fbcb6.d40a0220.f8b5f.446aSMTPIN_ADDED_MISSING@mx.google.com>
Received: from [172.17.0.3] (unknown [172.18.0.217])
 by postal.iol.unh.edu (Postfix) with ESMTP id 690C86052514;
 Wed, 17 Apr 2024 08:12:38 -0400 (EDT)
Subject: |SUCCESS| pw139436-139437 [PATCH] [RFC,2/2] ethdev: add data size fi
From: dpdklab@iol.unh.edu
To: Test Report <test-report@dpdk.org>
Cc: dpdk-test-reports@iol.unh.edu
In-Reply-To: <20240417072304.3260172-3-michaelba@nvidia.com>
References: <20240417072304.3260172-3-michaelba@nvidia.com>
Content-Type: text/plain
X-BeenThere: test-report@dpdk.org
X-Mailman-Version: 2.1.29
Precedence: list
List-Id: automatic DPDK test reports <test-report.dpdk.org>
List-Unsubscribe: <https://mails.dpdk.org/options/test-report>,
 <mailto:test-report-request@dpdk.org?subject=unsubscribe>
List-Archive: <http://mails.dpdk.org/archives/test-report/>
List-Post: <mailto:test-report@dpdk.org>
List-Help: <mailto:test-report-request@dpdk.org?subject=help>
List-Subscribe: <https://mails.dpdk.org/listinfo/test-report>,
 <mailto:test-report-request@dpdk.org?subject=subscribe>
Errors-To: test-report-bounces@dpdk.org

Test-Label: iol-compile-amd64-testing
Test-Status: SUCCESS
http://dpdk.org/patch/139437

_Testing PASS_

Submitter: Michael Baum <michaelba@nvidia.com>
Date: Wednesday, April 17 2024 07:23:04 
DPDK git baseline: Repo:dpdk
  Branch: master
  CommitID:ea9b0f7277acc931ced3fee4a3ee087a26ee1401

139436-139437 --> testing pass

Test environment and result as below:

+---------------------+--------------------+----------------------+-------------------+
|     Environment     | dpdk_meson_compile | dpdk_mingw64_compile | dpdk_msvc_compile |
+=====================+====================+======================+===================+
| Windows Server 2022 | PASS               | PASS                 | PASS              |
+---------------------+--------------------+----------------------+-------------------+
| Windows Server 2019 | PASS               | PASS                 | SKIPPED           |
+---------------------+--------------------+----------------------+-------------------+
| FreeBSD 13.2        | PASS               | SKIPPED              | SKIPPED           |
+---------------------+--------------------+----------------------+-------------------+
| Fedora 38           | PASS               | SKIPPED              | SKIPPED           |
+---------------------+--------------------+----------------------+-------------------+
| CentOS Stream 8     | PASS               | SKIPPED              | SKIPPED           |
+---------------------+--------------------+----------------------+-------------------+
| CentOS Stream 9     | PASS               | SKIPPED              | SKIPPED           |
+---------------------+--------------------+----------------------+-------------------+
| Debian Bullseye     | PASS               | SKIPPED              | SKIPPED           |
+---------------------+--------------------+----------------------+-------------------+
| Fedora 37           | PASS               | SKIPPED              | SKIPPED           |
+---------------------+--------------------+----------------------+-------------------+
| Fedora 39           | PASS               | SKIPPED              | SKIPPED           |
+---------------------+--------------------+----------------------+-------------------+
| openSUSE Leap 15    | PASS               | SKIPPED              | SKIPPED           |
+---------------------+--------------------+----------------------+-------------------+
| Debian 12           | PASS               | SKIPPED              | SKIPPED           |
+---------------------+--------------------+----------------------+-------------------+
| RHEL8               | PASS               | SKIPPED              | SKIPPED           |
+---------------------+--------------------+----------------------+-------------------+
| Ubuntu 20.04        | PASS               | SKIPPED              | SKIPPED           |
+---------------------+--------------------+----------------------+-------------------+
| Ubuntu 22.04        | PASS               | SKIPPED              | SKIPPED           |
+---------------------+--------------------+----------------------+-------------------+
| Alpine              | PASS               | SKIPPED              | SKIPPED           |
+---------------------+--------------------+----------------------+-------------------+


Windows Server 2022
	Kernel: 10.0.20348.2031
	Compiler: clang 15.0.7, gcc 8.1.0 (MinGW), and MSVC VS 17.9

Windows Server 2019
	Kernel: 10.0.17763
	Compiler: clang 14.0 and gcc 8.1.0 (MinGW)

FreeBSD 13.2
	Kernel: 13.2
	Compiler: clang 14.0.5

Fedora 38
	Kernel: Depends on container host
	Compiler: gcc 13.2.1

CentOS Stream 8
	Kernel: 5.4.0-167-generic
	Compiler: gcc 8.5.0 20210514

CentOS Stream 9
	Kernel: 5.4.0-167-generic
	Compiler: gcc 11.4.1 20230605

Debian Bullseye
	Kernel: 5.4.0-167-generic
	Compiler: gcc 10.2.1-6

Fedora 37
	Kernel: Depends on container host system
	Compiler: gcc 12.3.1

Fedora 39
	Kernel: Depends on container host
	Compiler: clang 17.0.6

openSUSE Leap 15
	Kernel: 5.4.0-167-generic
	Compiler: gcc 7.5.0

Debian 12
	Kernel: Container Host Kernel
	Compiler: gcc 10.2.1

RHEL8
	Kernel: 5.4.0-167-generic
	Compiler: gcc 8.5.0 20210514 (Red Hat 8.5.0-20)

Ubuntu 20.04
	Kernel: 5.4.0-167-generic
	Compiler: gcc 9.4.0-1ubuntu1~20.04.1

Ubuntu 22.04
	Kernel: 5.4.0-167-generic
	Compiler: gcc 11.4.0

Alpine
	Kernel: 5.4.0-167-generic
	Compiler: gcc (Alpine 12.2.1_git20220924-r10) 12.2.1 20220924

To view detailed results, visit:
https://lab.dpdk.org/results/dashboard/patchsets/29801/

UNH-IOL DPDK Community Lab

To manage your email subscriptions, visit: 
https://lab.dpdk.org/results/dashboard/preferences/subscriptions/