From mboxrd@z Thu Jan  1 00:00:00 1970
Return-Path: <test-report-bounces@dpdk.org>
Received: from mails.dpdk.org (mails.dpdk.org [217.70.189.124])
	by inbox.dpdk.org (Postfix) with ESMTP id 241F543E92
	for <public@inbox.dpdk.org>; Wed, 17 Apr 2024 15:38:26 +0200 (CEST)
Received: from mails.dpdk.org (localhost [127.0.0.1])
	by mails.dpdk.org (Postfix) with ESMTP id 0116540693;
	Wed, 17 Apr 2024 15:38:26 +0200 (CEST)
Received: from mail-yb1-f228.google.com (mail-yb1-f228.google.com
 [209.85.219.228])
 by mails.dpdk.org (Postfix) with ESMTP id 5DF6D402AE
 for <test-report@dpdk.org>; Wed, 17 Apr 2024 15:38:24 +0200 (CEST)
Received: by mail-yb1-f228.google.com with SMTP id
 3f1490d57ef6-dcbd1d4904dso5549136276.3
 for <test-report@dpdk.org>; Wed, 17 Apr 2024 06:38:24 -0700 (PDT)
DKIM-Signature: v=1; a=rsa-sha256; c=relaxed/relaxed;
 d=iol.unh.edu; s=unh-iol; t=1713361103; x=1713965903; darn=dpdk.org;
 h=references:in-reply-to:cc:to:from:subject:message-id:date:from:to
 :cc:subject:date:message-id:reply-to;
 bh=GDh0uu56+PaSQMrwRIlZTkDf8n4GfEWd3OxVt6Cw2Aw=;
 b=X5+oB5c6mSQ2n2uNkXOuFZSF4Dc8C2FHgXvfAbuT3uXdr9IzHf03WZAJzpzxUWieUa
 2sVORZzWBQztA6sc0oQwpSLVWk+BeMNWafrrcjc0POTiLQ4NcmJyxi25Px5c7JEKqIRQ
 Gn/9kfH6AA4AX+TF0KO5mVapVLSpg1yaHGIqg=
X-Google-DKIM-Signature: v=1; a=rsa-sha256; c=relaxed/relaxed;
 d=1e100.net; s=20230601; t=1713361103; x=1713965903;
 h=references:in-reply-to:cc:to:from:subject:message-id:date
 :x-gm-message-state:from:to:cc:subject:date:message-id:reply-to;
 bh=GDh0uu56+PaSQMrwRIlZTkDf8n4GfEWd3OxVt6Cw2Aw=;
 b=KvPp1mdJm8K6cjVwJyQxNFqVqcLXTtyEuy78ADhtEErvQOAqTgi88V88BnqThUKXjp
 ICoi53/pRqS6VE/Ac4de7mSH24zGDCkYA0OapPlWDr/SsERMtw73Wg+N7bDdO92nncBb
 3ricq1LiHZ+e0RJW/rOBsJk3ey0bOvuSpSPCU3N/ZKWffvf6I1JbfrE9vs9St1yGzcUS
 AFauXRwk7ZDE3HGlQU2ii4zI0ZS/nmTxzYt4SrswfrIZVTvkuZftpKgWAPsTiDHYVbmR
 HXZtid3qJ3MGgZ3NGHeP7DoNjvJur+lpeI96gGOOh7KzOkLgvubsu/BxizT8gOmpLwn6
 8ZJA==
X-Gm-Message-State: AOJu0Yz8jPJT828ZJ14YX1flMPberxbdv/1JCI5FVqswhkY/nfclIgK3
 LlqYXt5XP1r0ACphbJ1AJ+YcM3GTVqxjeexfyKl2/rG+5NTQI+W6lrvfSUJUrDaOLNIhUhjgeYe
 9UxFR0MTc3pDEbIG3lmKeEKomDjjCtRElEg34mZwP6eZ/ydOEGjX+nEU8
X-Google-Smtp-Source: AGHT+IEwdgpLRy0Gzyt0JMc7BayTGQjv3M7OGTc1hwqq/6jI37sbj5LxAbO8pLC6mrbRX8p4Sx9TQpMlUaDl
X-Received: by 2002:a25:dc12:0:b0:de0:deac:ec21 with SMTP id
 y18-20020a25dc12000000b00de0deacec21mr13091483ybe.54.1713361103738; 
 Wed, 17 Apr 2024 06:38:23 -0700 (PDT)
Received: from postal.iol.unh.edu (postal.iol.unh.edu.
 [2606:4100:3880:1234::84]) by smtp-relay.gmail.com with ESMTPS id
 fo8-20020a0569022d0800b00dc6185d4494sm770925ybb.6.2024.04.17.06.38.23
 (version=TLS1_2 cipher=ECDHE-ECDSA-AES128-GCM-SHA256 bits=128/128);
 Wed, 17 Apr 2024 06:38:23 -0700 (PDT)
X-Relaying-Domain: iol.unh.edu
Date: Wed, 17 Apr 2024 06:38:23 -0700 (PDT)
Message-ID: <661fd0cf.050a0220.c0df.4504SMTPIN_ADDED_MISSING@mx.google.com>
Received: from [172.17.0.2] (unknown [172.18.0.217])
 by postal.iol.unh.edu (Postfix) with ESMTP id 5B8D86052514;
 Wed, 17 Apr 2024 09:38:23 -0400 (EDT)
Subject: |SUCCESS| pw139436-139437 [PATCH] [RFC,2/2] ethdev: add data size fi
From: dpdklab@iol.unh.edu
To: Test Report <test-report@dpdk.org>
Cc: dpdk-test-reports@iol.unh.edu
In-Reply-To: <20240417072304.3260172-3-michaelba@nvidia.com>
References: <20240417072304.3260172-3-michaelba@nvidia.com>
Content-Type: text/plain
X-BeenThere: test-report@dpdk.org
X-Mailman-Version: 2.1.29
Precedence: list
List-Id: automatic DPDK test reports <test-report.dpdk.org>
List-Unsubscribe: <https://mails.dpdk.org/options/test-report>,
 <mailto:test-report-request@dpdk.org?subject=unsubscribe>
List-Archive: <http://mails.dpdk.org/archives/test-report/>
List-Post: <mailto:test-report@dpdk.org>
List-Help: <mailto:test-report-request@dpdk.org?subject=help>
List-Subscribe: <https://mails.dpdk.org/listinfo/test-report>,
 <mailto:test-report-request@dpdk.org?subject=subscribe>
Errors-To: test-report-bounces@dpdk.org

Test-Label: iol-compile-arm64-testing
Test-Status: SUCCESS
http://dpdk.org/patch/139437

_Testing PASS_

Submitter: Michael Baum <michaelba@nvidia.com>
Date: Wednesday, April 17 2024 07:23:04 
DPDK git baseline: Repo:dpdk
  Branch: master
  CommitID:ea9b0f7277acc931ced3fee4a3ee087a26ee1401

139436-139437 --> testing pass

Test environment and result as below:

+----------------------------------------+--------------------+
|              Environment               | dpdk_meson_compile |
+========================================+====================+
| Ubuntu 20.04 ARM SVE                   | PASS               |
+----------------------------------------+--------------------+
| Fedora 37 (ARM)                        | PASS               |
+----------------------------------------+--------------------+
| Debian 12 with MUSDK                   | PASS               |
+----------------------------------------+--------------------+
| Ubuntu 20.04 aarch32 GCC Cross Compile | PASS               |
+----------------------------------------+--------------------+
| Ubuntu 20.04 ARM Clang Cross Compile   | PASS               |
+----------------------------------------+--------------------+
| Ubuntu 20.04 ARM GCC Cross Compile     | PASS               |
+----------------------------------------+--------------------+
| Debian 11 (Buster) (ARM)               | PASS               |
+----------------------------------------+--------------------+
| Fedora 39 (ARM Clang)                  | PASS               |
+----------------------------------------+--------------------+
| CentOS Stream 9 (ARM)                  | PASS               |
+----------------------------------------+--------------------+


Ubuntu 20.04 ARM SVE
	Kernel: 5.4.0-167-generic
	Compiler: gcc (Ubuntu 10.5.0-1ubuntu1~20.04) 10.5.0

Fedora 37 (ARM)
	Kernel: Depends on container host
	Compiler: gcc 12.3.1

Debian 12 with MUSDK
	Kernel: Container Host Kernel
	Compiler: gcc 12.2.0

Ubuntu 20.04 aarch32 GCC Cross Compile
	Kernel: 5.4.0-167-generic
	Compiler: gcc 9.4.0

Ubuntu 20.04 ARM Clang Cross Compile
	Kernel: 5.4.0-72-generic
	Compiler: clang 10.0.0-4ubuntu1

Ubuntu 20.04 ARM GCC Cross Compile
	Kernel: 5.4.0-167-generic
	Compiler: aarch64-linux-gnu-gcc (Ubuntu 9.4.0-1ubuntu1~20.04.2) 9.4.0

Debian 11 (Buster) (ARM)
	Kernel: Container Host Kernel
	Compiler: gcc 10.2.1

Fedora 39 (ARM Clang)
	Kernel: Depends on container host
	Compiler: clang 17.0.6

CentOS Stream 9 (ARM)
	Kernel: Container Host Kernel
	Compiler: gcc 11.4.1

To view detailed results, visit:
https://lab.dpdk.org/results/dashboard/patchsets/29801/

UNH-IOL DPDK Community Lab

To manage your email subscriptions, visit: 
https://lab.dpdk.org/results/dashboard/preferences/subscriptions/