From mboxrd@z Thu Jan  1 00:00:00 1970
Return-Path: <test-report-bounces@dpdk.org>
Received: from mails.dpdk.org (mails.dpdk.org [217.70.189.124])
	by inbox.dpdk.org (Postfix) with ESMTP id 36BE243E92
	for <public@inbox.dpdk.org>; Wed, 17 Apr 2024 15:39:21 +0200 (CEST)
Received: from mails.dpdk.org (localhost [127.0.0.1])
	by mails.dpdk.org (Postfix) with ESMTP id 2F9CE40693;
	Wed, 17 Apr 2024 15:39:21 +0200 (CEST)
Received: from mail-oo1-f100.google.com (mail-oo1-f100.google.com
 [209.85.161.100])
 by mails.dpdk.org (Postfix) with ESMTP id C142D402AE
 for <test-report@dpdk.org>; Wed, 17 Apr 2024 15:39:19 +0200 (CEST)
Received: by mail-oo1-f100.google.com with SMTP id
 006d021491bc7-5ac8c73cf88so3095995eaf.2
 for <test-report@dpdk.org>; Wed, 17 Apr 2024 06:39:19 -0700 (PDT)
DKIM-Signature: v=1; a=rsa-sha256; c=relaxed/relaxed;
 d=iol.unh.edu; s=unh-iol; t=1713361159; x=1713965959; darn=dpdk.org;
 h=references:in-reply-to:cc:to:from:subject:message-id:date:from:to
 :cc:subject:date:message-id:reply-to;
 bh=fiUDyzQRL+xVrqEkp2z9/AAcYCkWDjcRG1q3IkLFSJM=;
 b=TgDhZ4Xs7NAPScQxERSzcZLRo1+/HwIo+NA3ULHCR+bqppi9PcDlpuSvLkeWe2tXOm
 4UjzOzAIuZvjYlCCgGvGNa++NmRVjycB9LtSExY+sDkupYQNvpztNGSZ/XM2eccfrwWv
 BueABUdAwTyMZUsb4+wiY1girAopX6tg0r/XU=
X-Google-DKIM-Signature: v=1; a=rsa-sha256; c=relaxed/relaxed;
 d=1e100.net; s=20230601; t=1713361159; x=1713965959;
 h=references:in-reply-to:cc:to:from:subject:message-id:date
 :x-gm-message-state:from:to:cc:subject:date:message-id:reply-to;
 bh=fiUDyzQRL+xVrqEkp2z9/AAcYCkWDjcRG1q3IkLFSJM=;
 b=jUtaw8zhOljFwBGpgmqyid2kIGrncBulg+vQMDqAcr22tri8dw2TvPBs5qtQ5Pfbmc
 Fs/FLwqc/rqZQckn5anAkRfr3hCvvYCNn8YA5g+qZTo7t5OkJBg4u8SmDTBTPfduUBPo
 /sDhCHNw2eU9NxyJswbG9bf2k5n6dF/D+JbxfYn/1CkWX1N5GLpjfnQY96I7Ho4HevtE
 9mK3A9fCAltrLvdlwJlR+/74RY34freDGzylcwKn4EQbgoAtXwGHKGcUbIGC6bvFA9hK
 gwD48Nr0j+bRFQg1qeY0aJSb2swb1UFEChhu3OK6ZEYZndw7K1jlvYqEiH8ks2lidBxQ
 QHIQ==
X-Gm-Message-State: AOJu0YwlsMsUCVXHm0ekeamPiM274YM+G0n00uvP750WAD5yxutgc+iv
 cCf/z7LeeOMJLTmq71ud4CG0tQcJq1QHko3I1kwLwXm1nPC/zIM3PivmObBWksMee3qA1fVnUJz
 72ZL7whPIWM6KhKDtz2ID7SMIdTHUQMsqf0y5IVJyAgVx4AdOt5ohUqo2
X-Google-Smtp-Source: AGHT+IHB6lh8+laoPqEZabvuC01gF1UDYS1K/MRfI3EnW6fVutOYWZxzt9Af3OCgQiIETSEJrW4iyUCOI4vZ
X-Received: by 2002:a05:6359:a10b:b0:183:861a:a6ff with SMTP id
 kl11-20020a056359a10b00b00183861aa6ffmr19604873rwc.1.1713361159055; 
 Wed, 17 Apr 2024 06:39:19 -0700 (PDT)
Received: from postal.iol.unh.edu (postal.iol.unh.edu.
 [2606:4100:3880:1234::84]) by smtp-relay.gmail.com with ESMTPS id
 fn7-20020ad45d67000000b0069121c1a662sm1172106qvb.40.2024.04.17.06.39.18
 (version=TLS1_2 cipher=ECDHE-ECDSA-AES128-GCM-SHA256 bits=128/128);
 Wed, 17 Apr 2024 06:39:19 -0700 (PDT)
X-Relaying-Domain: iol.unh.edu
Date: Wed, 17 Apr 2024 06:39:19 -0700 (PDT)
Message-ID: <661fd107.d40a0220.2e3e.cd88SMTPIN_ADDED_MISSING@mx.google.com>
Received: from [172.17.0.3] (unknown [172.18.0.217])
 by postal.iol.unh.edu (Postfix) with ESMTP id B53656052514;
 Wed, 17 Apr 2024 09:39:18 -0400 (EDT)
Subject: |SUCCESS| pw139436-139437 [PATCH] [RFC,2/2] ethdev: add data size fi
From: dpdklab@iol.unh.edu
To: Test Report <test-report@dpdk.org>
Cc: dpdk-test-reports@iol.unh.edu
In-Reply-To: <20240417072304.3260172-3-michaelba@nvidia.com>
References: <20240417072304.3260172-3-michaelba@nvidia.com>
Content-Type: text/plain
X-BeenThere: test-report@dpdk.org
X-Mailman-Version: 2.1.29
Precedence: list
List-Id: automatic DPDK test reports <test-report.dpdk.org>
List-Unsubscribe: <https://mails.dpdk.org/options/test-report>,
 <mailto:test-report-request@dpdk.org?subject=unsubscribe>
List-Archive: <http://mails.dpdk.org/archives/test-report/>
List-Post: <mailto:test-report@dpdk.org>
List-Help: <mailto:test-report-request@dpdk.org?subject=help>
List-Subscribe: <https://mails.dpdk.org/listinfo/test-report>,
 <mailto:test-report-request@dpdk.org?subject=subscribe>
Errors-To: test-report-bounces@dpdk.org

Test-Label: iol-compile-arm64-testing
Test-Status: SUCCESS
http://dpdk.org/patch/139437

_Testing PASS_

Submitter: Michael Baum <michaelba@nvidia.com>
Date: Wednesday, April 17 2024 07:23:04 
DPDK git baseline: Repo:dpdk
  Branch: master
  CommitID:ea9b0f7277acc931ced3fee4a3ee087a26ee1401

139436-139437 --> testing pass

Test environment and result as below:

+----------------------------------------+--------------------+
|              Environment               | dpdk_meson_compile |
+========================================+====================+
| Ubuntu 20.04 ARM SVE                   | PASS               |
+----------------------------------------+--------------------+
| Fedora 37 (ARM)                        | PASS               |
+----------------------------------------+--------------------+
| Debian 12 with MUSDK                   | PASS               |
+----------------------------------------+--------------------+
| Ubuntu 20.04 aarch32 GCC Cross Compile | PASS               |
+----------------------------------------+--------------------+
| Ubuntu 20.04 ARM Clang Cross Compile   | PASS               |
+----------------------------------------+--------------------+
| Ubuntu 20.04 ARM GCC Cross Compile     | PASS               |
+----------------------------------------+--------------------+
| Debian 11 (Buster) (ARM)               | PASS               |
+----------------------------------------+--------------------+
| Fedora 39 (ARM Clang)                  | PASS               |
+----------------------------------------+--------------------+
| CentOS Stream 9 (ARM)                  | PASS               |
+----------------------------------------+--------------------+
| Ubuntu 20.04 (ARM)                     | PASS               |
+----------------------------------------+--------------------+


Ubuntu 20.04 ARM SVE
	Kernel: 5.4.0-167-generic
	Compiler: gcc (Ubuntu 10.5.0-1ubuntu1~20.04) 10.5.0

Fedora 37 (ARM)
	Kernel: Depends on container host
	Compiler: gcc 12.3.1

Debian 12 with MUSDK
	Kernel: Container Host Kernel
	Compiler: gcc 12.2.0

Ubuntu 20.04 aarch32 GCC Cross Compile
	Kernel: 5.4.0-167-generic
	Compiler: gcc 9.4.0

Ubuntu 20.04 ARM Clang Cross Compile
	Kernel: 5.4.0-72-generic
	Compiler: clang 10.0.0-4ubuntu1

Ubuntu 20.04 ARM GCC Cross Compile
	Kernel: 5.4.0-167-generic
	Compiler: aarch64-linux-gnu-gcc (Ubuntu 9.4.0-1ubuntu1~20.04.2) 9.4.0

Debian 11 (Buster) (ARM)
	Kernel: Container Host Kernel
	Compiler: gcc 10.2.1

Fedora 39 (ARM Clang)
	Kernel: Depends on container host
	Compiler: clang 17.0.6

CentOS Stream 9 (ARM)
	Kernel: Container Host Kernel
	Compiler: gcc 11.4.1

Ubuntu 20.04 (ARM)
	Kernel: Container Host Kernel
	Compiler: gcc 9.4.0

To view detailed results, visit:
https://lab.dpdk.org/results/dashboard/patchsets/29801/

UNH-IOL DPDK Community Lab

To manage your email subscriptions, visit: 
https://lab.dpdk.org/results/dashboard/preferences/subscriptions/