From mboxrd@z Thu Jan  1 00:00:00 1970
Return-Path: <test-report-bounces@dpdk.org>
Received: from mails.dpdk.org (mails.dpdk.org [217.70.189.124])
	by inbox.dpdk.org (Postfix) with ESMTP id BDC5743E94
	for <public@inbox.dpdk.org>; Wed, 17 Apr 2024 18:40:48 +0200 (CEST)
Received: from mails.dpdk.org (localhost [127.0.0.1])
	by mails.dpdk.org (Postfix) with ESMTP id B972740DDE;
	Wed, 17 Apr 2024 18:40:48 +0200 (CEST)
Received: from mail-ot1-f99.google.com (mail-ot1-f99.google.com
 [209.85.210.99]) by mails.dpdk.org (Postfix) with ESMTP id 7AB4D40295
 for <test-report@dpdk.org>; Wed, 17 Apr 2024 18:40:46 +0200 (CEST)
Received: by mail-ot1-f99.google.com with SMTP id
 46e09a7af769-6ea156bee62so374114a34.0
 for <test-report@dpdk.org>; Wed, 17 Apr 2024 09:40:46 -0700 (PDT)
DKIM-Signature: v=1; a=rsa-sha256; c=relaxed/relaxed;
 d=iol.unh.edu; s=unh-iol; t=1713372045; x=1713976845; darn=dpdk.org;
 h=references:in-reply-to:cc:to:from:subject:message-id:date:from:to
 :cc:subject:date:message-id:reply-to;
 bh=1WuIMQno1/i5aC48HcJK4oxzp/MxlNxpeFiArthx4sI=;
 b=GKAcDwmhWCtxkT750vAQZ4UVJSJh/FjayHnnQmIoUznFw1z4Mlfd900GMzM5KfdN8d
 qPZjiPcPxgFJwwe1tzNptCMB7rQ1sreqPmXbihO1/I+S2f8HQdPRsbPwf0yTn60KfKFi
 +5wPPssga/FX1JhT6Qmhyzdv/MwOyiOSVNn0Y=
X-Google-DKIM-Signature: v=1; a=rsa-sha256; c=relaxed/relaxed;
 d=1e100.net; s=20230601; t=1713372045; x=1713976845;
 h=references:in-reply-to:cc:to:from:subject:message-id:date
 :x-gm-message-state:from:to:cc:subject:date:message-id:reply-to;
 bh=1WuIMQno1/i5aC48HcJK4oxzp/MxlNxpeFiArthx4sI=;
 b=Zq2zcFfVMD17CfFW572kUCpL888ro2VEbtGfczVy7BvAIKcYHOQ1hp1qH/DxJ8CFtq
 lNnNMsXDCE/NMp2YEvJYkf8N2ORCv6eNe8letoj9NE/ohI+en1OW2PUqmnZH4xxp2Bzt
 5+T1k5KR730WamsYym0L+NA3Wk4Ahx1pZEx7DdSs2W6JpskFFV2egBsZI2qq2F/vVjRx
 RHMMxJKaN404Axgfd+zbfVmTNi6Rq9USPY2ghsUM1SZ3RnV5+fDqbVj1Oavosc7pDiEB
 ydmabRJUpkelqlUGXTdL4pwcEFE16X5cKtXIMeBWauRnba68KdXnL2UWIetHwRYJX5na
 k7+w==
X-Gm-Message-State: AOJu0Yx7RlBRtf6wNTDIHMnedWzv4Ntp/jXFyEMoLgfnmJxy70MypCpX
 QAqkfwYfXdrGO6VJK3BgcGX+xVOy2CJOedG5Z8WLWtKZuh1XCPjPLO5qc6l4oJUJKEuRUWiHoj/
 uJ57sYa1n1xRIWCeaJgG9H5ZPxxKDXD924rRq16alv6W8bKy8TmRTM4eV
X-Google-Smtp-Source: AGHT+IGsyqV5bj2b2Q7884t2IFLZ5FVkE/PMdjHVWwA+hF+ZaMPcscHhit4QP50pn+grZSsEsL+/R3pQNrux
X-Received: by 2002:a05:6870:2188:b0:238:d627:eac7 with SMTP id
 l8-20020a056870218800b00238d627eac7mr255033oae.23.1713372045713; 
 Wed, 17 Apr 2024 09:40:45 -0700 (PDT)
Received: from postal.iol.unh.edu (postal.iol.unh.edu.
 [2606:4100:3880:1234::84]) by smtp-relay.gmail.com with ESMTPS id
 zc14-20020a056871270e00b00231201bc605sm360559oab.34.2024.04.17.09.40.45
 (version=TLS1_2 cipher=ECDHE-ECDSA-AES128-GCM-SHA256 bits=128/128);
 Wed, 17 Apr 2024 09:40:45 -0700 (PDT)
X-Relaying-Domain: iol.unh.edu
Date: Wed, 17 Apr 2024 09:40:45 -0700 (PDT)
Message-ID: <661ffb8d.050a0220.c6d52.edcfSMTPIN_ADDED_MISSING@mx.google.com>
Received: from [172.21.0.6] (unknown [172.18.0.240])
 by postal.iol.unh.edu (Postfix) with ESMTP id 196F7604D420;
 Wed, 17 Apr 2024 12:40:45 -0400 (EDT)
Subject: |SUCCESS| pw139447 [PATCH] lib/vhost: add flag for async connection 
From: dpdklab@iol.unh.edu
To: Test Report <test-report@dpdk.org>
Cc: dpdk-test-reports@iol.unh.edu
In-Reply-To: <20240417083835.164456-1-udav@mts.ru>
References: <20240417083835.164456-1-udav@mts.ru>
Content-Type: text/plain
X-BeenThere: test-report@dpdk.org
X-Mailman-Version: 2.1.29
Precedence: list
List-Id: automatic DPDK test reports <test-report.dpdk.org>
List-Unsubscribe: <https://mails.dpdk.org/options/test-report>,
 <mailto:test-report-request@dpdk.org?subject=unsubscribe>
List-Archive: <http://mails.dpdk.org/archives/test-report/>
List-Post: <mailto:test-report@dpdk.org>
List-Help: <mailto:test-report-request@dpdk.org?subject=help>
List-Subscribe: <https://mails.dpdk.org/listinfo/test-report>,
 <mailto:test-report-request@dpdk.org?subject=subscribe>
Errors-To: test-report-bounces@dpdk.org

Test-Label: iol-abi-testing
Test-Status: SUCCESS
http://dpdk.org/patch/139447

_Testing PASS_

Submitter: Ushkov Daniil <udav@mts.ru>
Date: Wednesday, April 17 2024 08:41:00 
DPDK git baseline: Repo:dpdk
  Branch: master
  CommitID:deedfb86a7a6e10064d3cccd593f62072de96e36

139447 --> testing pass

Test environment and result as below:

+------------------+----------+
|   Environment    | abi_test |
+==================+==========+
| CentOS Stream 8  | PASS     |
+------------------+----------+
| Debian Bullseye  | PASS     |
+------------------+----------+
| CentOS Stream 9  | PASS     |
+------------------+----------+
| Fedora 38        | PASS     |
+------------------+----------+
| Fedora 37        | PASS     |
+------------------+----------+
| Ubuntu 22.04     | PASS     |
+------------------+----------+
| Fedora 39        | PASS     |
+------------------+----------+
| Debian 12        | PASS     |
+------------------+----------+
| openSUSE Leap 15 | PASS     |
+------------------+----------+
| RHEL8            | PASS     |
+------------------+----------+


CentOS Stream 8
	Kernel: 5.4.0-167-generic
	Compiler: gcc 8.5.0 20210514

Debian Bullseye
	Kernel: 5.4.0-167-generic
	Compiler: gcc 10.2.1-6

CentOS Stream 9
	Kernel: 5.4.0-167-generic
	Compiler: gcc 11.4.1 20230605

Fedora 38
	Kernel: Depends on container host
	Compiler: clang 16.0.6

Fedora 37
	Kernel: Depends on container host system
	Compiler: gcc 12.3.1

Ubuntu 22.04
	Kernel: 5.4.0-167-generic
	Compiler: gcc 11.4.0

Fedora 39
	Kernel: Depends on container host
	Compiler: clang 17.0.6

Debian 12
	Kernel: Container Host Kernel
	Compiler: gcc 10.2.1

openSUSE Leap 15
	Kernel: 5.4.0-167-generic
	Compiler: gcc 7.5.0

RHEL8
	Kernel: 5.4.0-167-generic
	Compiler: gcc 8.5.0 20210514 (Red Hat 8.5.0-20)

To view detailed results, visit:
https://lab.dpdk.org/results/dashboard/patchsets/29804/

UNH-IOL DPDK Community Lab

To manage your email subscriptions, visit: 
https://lab.dpdk.org/results/dashboard/preferences/subscriptions/