From mboxrd@z Thu Jan  1 00:00:00 1970
Return-Path: <test-report-bounces@dpdk.org>
Received: from mails.dpdk.org (mails.dpdk.org [217.70.189.124])
	by inbox.dpdk.org (Postfix) with ESMTP id B9C0143E94
	for <public@inbox.dpdk.org>; Wed, 17 Apr 2024 19:37:06 +0200 (CEST)
Received: from mails.dpdk.org (localhost [127.0.0.1])
	by mails.dpdk.org (Postfix) with ESMTP id B68A440A76;
	Wed, 17 Apr 2024 19:37:06 +0200 (CEST)
Received: from mail-qv1-f99.google.com (mail-qv1-f99.google.com
 [209.85.219.99]) by mails.dpdk.org (Postfix) with ESMTP id 9CF47402B5
 for <test-report@dpdk.org>; Wed, 17 Apr 2024 19:37:05 +0200 (CEST)
Received: by mail-qv1-f99.google.com with SMTP id
 6a1803df08f44-69b3d05e945so214486d6.2
 for <test-report@dpdk.org>; Wed, 17 Apr 2024 10:37:05 -0700 (PDT)
DKIM-Signature: v=1; a=rsa-sha256; c=relaxed/relaxed;
 d=iol.unh.edu; s=unh-iol; t=1713375425; x=1713980225; darn=dpdk.org;
 h=references:in-reply-to:cc:to:from:subject:message-id:date:from:to
 :cc:subject:date:message-id:reply-to;
 bh=7lHlwMpmLtscqXZ6qSJ8+tQjaVvKQe+to0v3YkegBRA=;
 b=IjIGNL3T891tjCF8OCESeVMtUWMi5iFA9rmbmkTeTMHwdGyiOCiy72XdtXpo+fKcui
 ddTqQeP+C0Ku+CU2/uAkQyYZa5MssvOdhkiN3wBleydOi3QBlQvKaQLCXg4p0i+rq3hT
 1Woc1bDv/qRl8FVIyLDTI2fwfOO9sgcNBqTqs=
X-Google-DKIM-Signature: v=1; a=rsa-sha256; c=relaxed/relaxed;
 d=1e100.net; s=20230601; t=1713375425; x=1713980225;
 h=references:in-reply-to:cc:to:from:subject:message-id:date
 :x-gm-message-state:from:to:cc:subject:date:message-id:reply-to;
 bh=7lHlwMpmLtscqXZ6qSJ8+tQjaVvKQe+to0v3YkegBRA=;
 b=jMHANpT82FriQWOrmhx+zhr0DuoOPHl6YHwFEhR4wyQTBOMbfcNL7hRvYZgabVfffh
 ZPoD5PwpSC6377tulvvlP+crr3y3oVAoXzf8DFfmlLru/FzEHIP3U8V41p2uicvSLGWv
 2VvgO8m8ayO13qFGC6ixxIYrZMtmU8XljlKd4Uik2uubicCFPDbnysz5As+SA/6beLlA
 waa/v9t3HVl9ZBsbjkr80l5lwOcOoDwFKrW32UPQzgcwSkz0Ox5SvEHDSOMyo+Vm0vnS
 fLqnkmiwPelSTUeUx7yakcltmzXOP97T4c6WkjFKF3AVRIw8U3iVGRYmyn2ur3LdN8V2
 zwNA==
X-Gm-Message-State: AOJu0YxIi/BGH40gBNCYYkHYttpIQNcvGoNw5l+dg9ArhRtSPcK1J5N2
 /e44hQbOZ+BYj99V3qxoHuXN551OryuPELAgAbm6IT+VtWvTeNjG46pR8pCsnWuHTGYWWjm9fis
 14zrT9CGCBbXdqnu4aLnYIOA1+8BrZ/8Ourcl2n21
X-Google-Smtp-Source: AGHT+IG2nGVtOgXry7Or3ZlYSgbyveGN++285Ib9WaV/He9QZmJMSBGUunEp6jb8RRxGjhWS2WiN0+mYS4f/
X-Received: by 2002:a0c:c492:0:b0:69b:27db:1142 with SMTP id
 u18-20020a0cc492000000b0069b27db1142mr13978qvi.61.1713375425125; 
 Wed, 17 Apr 2024 10:37:05 -0700 (PDT)
Received: from postal.iol.unh.edu (postal.iol.unh.edu. [132.177.123.84])
 by smtp-relay.gmail.com with ESMTPS id
 hf9-20020a0562140e8900b0069b3b116ab9sm1166477qvb.55.2024.04.17.10.37.05
 (version=TLS1_2 cipher=ECDHE-ECDSA-AES128-GCM-SHA256 bits=128/128);
 Wed, 17 Apr 2024 10:37:05 -0700 (PDT)
X-Relaying-Domain: iol.unh.edu
Date: Wed, 17 Apr 2024 10:37:05 -0700 (PDT)
Message-ID: <662008c1.050a0220.163e.98faSMTPIN_ADDED_MISSING@mx.google.com>
Received: from [172.21.0.6] (unknown [172.18.0.240])
 by postal.iol.unh.edu (Postfix) with ESMTP id CC012604D420;
 Wed, 17 Apr 2024 13:37:04 -0400 (EDT)
Subject: |SUCCESS| pw139447 [PATCH] lib/vhost: add flag for async connection 
From: dpdklab@iol.unh.edu
To: Test Report <test-report@dpdk.org>
Cc: dpdk-test-reports@iol.unh.edu
In-Reply-To: <20240417083835.164456-1-udav@mts.ru>
References: <20240417083835.164456-1-udav@mts.ru>
Content-Type: text/plain
X-BeenThere: test-report@dpdk.org
X-Mailman-Version: 2.1.29
Precedence: list
List-Id: automatic DPDK test reports <test-report.dpdk.org>
List-Unsubscribe: <https://mails.dpdk.org/options/test-report>,
 <mailto:test-report-request@dpdk.org?subject=unsubscribe>
List-Archive: <http://mails.dpdk.org/archives/test-report/>
List-Post: <mailto:test-report@dpdk.org>
List-Help: <mailto:test-report-request@dpdk.org?subject=help>
List-Subscribe: <https://mails.dpdk.org/listinfo/test-report>,
 <mailto:test-report-request@dpdk.org?subject=subscribe>
Errors-To: test-report-bounces@dpdk.org

Test-Label: iol-compile-amd64-testing
Test-Status: SUCCESS
http://dpdk.org/patch/139447

_Testing PASS_

Submitter: Ushkov Daniil <udav@mts.ru>
Date: Wednesday, April 17 2024 08:41:00 
DPDK git baseline: Repo:dpdk
  Branch: master
  CommitID:deedfb86a7a6e10064d3cccd593f62072de96e36

139447 --> testing pass

Test environment and result as below:

+---------------------+--------------------+----------------------+-------------------+
|     Environment     | dpdk_meson_compile | dpdk_mingw64_compile | dpdk_msvc_compile |
+=====================+====================+======================+===================+
| FreeBSD 13.2        | PASS               | SKIPPED              | SKIPPED           |
+---------------------+--------------------+----------------------+-------------------+
| Windows Server 2019 | PASS               | PASS                 | SKIPPED           |
+---------------------+--------------------+----------------------+-------------------+
| Windows Server 2022 | PASS               | PASS                 | PASS              |
+---------------------+--------------------+----------------------+-------------------+
| CentOS Stream 8     | PASS               | SKIPPED              | SKIPPED           |
+---------------------+--------------------+----------------------+-------------------+
| Debian Bullseye     | PASS               | SKIPPED              | SKIPPED           |
+---------------------+--------------------+----------------------+-------------------+
| CentOS Stream 9     | PASS               | SKIPPED              | SKIPPED           |
+---------------------+--------------------+----------------------+-------------------+
| Fedora 37           | PASS               | SKIPPED              | SKIPPED           |
+---------------------+--------------------+----------------------+-------------------+
| Fedora 38           | PASS               | SKIPPED              | SKIPPED           |
+---------------------+--------------------+----------------------+-------------------+
| Fedora 39           | PASS               | SKIPPED              | SKIPPED           |
+---------------------+--------------------+----------------------+-------------------+
| openSUSE Leap 15    | PASS               | SKIPPED              | SKIPPED           |
+---------------------+--------------------+----------------------+-------------------+
| Debian 12           | PASS               | SKIPPED              | SKIPPED           |
+---------------------+--------------------+----------------------+-------------------+
| Ubuntu 22.04        | PASS               | SKIPPED              | SKIPPED           |
+---------------------+--------------------+----------------------+-------------------+
| RHEL8               | PASS               | SKIPPED              | SKIPPED           |
+---------------------+--------------------+----------------------+-------------------+
| Ubuntu 20.04        | PASS               | SKIPPED              | SKIPPED           |
+---------------------+--------------------+----------------------+-------------------+
| Alpine              | PASS               | SKIPPED              | SKIPPED           |
+---------------------+--------------------+----------------------+-------------------+


FreeBSD 13.2
	Kernel: 13.2
	Compiler: clang 14.0.5

Windows Server 2019
	Kernel: 10.0.17763
	Compiler: clang 14.0 and gcc 8.1.0 (MinGW)

Windows Server 2022
	Kernel: 10.0.20348.2031
	Compiler: clang 15.0.7, gcc 8.1.0 (MinGW), and MSVC VS 17.9

CentOS Stream 8
	Kernel: 5.4.0-167-generic
	Compiler: gcc 8.5.0 20210514

Debian Bullseye
	Kernel: 5.4.0-167-generic
	Compiler: gcc 10.2.1-6

CentOS Stream 9
	Kernel: 5.4.0-167-generic
	Compiler: gcc 11.4.1 20230605

Fedora 37
	Kernel: Depends on container host system
	Compiler: gcc 12.3.1

Fedora 38
	Kernel: Depends on container host
	Compiler: gcc 13.2.1

Fedora 39
	Kernel: Depends on container host
	Compiler: gcc 13.2.1

openSUSE Leap 15
	Kernel: 5.4.0-167-generic
	Compiler: gcc 7.5.0

Debian 12
	Kernel: Container Host Kernel
	Compiler: gcc 10.2.1

Ubuntu 22.04
	Kernel: 5.4.0-167-generic
	Compiler: gcc 11.4.0

RHEL8
	Kernel: 5.4.0-167-generic
	Compiler: gcc 8.5.0 20210514 (Red Hat 8.5.0-20)

Ubuntu 20.04
	Kernel: 5.4.0-167-generic
	Compiler: gcc 9.4.0-1ubuntu1~20.04.1

Alpine
	Kernel: 5.4.0-167-generic
	Compiler: gcc (Alpine 12.2.1_git20220924-r10) 12.2.1 20220924

To view detailed results, visit:
https://lab.dpdk.org/results/dashboard/patchsets/29804/

UNH-IOL DPDK Community Lab

To manage your email subscriptions, visit: 
https://lab.dpdk.org/results/dashboard/preferences/subscriptions/