From mboxrd@z Thu Jan  1 00:00:00 1970
Return-Path: <test-report-bounces@dpdk.org>
Received: from mails.dpdk.org (mails.dpdk.org [217.70.189.124])
	by inbox.dpdk.org (Postfix) with ESMTP id 20C5843E95
	for <public@inbox.dpdk.org>; Wed, 17 Apr 2024 20:01:00 +0200 (CEST)
Received: from mails.dpdk.org (localhost [127.0.0.1])
	by mails.dpdk.org (Postfix) with ESMTP id 1CE2340A76;
	Wed, 17 Apr 2024 20:01:00 +0200 (CEST)
Received: from mail-ot1-f99.google.com (mail-ot1-f99.google.com
 [209.85.210.99]) by mails.dpdk.org (Postfix) with ESMTP id 43B8B402B5
 for <test-report@dpdk.org>; Wed, 17 Apr 2024 20:00:58 +0200 (CEST)
Received: by mail-ot1-f99.google.com with SMTP id
 46e09a7af769-6eb7500abe3so2570777a34.2
 for <test-report@dpdk.org>; Wed, 17 Apr 2024 11:00:58 -0700 (PDT)
DKIM-Signature: v=1; a=rsa-sha256; c=relaxed/relaxed;
 d=iol.unh.edu; s=unh-iol; t=1713376857; x=1713981657; darn=dpdk.org;
 h=references:in-reply-to:cc:to:from:subject:message-id:date:from:to
 :cc:subject:date:message-id:reply-to;
 bh=ssSWY825yV834cCzheHZOzRY/ZIpwyMOqsV4QyquaWM=;
 b=RkE3y5ADzSHeyEAEtykGSkNFKYOStCztsktIwAmDwox+szoHqRmEpd6d/9Qbi9na72
 mTv4JJAiyNof2IgAoi9B+xXDPZEcypKBablmwQzzG7Kc9TrG7ukXWKt/TzlAZQxhpyHZ
 eMtE/oMq03QmJVmDtobsbQ2AVSrwM5e02wMtI=
X-Google-DKIM-Signature: v=1; a=rsa-sha256; c=relaxed/relaxed;
 d=1e100.net; s=20230601; t=1713376857; x=1713981657;
 h=references:in-reply-to:cc:to:from:subject:message-id:date
 :x-gm-message-state:from:to:cc:subject:date:message-id:reply-to;
 bh=ssSWY825yV834cCzheHZOzRY/ZIpwyMOqsV4QyquaWM=;
 b=Up+NDOuXi3B7cDk9mX8e4zcYdBb4o4mHSOCaCFh3BPaWHe43HZoSXNJQQKpuVhxXVo
 RdpOMAxA+Qd8rX42NJXwxO6g4IpIFvSs8dy0JjuqAGD8uTLTedRnn+6zVHU9e912bLQr
 SWwMEvuA4nL0rh1j1n8hVJQglHW4y1s8FGTC9lgkByIsi8ODMWwf5DwMKMs1dsCQ6aB/
 6VG7lhdR5ddm2NH1DUcNlNfohMfsYHZDHc9v9wzCWsXz1xrhvik34zgh5nSklbcuarEZ
 +3978gMzlbClj050eli5MUG1Dv4cdVuAUeOMaWQnK+829/fXYJfGuvz9G2077tbo/3Va
 /HyA==
X-Gm-Message-State: AOJu0YwkIIzan9dWe0ZYPYMPWYTATlttqXbsogIMiL+dbC+3ETK9wFkE
 mN9LrMb4ds4iDMqJKojAuTBVLqjKE4f9ShdGibMJJODKaPDctPwm+Kb5N00aLbC1X/KPMSS80jQ
 OVMWt6Kb5DX1brKoivk1MBHZwtglZpg0r1S+uT4W1
X-Google-Smtp-Source: AGHT+IGZdVxx3dOpGxBdOcGWLLiX1XVdpJTruloXojIuvOsqgXuS8I7HhZ+78vWk0qwU5uws+kabPWv7V9v2
X-Received: by 2002:a05:6871:e7c7:b0:233:3734:e645 with SMTP id
 qc7-20020a056871e7c700b002333734e645mr287085oac.59.1713376857343; 
 Wed, 17 Apr 2024 11:00:57 -0700 (PDT)
Received: from postal.iol.unh.edu (postal.iol.unh.edu. [132.177.123.84])
 by smtp-relay.gmail.com with ESMTPS id
 tp10-20020a0568718b8a00b0021e7c9d798bsm371994oab.5.2024.04.17.11.00.57
 (version=TLS1_2 cipher=ECDHE-ECDSA-AES128-GCM-SHA256 bits=128/128);
 Wed, 17 Apr 2024 11:00:57 -0700 (PDT)
X-Relaying-Domain: iol.unh.edu
Date: Wed, 17 Apr 2024 11:00:57 -0700 (PDT)
Message-ID: <66200e59.050a0220.5b6aa.f4a3SMTPIN_ADDED_MISSING@mx.google.com>
Received: from [172.21.0.7] (unknown [172.18.0.240])
 by postal.iol.unh.edu (Postfix) with ESMTP id A137C604D420;
 Wed, 17 Apr 2024 14:00:55 -0400 (EDT)
Subject: |SUCCESS| pw139452-139454 [PATCH] [v8,4/4] hash: add SVE support for
From: dpdklab@iol.unh.edu
To: Test Report <test-report@dpdk.org>
Cc: dpdk-test-reports@iol.unh.edu
In-Reply-To: <20240417160807.1249480-5-yoan.picchi@arm.com>
References: <20240417160807.1249480-5-yoan.picchi@arm.com>
Content-Type: text/plain
X-BeenThere: test-report@dpdk.org
X-Mailman-Version: 2.1.29
Precedence: list
List-Id: automatic DPDK test reports <test-report.dpdk.org>
List-Unsubscribe: <https://mails.dpdk.org/options/test-report>,
 <mailto:test-report-request@dpdk.org?subject=unsubscribe>
List-Archive: <http://mails.dpdk.org/archives/test-report/>
List-Post: <mailto:test-report@dpdk.org>
List-Help: <mailto:test-report-request@dpdk.org?subject=help>
List-Subscribe: <https://mails.dpdk.org/listinfo/test-report>,
 <mailto:test-report-request@dpdk.org?subject=subscribe>
Errors-To: test-report-bounces@dpdk.org

Test-Label: iol-compile-amd64-testing
Test-Status: SUCCESS
http://dpdk.org/patch/139454

_Testing PASS_

Submitter: Yoan Picchi <yoan.picchi@arm.com>
Date: Wednesday, April 17 2024 16:08:07 
DPDK git baseline: Repo:dpdk
  Branch: master
  CommitID:e2e546ab5bf5e024986ccb5310ab43982f3bb40c

139452-139454 --> testing pass

Test environment and result as below:

+---------------------+--------------------+----------------------+-------------------+
|     Environment     | dpdk_meson_compile | dpdk_mingw64_compile | dpdk_msvc_compile |
+=====================+====================+======================+===================+
| FreeBSD 13.2        | PASS               | SKIPPED              | SKIPPED           |
+---------------------+--------------------+----------------------+-------------------+
| Windows Server 2022 | PASS               | PASS                 | PASS              |
+---------------------+--------------------+----------------------+-------------------+
| Windows Server 2019 | SKIPPED            | PASS                 | SKIPPED           |
+---------------------+--------------------+----------------------+-------------------+


FreeBSD 13.2
	Kernel: 13.2
	Compiler: clang 14.0.5

Windows Server 2022
	Kernel: 10.0.20348.2031
	Compiler: clang 15.0.7, gcc 8.1.0 (MinGW), and MSVC VS 17.9

Windows Server 2019
	Kernel: 10.0.17763
	Compiler: clang 14.0 and gcc 8.1.0 (MinGW)

To view detailed results, visit:
https://lab.dpdk.org/results/dashboard/patchsets/29808/

UNH-IOL DPDK Community Lab

To manage your email subscriptions, visit: 
https://lab.dpdk.org/results/dashboard/preferences/subscriptions/