From mboxrd@z Thu Jan  1 00:00:00 1970
Return-Path: <test-report-bounces@dpdk.org>
Received: from mails.dpdk.org (mails.dpdk.org [217.70.189.124])
	by inbox.dpdk.org (Postfix) with ESMTP id B099043E95
	for <public@inbox.dpdk.org>; Wed, 17 Apr 2024 20:02:35 +0200 (CEST)
Received: from mails.dpdk.org (localhost [127.0.0.1])
	by mails.dpdk.org (Postfix) with ESMTP id ABA0B40A76;
	Wed, 17 Apr 2024 20:02:35 +0200 (CEST)
Received: from mail-pg1-f228.google.com (mail-pg1-f228.google.com
 [209.85.215.228])
 by mails.dpdk.org (Postfix) with ESMTP id 770A8402B5
 for <test-report@dpdk.org>; Wed, 17 Apr 2024 20:02:33 +0200 (CEST)
Received: by mail-pg1-f228.google.com with SMTP id
 41be03b00d2f7-5d42e7ab8a9so3207657a12.3
 for <test-report@dpdk.org>; Wed, 17 Apr 2024 11:02:33 -0700 (PDT)
DKIM-Signature: v=1; a=rsa-sha256; c=relaxed/relaxed;
 d=iol.unh.edu; s=unh-iol; t=1713376952; x=1713981752; darn=dpdk.org;
 h=references:in-reply-to:cc:to:from:subject:message-id:date:from:to
 :cc:subject:date:message-id:reply-to;
 bh=PHpwBMBm8IyVrcvpS5lKxGcMMfgF5g06KshghiVpTWE=;
 b=jJnwDycl5VMEw31l2fCJgTgHLfmODy8jwyP0+q8rB/fHS5gKEQZ2B/r+ougIZ67a+v
 IRmuT7TFWyd78A2FouV+nC98v4hzH0NIUEtc2BrN+7Bx7EvVdZAmdgF/f6seO7jsax8O
 tr4jmBlTdG5t0iPmYGM+Kzk0aiGemaWjpTLUI=
X-Google-DKIM-Signature: v=1; a=rsa-sha256; c=relaxed/relaxed;
 d=1e100.net; s=20230601; t=1713376952; x=1713981752;
 h=references:in-reply-to:cc:to:from:subject:message-id:date
 :x-gm-message-state:from:to:cc:subject:date:message-id:reply-to;
 bh=PHpwBMBm8IyVrcvpS5lKxGcMMfgF5g06KshghiVpTWE=;
 b=Es+AIrgmWqTAUSIRpOCiHv3rQ/IA5KlMEzILX5CT52iytONBx7WQHxbTmyEaBdfGQ2
 lGiYpjj17u6ID7AgHFSuUtntSNHTnhp3NECYG+ngU2zoWIwV6mORxbef+wbCopSimMGS
 W/bI0jLm7p4bmSRpb7AKLm+NA6QgIyDPhwb5Ng8GyMMyUp8VmzgGtx2EG+GAp8TLzdDX
 HPPJ2QK7W/+S89CC6CD/sE9c+hnv0juy4XpsGeZjv7D7zsjXSVjo9mhwaKQ3MXxJWGw3
 cTGclAxWnhYGDz12uP7006aOJ6wWrY3RWyAWkFX7EZ+AuoG8JsPaQRY4AvGni5SYOZXY
 +7Iw==
X-Gm-Message-State: AOJu0YzKDmFobOGUs1sAt86Ca1u2JpRzTOnnqVZIX/s2uKStWKGg25Op
 vYpXJxHeWDHRkzyvXQwan6RC/F4aMif74MtsgAzVtmDbF8JzrpIec1FeAf3LXEoY70R+jIucIe8
 MK5Ak/Hq/4s70Ou9FAIHlV/P9qBIknPggcZuZIo/r
X-Google-Smtp-Source: AGHT+IEs9CUywFAX84/Y/bB+bEAta+l7NIXWJShLOk2lhdW+8bg1+yzUA+RHnT7oVyvlEKhDdJNLbGCgk4s4
X-Received: by 2002:a17:90b:1d8b:b0:2a2:ab2c:da40 with SMTP id
 pf11-20020a17090b1d8b00b002a2ab2cda40mr119521pjb.33.1713376952657; 
 Wed, 17 Apr 2024 11:02:32 -0700 (PDT)
Received: from postal.iol.unh.edu (postal.iol.unh.edu. [132.177.123.84])
 by smtp-relay.gmail.com with ESMTPS id
 br11-20020a17090b0f0b00b002a2fb60aa82sm235072pjb.0.2024.04.17.11.02.32
 (version=TLS1_2 cipher=ECDHE-ECDSA-AES128-GCM-SHA256 bits=128/128);
 Wed, 17 Apr 2024 11:02:32 -0700 (PDT)
X-Relaying-Domain: iol.unh.edu
Date: Wed, 17 Apr 2024 11:02:32 -0700 (PDT)
Message-ID: <66200eb8.170a0220.6b089.c0b5SMTPIN_ADDED_MISSING@mx.google.com>
Received: from [172.21.0.6] (unknown [172.18.0.240])
 by postal.iol.unh.edu (Postfix) with ESMTP id CAAE0604D420;
 Wed, 17 Apr 2024 14:02:31 -0400 (EDT)
Subject: |SUCCESS| pw139447 [PATCH] lib/vhost: add flag for async connection 
From: dpdklab@iol.unh.edu
To: Test Report <test-report@dpdk.org>
Cc: dpdk-test-reports@iol.unh.edu
In-Reply-To: <20240417083835.164456-1-udav@mts.ru>
References: <20240417083835.164456-1-udav@mts.ru>
Content-Type: text/plain
X-BeenThere: test-report@dpdk.org
X-Mailman-Version: 2.1.29
Precedence: list
List-Id: automatic DPDK test reports <test-report.dpdk.org>
List-Unsubscribe: <https://mails.dpdk.org/options/test-report>,
 <mailto:test-report-request@dpdk.org?subject=unsubscribe>
List-Archive: <http://mails.dpdk.org/archives/test-report/>
List-Post: <mailto:test-report@dpdk.org>
List-Help: <mailto:test-report-request@dpdk.org?subject=help>
List-Subscribe: <https://mails.dpdk.org/listinfo/test-report>,
 <mailto:test-report-request@dpdk.org?subject=subscribe>
Errors-To: test-report-bounces@dpdk.org

Test-Label: iol-unit-arm64-testing
Test-Status: SUCCESS
http://dpdk.org/patch/139447

_Testing PASS_

Submitter: Ushkov Daniil <udav@mts.ru>
Date: Wednesday, April 17 2024 08:41:00 
DPDK git baseline: Repo:dpdk
  Branch: master
  CommitID:deedfb86a7a6e10064d3cccd593f62072de96e36

139447 --> testing pass

Test environment and result as below:

+-----------------------------+----------------+------------------------------+---------------------------+--------------+
|         Environment         | dpdk_unit_test | cryptodev_sw_snow3g_autotest | cryptodev_sw_zuc_autotest | lpm_autotest |
+=============================+================+==============================+===========================+==============+
| CentOS Stream 9 (ARM)       | PASS           | SKIPPED                      | SKIPPED                   | SKIPPED      |
+-----------------------------+----------------+------------------------------+---------------------------+--------------+
| Debian 11 (Buster) (ARM)    | PASS           | SKIPPED                      | SKIPPED                   | SKIPPED      |
+-----------------------------+----------------+------------------------------+---------------------------+--------------+
| Debian 12 (arm)             | PASS           | PASS                         | PASS                      | SKIPPED      |
+-----------------------------+----------------+------------------------------+---------------------------+--------------+
| 32-bit Ubuntu 20.04.4 (ARM) | PASS           | SKIPPED                      | SKIPPED                   | SKIPPED      |
+-----------------------------+----------------+------------------------------+---------------------------+--------------+
| Fedora 38 (ARM)             | PASS           | SKIPPED                      | SKIPPED                   | SKIPPED      |
+-----------------------------+----------------+------------------------------+---------------------------+--------------+
| Fedora 37 (ARM)             | PASS           | SKIPPED                      | SKIPPED                   | SKIPPED      |
+-----------------------------+----------------+------------------------------+---------------------------+--------------+
| Fedora 39 (ARM)             | PASS           | SKIPPED                      | SKIPPED                   | SKIPPED      |
+-----------------------------+----------------+------------------------------+---------------------------+--------------+
| Fedora 39 (ARM Clang)       | PASS           | SKIPPED                      | SKIPPED                   | SKIPPED      |
+-----------------------------+----------------+------------------------------+---------------------------+--------------+
| Ubuntu 20.04 (ARM)          | PASS           | SKIPPED                      | SKIPPED                   | SKIPPED      |
+-----------------------------+----------------+------------------------------+---------------------------+--------------+
| Fedora 38 (ARM Clang)       | PASS           | SKIPPED                      | SKIPPED                   | SKIPPED      |
+-----------------------------+----------------+------------------------------+---------------------------+--------------+
| Ubuntu 20.04 ARM SVE        | SKIPPED        | SKIPPED                      | SKIPPED                   | PASS         |
+-----------------------------+----------------+------------------------------+---------------------------+--------------+


CentOS Stream 9 (ARM)
	Kernel: Container Host Kernel
	Compiler: gcc 11.4.1

Debian 11 (Buster) (ARM)
	Kernel: Container Host Kernel
	Compiler: gcc 10.2.1

Debian 12 (arm)
	Kernel: Container Host Kernel
	Compiler: gcc 12.2.0

32-bit Ubuntu 20.04.4 (ARM)
	Kernel: 5.4.0-155-generic aarch64
	Compiler: gcc 9.4

Fedora 38 (ARM)
	Kernel: Depends on container host
	Compiler: gcc 13.2.1

Fedora 37 (ARM)
	Kernel: Depends on container host
	Compiler: gcc 12.3.1

Fedora 39 (ARM)
	Kernel: Depends on container host
	Compiler: gcc 13.2.1

Fedora 39 (ARM Clang)
	Kernel: Depends on container host
	Compiler: clang 17.0.6

Ubuntu 20.04 (ARM)
	Kernel: Container Host Kernel
	Compiler: gcc 9.4.0

Fedora 38 (ARM Clang)
	Kernel: Depends on container host
	Compiler: clang 16.0.6

Ubuntu 20.04 ARM SVE
	Kernel: 5.4.0-167-generic
	Compiler: gcc (Ubuntu 10.5.0-1ubuntu1~20.04) 10.5.0

To view detailed results, visit:
https://lab.dpdk.org/results/dashboard/patchsets/29804/

UNH-IOL DPDK Community Lab

To manage your email subscriptions, visit: 
https://lab.dpdk.org/results/dashboard/preferences/subscriptions/