From mboxrd@z Thu Jan  1 00:00:00 1970
Return-Path: <test-report-bounces@dpdk.org>
Received: from mails.dpdk.org (mails.dpdk.org [217.70.189.124])
	by inbox.dpdk.org (Postfix) with ESMTP id 5080F43E95
	for <public@inbox.dpdk.org>; Wed, 17 Apr 2024 20:07:17 +0200 (CEST)
Received: from mails.dpdk.org (localhost [127.0.0.1])
	by mails.dpdk.org (Postfix) with ESMTP id 49A4B40A76;
	Wed, 17 Apr 2024 20:07:17 +0200 (CEST)
Received: from mail-io1-f97.google.com (mail-io1-f97.google.com
 [209.85.166.97]) by mails.dpdk.org (Postfix) with ESMTP id DE18B402B5
 for <test-report@dpdk.org>; Wed, 17 Apr 2024 20:07:15 +0200 (CEST)
Received: by mail-io1-f97.google.com with SMTP id
 ca18e2360f4ac-7d6b0c766e9so349539f.0
 for <test-report@dpdk.org>; Wed, 17 Apr 2024 11:07:15 -0700 (PDT)
DKIM-Signature: v=1; a=rsa-sha256; c=relaxed/relaxed;
 d=iol.unh.edu; s=unh-iol; t=1713377235; x=1713982035; darn=dpdk.org;
 h=references:in-reply-to:cc:to:from:subject:message-id:date:from:to
 :cc:subject:date:message-id:reply-to;
 bh=mnzGmFtUKh778wMkPInJWtHucl/hlQh4Xor+8UUYJk4=;
 b=Tq4JqASjlLqXQbmONsEXoV2+QuRODrbi3RMh3za1kZAxjFImZmgOd3fn8rCH70oTES
 mDKXGGerBa4N0SMYqJbv5rx9CxCKmo+99dDVU69Oq+83npoAglAAvTCTlkTCboMLy9W3
 CZ8Lh+TK0xrEYNqlQW7UVCkCkSug7J3eZ1+2M=
X-Google-DKIM-Signature: v=1; a=rsa-sha256; c=relaxed/relaxed;
 d=1e100.net; s=20230601; t=1713377235; x=1713982035;
 h=references:in-reply-to:cc:to:from:subject:message-id:date
 :x-gm-message-state:from:to:cc:subject:date:message-id:reply-to;
 bh=mnzGmFtUKh778wMkPInJWtHucl/hlQh4Xor+8UUYJk4=;
 b=qI+heJUD7NNoqnzmT8qGVOQV/JI5OglD8j/ylGiFwBPhMLuEAm9mvxzVhw2pdPEVnb
 Hr+d1rJVCc0T5IWJaXCpR+ysoO3fSaW9POXgKSDsn/Sj6KhUr+b8i86aVfPHzK7ujou1
 gGvaCi8WsAIDpjd/F6SBtbjOa4ziHGZw4jI7mckqlcVuEFG0V8Nr1hWX0z6sxaiu9e9W
 Crk3oU9ltHAjHk6gXfiv8vNOKzo7ymBvj9rjsr0u1pWA76rSisCzoamujLYEHtydP+T2
 Uj2lip0AVtW7cXwrsZ+WpLXfhXi4zFsRjopA13GWplfr3/machW85VLmLRuUgf8hmIMK
 tidw==
X-Gm-Message-State: AOJu0YyiJfYb4mpj3ChJJ+yNfYzaBI63VWCNqqKVYAhU2ld+bHo3B90w
 2wM+NB1GBRpktqP3cphHd+s3sDX3FINvTwhvVDwbn5WOeXbI4wCZpE3aRN2q6JT6LXxjJl8IkMx
 kW1CKFx4MVZTE3B9lWFCSrz8W7epNBt6tRawxQCPm
X-Google-Smtp-Source: AGHT+IHjPDa/wQM66C9OB4jL0aet0of42VamWb7UVxQoWmBFOVsvNwegi9k+EgBVFQ6hhvaiXHWZGF6rpT4E
X-Received: by 2002:a6b:7b46:0:b0:7d6:8bab:15db with SMTP id
 m6-20020a6b7b46000000b007d68bab15dbmr488323iop.18.1713377235292; 
 Wed, 17 Apr 2024 11:07:15 -0700 (PDT)
Received: from postal.iol.unh.edu (postal.iol.unh.edu. [132.177.123.84])
 by smtp-relay.gmail.com with ESMTPS id
 s6-20020a056638218600b0048490b996bdsm69933jaj.44.2024.04.17.11.07.15
 (version=TLS1_2 cipher=ECDHE-ECDSA-AES128-GCM-SHA256 bits=128/128);
 Wed, 17 Apr 2024 11:07:15 -0700 (PDT)
X-Relaying-Domain: iol.unh.edu
Date: Wed, 17 Apr 2024 11:07:15 -0700 (PDT)
Message-ID: <66200fd3.050a0220.535a9.36c0SMTPIN_ADDED_MISSING@mx.google.com>
Received: from [172.21.0.7] (unknown [172.18.0.240])
 by postal.iol.unh.edu (Postfix) with ESMTP id C1374604D420;
 Wed, 17 Apr 2024 14:07:13 -0400 (EDT)
Subject: |SUCCESS| pw139452-139454 [PATCH] [v8,4/4] hash: add SVE support for
From: dpdklab@iol.unh.edu
To: Test Report <test-report@dpdk.org>
Cc: dpdk-test-reports@iol.unh.edu
In-Reply-To: <20240417160807.1249480-5-yoan.picchi@arm.com>
References: <20240417160807.1249480-5-yoan.picchi@arm.com>
Content-Type: text/plain
X-BeenThere: test-report@dpdk.org
X-Mailman-Version: 2.1.29
Precedence: list
List-Id: automatic DPDK test reports <test-report.dpdk.org>
List-Unsubscribe: <https://mails.dpdk.org/options/test-report>,
 <mailto:test-report-request@dpdk.org?subject=unsubscribe>
List-Archive: <http://mails.dpdk.org/archives/test-report/>
List-Post: <mailto:test-report@dpdk.org>
List-Help: <mailto:test-report-request@dpdk.org?subject=help>
List-Subscribe: <https://mails.dpdk.org/listinfo/test-report>,
 <mailto:test-report-request@dpdk.org?subject=subscribe>
Errors-To: test-report-bounces@dpdk.org

Test-Label: iol-unit-arm64-testing
Test-Status: SUCCESS
http://dpdk.org/patch/139454

_Testing PASS_

Submitter: Yoan Picchi <yoan.picchi@arm.com>
Date: Wednesday, April 17 2024 16:08:07 
DPDK git baseline: Repo:dpdk
  Branch: master
  CommitID:e2e546ab5bf5e024986ccb5310ab43982f3bb40c

139452-139454 --> testing pass

Test environment and result as below:

+--------------------------+---------------------------+------------------------------+----------------+
|       Environment        | cryptodev_sw_zuc_autotest | cryptodev_sw_snow3g_autotest | dpdk_unit_test |
+==========================+===========================+==============================+================+
| Debian 12 (arm)          | PASS                      | PASS                         | PASS           |
+--------------------------+---------------------------+------------------------------+----------------+
| CentOS Stream 9 (ARM)    | SKIPPED                   | SKIPPED                      | PASS           |
+--------------------------+---------------------------+------------------------------+----------------+
| Debian 11 (Buster) (ARM) | SKIPPED                   | SKIPPED                      | PASS           |
+--------------------------+---------------------------+------------------------------+----------------+
| Fedora 37 (ARM)          | SKIPPED                   | SKIPPED                      | PASS           |
+--------------------------+---------------------------+------------------------------+----------------+
| Fedora 38 (ARM)          | SKIPPED                   | SKIPPED                      | PASS           |
+--------------------------+---------------------------+------------------------------+----------------+
| Fedora 39 (ARM)          | SKIPPED                   | SKIPPED                      | PASS           |
+--------------------------+---------------------------+------------------------------+----------------+


Debian 12 (arm)
	Kernel: Container Host Kernel
	Compiler: gcc 12.2.0

CentOS Stream 9 (ARM)
	Kernel: Container Host Kernel
	Compiler: gcc 11.4.1

Debian 11 (Buster) (ARM)
	Kernel: Container Host Kernel
	Compiler: gcc 10.2.1

Fedora 37 (ARM)
	Kernel: Depends on container host
	Compiler: gcc 12.3.1

Fedora 38 (ARM)
	Kernel: Depends on container host
	Compiler: gcc 13.2.1

Fedora 39 (ARM)
	Kernel: Depends on container host
	Compiler: gcc 13.2.1

To view detailed results, visit:
https://lab.dpdk.org/results/dashboard/patchsets/29808/

UNH-IOL DPDK Community Lab

To manage your email subscriptions, visit: 
https://lab.dpdk.org/results/dashboard/preferences/subscriptions/