From mboxrd@z Thu Jan  1 00:00:00 1970
Return-Path: <test-report-bounces@dpdk.org>
Received: from mails.dpdk.org (mails.dpdk.org [217.70.189.124])
	by inbox.dpdk.org (Postfix) with ESMTP id 09C5543E95
	for <public@inbox.dpdk.org>; Wed, 17 Apr 2024 20:18:33 +0200 (CEST)
Received: from mails.dpdk.org (localhost [127.0.0.1])
	by mails.dpdk.org (Postfix) with ESMTP id 04A6940A76;
	Wed, 17 Apr 2024 20:18:33 +0200 (CEST)
Received: from mail-il1-f227.google.com (mail-il1-f227.google.com
 [209.85.166.227])
 by mails.dpdk.org (Postfix) with ESMTP id 40F62402B5
 for <test-report@dpdk.org>; Wed, 17 Apr 2024 20:18:31 +0200 (CEST)
Received: by mail-il1-f227.google.com with SMTP id
 e9e14a558f8ab-36a26272440so24929455ab.1
 for <test-report@dpdk.org>; Wed, 17 Apr 2024 11:18:31 -0700 (PDT)
DKIM-Signature: v=1; a=rsa-sha256; c=relaxed/relaxed;
 d=iol.unh.edu; s=unh-iol; t=1713377910; x=1713982710; darn=dpdk.org;
 h=references:in-reply-to:cc:to:from:subject:message-id:date:from:to
 :cc:subject:date:message-id:reply-to;
 bh=NrWsy+6LXH82ugKQTMILk57kY4CHmZTdTRGSOX2oAmU=;
 b=ID1mZ4td5pcoYLb/AdiiH70XF0Q7fJXXq+Qa8uScyGrIUFn2+/EmmTzfQRpmM0/6AI
 vhWL/CtPJeCQrvCnWkmH0KmECpWFJBQJGmXugwGfKakNSePOzsUqcfHETgQeHtXqJqUB
 FiJ9SzRd80C8xAHzx5u2t+ddK6ffxIb74JqDQ=
X-Google-DKIM-Signature: v=1; a=rsa-sha256; c=relaxed/relaxed;
 d=1e100.net; s=20230601; t=1713377910; x=1713982710;
 h=references:in-reply-to:cc:to:from:subject:message-id:date
 :x-gm-message-state:from:to:cc:subject:date:message-id:reply-to;
 bh=NrWsy+6LXH82ugKQTMILk57kY4CHmZTdTRGSOX2oAmU=;
 b=o0GfK8X//V+n5tuu9CiPHVH61nYAyKjmQH8AEMBoKCTwW4HdhIizzvjNdRyCBPl6+2
 Z5qRZAdwWoGNbpCYfcLZLEhh3NlWggdjmUcf7Ix2/dZdY/8fCmUG+TyEctvAR4bnSL83
 F8/7FUMAmXKoD4jKzPiW2cYsRCKi2lhUICBYLwEO+9mvtMEYmSTjbBpqAz910d5Jtnto
 355AM2p/VKOKLAbwLlDk6fa49lLC3Tvq2lmsAVAnFYU7CjpEGtLHganbXhfYOwBHQl17
 ThVbHjDW9Om/G299KWZj8yeSim4HoL/Jl/CkGTmTunuVmVDX6MVilCzClhyc8IhGkBz7
 RDpA==
X-Gm-Message-State: AOJu0YwanNiHwSzVsK84D24dpe9OB+ntKX/Q/VpaFuKN+rWPxhYReprR
 tNWO4BIpuCwctIh5RJIkDps6CHoOvNtfO14e2UjvLZeyL6ETEH5xI9skYmMW4NzUIdF1xpb4lSu
 dyKyELN1Ffr39heeuJutbedJPQi6dFT38Fg/0u7EA
X-Google-Smtp-Source: AGHT+IHu4kISfNuuW6yQAbSEotJCaqgEbCt+1IvnBievsmg0OCXrfAVsf4PNtMo5f4Fak0WyEvAh49OIg8/h
X-Received: by 2002:a05:6e02:1687:b0:368:96a2:f759 with SMTP id
 f7-20020a056e02168700b0036896a2f759mr327791ila.13.1713377910205; 
 Wed, 17 Apr 2024 11:18:30 -0700 (PDT)
Received: from postal.iol.unh.edu (postal.iol.unh.edu. [132.177.123.84])
 by smtp-relay.gmail.com with ESMTPS id
 r22-20020a056638131600b004744f568a11sm768837jad.64.2024.04.17.11.18.30
 (version=TLS1_2 cipher=ECDHE-ECDSA-AES128-GCM-SHA256 bits=128/128);
 Wed, 17 Apr 2024 11:18:30 -0700 (PDT)
X-Relaying-Domain: iol.unh.edu
Date: Wed, 17 Apr 2024 11:18:30 -0700 (PDT)
Message-ID: <66201276.050a0220.e41c1.3b59SMTPIN_ADDED_MISSING@mx.google.com>
Received: from [172.21.0.6] (unknown [172.18.0.240])
 by postal.iol.unh.edu (Postfix) with ESMTP id A2E86604D420;
 Wed, 17 Apr 2024 14:18:29 -0400 (EDT)
Subject: |SUCCESS| pw139447 [PATCH] lib/vhost: add flag for async connection 
From: dpdklab@iol.unh.edu
To: Test Report <test-report@dpdk.org>
Cc: dpdk-test-reports@iol.unh.edu
In-Reply-To: <20240417083835.164456-1-udav@mts.ru>
References: <20240417083835.164456-1-udav@mts.ru>
Content-Type: text/plain
X-BeenThere: test-report@dpdk.org
X-Mailman-Version: 2.1.29
Precedence: list
List-Id: automatic DPDK test reports <test-report.dpdk.org>
List-Unsubscribe: <https://mails.dpdk.org/options/test-report>,
 <mailto:test-report-request@dpdk.org?subject=unsubscribe>
List-Archive: <http://mails.dpdk.org/archives/test-report/>
List-Post: <mailto:test-report@dpdk.org>
List-Help: <mailto:test-report-request@dpdk.org?subject=help>
List-Subscribe: <https://mails.dpdk.org/listinfo/test-report>,
 <mailto:test-report-request@dpdk.org?subject=subscribe>
Errors-To: test-report-bounces@dpdk.org

Test-Label: iol-unit-amd64-testing
Test-Status: SUCCESS
http://dpdk.org/patch/139447

_Testing PASS_

Submitter: Ushkov Daniil <udav@mts.ru>
Date: Wednesday, April 17 2024 08:41:00 
DPDK git baseline: Repo:dpdk
  Branch: master
  CommitID:deedfb86a7a6e10064d3cccd593f62072de96e36

139447 --> testing pass

Test environment and result as below:

+---------------------+----------------+
|     Environment     | dpdk_unit_test |
+=====================+================+
| CentOS Stream 8     | PASS           |
+---------------------+----------------+
| CentOS Stream 9     | PASS           |
+---------------------+----------------+
| Debian Bullseye     | PASS           |
+---------------------+----------------+
| Fedora 37           | PASS           |
+---------------------+----------------+
| Fedora 38           | PASS           |
+---------------------+----------------+
| Debian 12           | PASS           |
+---------------------+----------------+
| Windows Server 2019 | PASS           |
+---------------------+----------------+
| Ubuntu 20.04        | PASS           |
+---------------------+----------------+
| RHEL8               | PASS           |
+---------------------+----------------+
| Ubuntu 22.04        | PASS           |
+---------------------+----------------+
| Fedora 39           | PASS           |
+---------------------+----------------+
| openSUSE Leap 15    | PASS           |
+---------------------+----------------+


CentOS Stream 8
	Kernel: 5.4.0-167-generic
	Compiler: gcc 8.5.0 20210514

CentOS Stream 9
	Kernel: 5.4.0-167-generic
	Compiler: gcc 11.4.1 20230605

Debian Bullseye
	Kernel: 5.4.0-167-generic
	Compiler: gcc 10.2.1-6

Fedora 37
	Kernel: Depends on container host system
	Compiler: gcc 12.3.1

Fedora 38
	Kernel: Depends on container host
	Compiler: clang 16.0.6

Debian 12
	Kernel: Container Host Kernel
	Compiler: gcc 10.2.1

Windows Server 2019
	Kernel: 10.0.17763
	Compiler: clang 14.0 and gcc 8.1.0 (MinGW)

Ubuntu 20.04
	Kernel: 5.4.0-167-generic
	Compiler: gcc 9.4.0-1ubuntu1~20.04.1

RHEL8
	Kernel: 5.4.0-167-generic
	Compiler: gcc 8.5.0 20210514 (Red Hat 8.5.0-20)

Ubuntu 22.04
	Kernel: 5.4.0-167-generic
	Compiler: gcc 11.4.0

Fedora 39
	Kernel: Depends on container host
	Compiler: clang 17.0.6

openSUSE Leap 15
	Kernel: 5.4.0-167-generic
	Compiler: gcc 7.5.0

To view detailed results, visit:
https://lab.dpdk.org/results/dashboard/patchsets/29804/

UNH-IOL DPDK Community Lab

To manage your email subscriptions, visit: 
https://lab.dpdk.org/results/dashboard/preferences/subscriptions/