From mboxrd@z Thu Jan  1 00:00:00 1970
Return-Path: <test-report-bounces@dpdk.org>
Received: from mails.dpdk.org (mails.dpdk.org [217.70.189.124])
	by inbox.dpdk.org (Postfix) with ESMTP id 5E73243E95
	for <public@inbox.dpdk.org>; Wed, 17 Apr 2024 20:23:00 +0200 (CEST)
Received: from mails.dpdk.org (localhost [127.0.0.1])
	by mails.dpdk.org (Postfix) with ESMTP id 502B140A76;
	Wed, 17 Apr 2024 20:23:00 +0200 (CEST)
Received: from mail-pl1-f228.google.com (mail-pl1-f228.google.com
 [209.85.214.228])
 by mails.dpdk.org (Postfix) with ESMTP id 76091402B5
 for <test-report@dpdk.org>; Wed, 17 Apr 2024 20:22:59 +0200 (CEST)
Received: by mail-pl1-f228.google.com with SMTP id
 d9443c01a7336-1e2b1cd446fso377425ad.3
 for <test-report@dpdk.org>; Wed, 17 Apr 2024 11:22:59 -0700 (PDT)
DKIM-Signature: v=1; a=rsa-sha256; c=relaxed/relaxed;
 d=iol.unh.edu; s=unh-iol; t=1713378178; x=1713982978; darn=dpdk.org;
 h=references:in-reply-to:cc:to:from:subject:message-id:date:from:to
 :cc:subject:date:message-id:reply-to;
 bh=XtZQvphXjDo8Az6tK+T1oCau8ItNtrLmiIVWWJNz630=;
 b=edeIC7B0QBrkJCmqJEz7hKiKHRToYO6Ch4OQSPw5g+eDz1v7jNJtCgmcLMK9XtLe8c
 20B6hXXPTLknrvmpUCTpzeXp3XOy5l9GEN0UU8ynx5Z0t2dN/FOZY95v9VvNmB2eJZ6B
 vmsTtV8yYBIj0LQ4LYwqvX0sZ6WX30ZfXmAjY=
X-Google-DKIM-Signature: v=1; a=rsa-sha256; c=relaxed/relaxed;
 d=1e100.net; s=20230601; t=1713378178; x=1713982978;
 h=references:in-reply-to:cc:to:from:subject:message-id:date
 :x-gm-message-state:from:to:cc:subject:date:message-id:reply-to;
 bh=XtZQvphXjDo8Az6tK+T1oCau8ItNtrLmiIVWWJNz630=;
 b=UfgzBRsViPvreCxDsbYl5qYGtJRuCsnigqbrtlyk+UI22H2irgetUF54x3UooQbbga
 ulGEkMoROB6dedspSLBNSClDeJu2xArr9+9jJIJr7iGqWQeEGR9ARmcHNFOdlhqIHuvX
 WWDoCi0x95EqaFU07e+QlSRLJWGMTi2kuvTEqyxxBbksTF0tFYaQhA6YB9GZeDlc1Ek4
 IY8+MrYA3ryYpT8xgeVkU3sFRg4Y1whk7sI8iCViEBJBkfNZbPSQYKtdRSC01+vhPPbU
 /KR5f1H4FXm9TMQsbswOkPLE9Us7BZuSIesvZkF23geUqixnvG7/yEwdNaKaoGMDsrKr
 RZ+w==
X-Gm-Message-State: AOJu0YwcOTAN4ud22rywb7qrL3JG7ImTWEqDT8kiw9B8VZDuoupVb5Uj
 WcwwiN891dbaJRBfXnVjXSkPSPtb26npnWDElu6SPBEKCr6PztNkzEAhdG/iOoDYOix/ih/hszB
 97dpzLi5R4SQRkORFqAuq34aLGHh99dpf77H6O1q02bOREY7E3imH+3h3
X-Google-Smtp-Source: AGHT+IFpbXBS3k1d0t7cSlN6rdnx7bbU+Wu+PLXdB+U91G4ylXuf8IDTmrnj7m7opUvnRVjOUsLnZOKCauIU
X-Received: by 2002:a17:902:6f16:b0:1e2:1805:52c5 with SMTP id
 w22-20020a1709026f1600b001e2180552c5mr310323plk.16.1713378178716; 
 Wed, 17 Apr 2024 11:22:58 -0700 (PDT)
Received: from postal.iol.unh.edu (postal.iol.unh.edu.
 [2606:4100:3880:1234::84]) by smtp-relay.gmail.com with ESMTPS id
 ka5-20020a170903334500b001e4f1f14b22sm534936plb.42.2024.04.17.11.22.58
 (version=TLS1_2 cipher=ECDHE-ECDSA-AES128-GCM-SHA256 bits=128/128);
 Wed, 17 Apr 2024 11:22:58 -0700 (PDT)
X-Relaying-Domain: iol.unh.edu
Date: Wed, 17 Apr 2024 11:22:58 -0700 (PDT)
Message-ID: <66201382.170a0220.bd9b.9177SMTPIN_ADDED_MISSING@mx.google.com>
Received: from [172.21.0.6] (unknown [172.18.0.240])
 by postal.iol.unh.edu (Postfix) with ESMTP id DE436604D420;
 Wed, 17 Apr 2024 14:22:57 -0400 (EDT)
Subject: |SUCCESS| pw139447 [PATCH] lib/vhost: add flag for async connection 
From: dpdklab@iol.unh.edu
To: Test Report <test-report@dpdk.org>
Cc: dpdk-test-reports@iol.unh.edu
In-Reply-To: <20240417083835.164456-1-udav@mts.ru>
References: <20240417083835.164456-1-udav@mts.ru>
Content-Type: text/plain
X-BeenThere: test-report@dpdk.org
X-Mailman-Version: 2.1.29
Precedence: list
List-Id: automatic DPDK test reports <test-report.dpdk.org>
List-Unsubscribe: <https://mails.dpdk.org/options/test-report>,
 <mailto:test-report-request@dpdk.org?subject=unsubscribe>
List-Archive: <http://mails.dpdk.org/archives/test-report/>
List-Post: <mailto:test-report@dpdk.org>
List-Help: <mailto:test-report-request@dpdk.org?subject=help>
List-Subscribe: <https://mails.dpdk.org/listinfo/test-report>,
 <mailto:test-report-request@dpdk.org?subject=subscribe>
Errors-To: test-report-bounces@dpdk.org

Test-Label: iol-compile-arm64-testing
Test-Status: SUCCESS
http://dpdk.org/patch/139447

_Testing PASS_

Submitter: Ushkov Daniil <udav@mts.ru>
Date: Wednesday, April 17 2024 08:41:00 
DPDK git baseline: Repo:dpdk
  Branch: master
  CommitID:deedfb86a7a6e10064d3cccd593f62072de96e36

139447 --> testing pass

Test environment and result as below:

+----------------------------------------+--------------------+
|              Environment               | dpdk_meson_compile |
+========================================+====================+
| Ubuntu 20.04 ARM SVE                   | PASS               |
+----------------------------------------+--------------------+
| Fedora 37 (ARM)                        | PASS               |
+----------------------------------------+--------------------+
| Fedora 38 (ARM)                        | PASS               |
+----------------------------------------+--------------------+
| Ubuntu 20.04 (ARM)                     | PASS               |
+----------------------------------------+--------------------+
| CentOS Stream 9 (ARM)                  | PASS               |
+----------------------------------------+--------------------+
| Debian 11 (Buster) (ARM)               | PASS               |
+----------------------------------------+--------------------+
| Debian 12 (arm)                        | PASS               |
+----------------------------------------+--------------------+
| Debian 12 with MUSDK                   | PASS               |
+----------------------------------------+--------------------+
| Ubuntu 20.04 aarch32 GCC Cross Compile | PASS               |
+----------------------------------------+--------------------+
| Ubuntu 20.04 ARM Clang Cross Compile   | PASS               |
+----------------------------------------+--------------------+
| Ubuntu 20.04 ARM GCC Cross Compile     | PASS               |
+----------------------------------------+--------------------+
| Fedora 39 (ARM Clang)                  | PASS               |
+----------------------------------------+--------------------+


Ubuntu 20.04 ARM SVE
	Kernel: 5.4.0-167-generic
	Compiler: gcc (Ubuntu 10.5.0-1ubuntu1~20.04) 10.5.0

Fedora 37 (ARM)
	Kernel: Depends on container host
	Compiler: gcc 12.3.1

Fedora 38 (ARM)
	Kernel: Depends on container host
	Compiler: gcc 13.2.1

Ubuntu 20.04 (ARM)
	Kernel: Container Host Kernel
	Compiler: gcc 9.4.0

CentOS Stream 9 (ARM)
	Kernel: Container Host Kernel
	Compiler: gcc 11.4.1

Debian 11 (Buster) (ARM)
	Kernel: Container Host Kernel
	Compiler: gcc 10.2.1

Debian 12 (arm)
	Kernel: Container Host Kernel
	Compiler: gcc 12.2.0

Debian 12 with MUSDK
	Kernel: Container Host Kernel
	Compiler: gcc 12.2.0

Ubuntu 20.04 aarch32 GCC Cross Compile
	Kernel: 5.4.0-167-generic
	Compiler: gcc 9.4.0

Ubuntu 20.04 ARM Clang Cross Compile
	Kernel: 5.4.0-72-generic
	Compiler: clang 10.0.0-4ubuntu1

Ubuntu 20.04 ARM GCC Cross Compile
	Kernel: 5.4.0-167-generic
	Compiler: aarch64-linux-gnu-gcc (Ubuntu 9.4.0-1ubuntu1~20.04.2) 9.4.0

Fedora 39 (ARM Clang)
	Kernel: Depends on container host
	Compiler: clang 17.0.6

To view detailed results, visit:
https://lab.dpdk.org/results/dashboard/patchsets/29804/

UNH-IOL DPDK Community Lab

To manage your email subscriptions, visit: 
https://lab.dpdk.org/results/dashboard/preferences/subscriptions/