From mboxrd@z Thu Jan  1 00:00:00 1970
Return-Path: <test-report-bounces@dpdk.org>
Received: from mails.dpdk.org (mails.dpdk.org [217.70.189.124])
	by inbox.dpdk.org (Postfix) with ESMTP id 7623C43E95
	for <public@inbox.dpdk.org>; Wed, 17 Apr 2024 20:23:16 +0200 (CEST)
Received: from mails.dpdk.org (localhost [127.0.0.1])
	by mails.dpdk.org (Postfix) with ESMTP id 6ABE840A76;
	Wed, 17 Apr 2024 20:23:15 +0200 (CEST)
Received: from mail-yw1-f226.google.com (mail-yw1-f226.google.com
 [209.85.128.226])
 by mails.dpdk.org (Postfix) with ESMTP id 23C30402B5
 for <test-report@dpdk.org>; Wed, 17 Apr 2024 20:23:14 +0200 (CEST)
Received: by mail-yw1-f226.google.com with SMTP id
 00721157ae682-61149e50602so777747b3.0
 for <test-report@dpdk.org>; Wed, 17 Apr 2024 11:23:14 -0700 (PDT)
DKIM-Signature: v=1; a=rsa-sha256; c=relaxed/relaxed;
 d=iol.unh.edu; s=unh-iol; t=1713378193; x=1713982993; darn=dpdk.org;
 h=references:in-reply-to:cc:to:from:subject:message-id:date:from:to
 :cc:subject:date:message-id:reply-to;
 bh=drhRv1af1qhB9jXM/QYRbu7mplwKasDbvGr+M8PKkxo=;
 b=ObBLPuqM4LaV03zZwmmveg4/G5bzItAuBC6cu58KwlPGye5vnc2eeFBJjWSVh5cHCs
 nkINbEQ0ZcJvEmriqNL+D72KlcVoDZLvS7MscFXEFSZ/q+GNKeuDReM/KJ5eMs9HCkqP
 tnWGPNeXhDdHUZG6ivh2/pNQ7IRTaf6wRwzko=
X-Google-DKIM-Signature: v=1; a=rsa-sha256; c=relaxed/relaxed;
 d=1e100.net; s=20230601; t=1713378193; x=1713982993;
 h=references:in-reply-to:cc:to:from:subject:message-id:date
 :x-gm-message-state:from:to:cc:subject:date:message-id:reply-to;
 bh=drhRv1af1qhB9jXM/QYRbu7mplwKasDbvGr+M8PKkxo=;
 b=XIiJXjLHXbqtW39PAMHscHv2THKpXwEdGzQ/14HXf7U8q1czFD5qy5ajT80vds28LD
 F8qHalsvB6tIaHqLWo+3H2ALL8X5/isxT0WJk2CdFyu4mDHWZiRQgfV5yxoONVVRhb5k
 GLFuVJ586hspCrDHxjWAadLzqAEzefBPnUyxVhBP9jqlEH7hLW6riKnhkuz6zpr2GmWt
 K98NFoaiH9MdWDfJnZjt0P/GZPbE6tbF4PiIeT4+/Zy7n0Dq1zR2/2m9seSKZ3M32s9/
 8fXzdzVjQCGsZeJ4NsHjSX6AtAma8oIs0DD104cKztGlBzdwuCWk7nvOtMiE7lvPxoAI
 6SFA==
X-Gm-Message-State: AOJu0YxXjWaJwpczuyU2MU5a/nLxL8VhaSe3Nc3gEVNyn08EIb4f3yRl
 2jnBM8iyAJ8G61nIVt7/nNOgEaDbE97nWpvnqON5NqkTmnRZSY0FMUW+2zHrqAiO9Q1GwXI6L+e
 XHJjH+wZf+vaBmvBMZl1O8whzRLh8oU4qfS+4M2I6BHRoG7zr+c8h73fR
X-Google-Smtp-Source: AGHT+IFsTKFNFWtl5KI6t6bvPa60pcU1xxbv9koh8yltS99zHwWX58uVSx1RZwrvWhZySkPT8HgzbpOdV+vm
X-Received: by 2002:a05:690c:dd3:b0:618:9198:1a9b with SMTP id
 db19-20020a05690c0dd300b0061891981a9bmr279385ywb.3.1713378193536; 
 Wed, 17 Apr 2024 11:23:13 -0700 (PDT)
Received: from postal.iol.unh.edu (postal.iol.unh.edu.
 [2606:4100:3880:1234::84]) by smtp-relay.gmail.com with ESMTPS id
 bc8-20020a05690c000800b006156392a12dsm733826ywb.63.2024.04.17.11.23.13
 (version=TLS1_2 cipher=ECDHE-ECDSA-AES128-GCM-SHA256 bits=128/128);
 Wed, 17 Apr 2024 11:23:13 -0700 (PDT)
X-Relaying-Domain: iol.unh.edu
Date: Wed, 17 Apr 2024 11:23:13 -0700 (PDT)
Message-ID: <66201391.050a0220.661a3.f10aSMTPIN_ADDED_MISSING@mx.google.com>
Received: from [172.21.0.6] (unknown [172.18.0.240])
 by postal.iol.unh.edu (Postfix) with ESMTP id 3B959604D420;
 Wed, 17 Apr 2024 14:23:12 -0400 (EDT)
Subject: |SUCCESS| pw139452-139454 [PATCH] [v8,4/4] hash: add SVE support for
From: dpdklab@iol.unh.edu
To: Test Report <test-report@dpdk.org>
Cc: dpdk-test-reports@iol.unh.edu
In-Reply-To: <20240417160807.1249480-5-yoan.picchi@arm.com>
References: <20240417160807.1249480-5-yoan.picchi@arm.com>
Content-Type: text/plain
X-BeenThere: test-report@dpdk.org
X-Mailman-Version: 2.1.29
Precedence: list
List-Id: automatic DPDK test reports <test-report.dpdk.org>
List-Unsubscribe: <https://mails.dpdk.org/options/test-report>,
 <mailto:test-report-request@dpdk.org?subject=unsubscribe>
List-Archive: <http://mails.dpdk.org/archives/test-report/>
List-Post: <mailto:test-report@dpdk.org>
List-Help: <mailto:test-report-request@dpdk.org?subject=help>
List-Subscribe: <https://mails.dpdk.org/listinfo/test-report>,
 <mailto:test-report-request@dpdk.org?subject=subscribe>
Errors-To: test-report-bounces@dpdk.org

Test-Label: iol-abi-testing
Test-Status: SUCCESS
http://dpdk.org/patch/139454

_Testing PASS_

Submitter: Yoan Picchi <yoan.picchi@arm.com>
Date: Wednesday, April 17 2024 16:08:07 
DPDK git baseline: Repo:dpdk
  Branch: master
  CommitID:e2e546ab5bf5e024986ccb5310ab43982f3bb40c

139452-139454 --> testing pass

Test environment and result as below:

+------------------+----------+
|   Environment    | abi_test |
+==================+==========+
| CentOS Stream 8  | PASS     |
+------------------+----------+
| RHEL8            | PASS     |
+------------------+----------+
| Fedora 39        | PASS     |
+------------------+----------+
| Debian Bullseye  | PASS     |
+------------------+----------+
| Fedora 38        | PASS     |
+------------------+----------+
| CentOS Stream 9  | PASS     |
+------------------+----------+
| openSUSE Leap 15 | PASS     |
+------------------+----------+
| Debian 12        | PASS     |
+------------------+----------+
| Fedora 37        | PASS     |
+------------------+----------+


CentOS Stream 8
	Kernel: 5.4.0-167-generic
	Compiler: gcc 8.5.0 20210514

RHEL8
	Kernel: 5.4.0-167-generic
	Compiler: gcc 8.5.0 20210514 (Red Hat 8.5.0-20)

Fedora 39
	Kernel: Depends on container host
	Compiler: clang 17.0.6

Debian Bullseye
	Kernel: 5.4.0-167-generic
	Compiler: gcc 10.2.1-6

Fedora 38
	Kernel: Depends on container host
	Compiler: clang 16.0.6

CentOS Stream 9
	Kernel: 5.4.0-167-generic
	Compiler: gcc 11.4.1 20230605

openSUSE Leap 15
	Kernel: 5.4.0-167-generic
	Compiler: gcc 7.5.0

Debian 12
	Kernel: Container Host Kernel
	Compiler: gcc 10.2.1

Fedora 37
	Kernel: Depends on container host system
	Compiler: gcc 12.3.1

To view detailed results, visit:
https://lab.dpdk.org/results/dashboard/patchsets/29808/

UNH-IOL DPDK Community Lab

To manage your email subscriptions, visit: 
https://lab.dpdk.org/results/dashboard/preferences/subscriptions/