From mboxrd@z Thu Jan  1 00:00:00 1970
Return-Path: <test-report-bounces@dpdk.org>
Received: from mails.dpdk.org (mails.dpdk.org [217.70.189.124])
	by inbox.dpdk.org (Postfix) with ESMTP id 7FE1343E95
	for <public@inbox.dpdk.org>; Wed, 17 Apr 2024 20:25:47 +0200 (CEST)
Received: from mails.dpdk.org (localhost [127.0.0.1])
	by mails.dpdk.org (Postfix) with ESMTP id 78B7C40A76;
	Wed, 17 Apr 2024 20:25:47 +0200 (CEST)
Received: from mail-pf1-f225.google.com (mail-pf1-f225.google.com
 [209.85.210.225])
 by mails.dpdk.org (Postfix) with ESMTP id 3AA57402B5
 for <test-report@dpdk.org>; Wed, 17 Apr 2024 20:25:46 +0200 (CEST)
Received: by mail-pf1-f225.google.com with SMTP id
 d2e1a72fcca58-6ed5109d924so92400b3a.0
 for <test-report@dpdk.org>; Wed, 17 Apr 2024 11:25:46 -0700 (PDT)
DKIM-Signature: v=1; a=rsa-sha256; c=relaxed/relaxed;
 d=iol.unh.edu; s=unh-iol; t=1713378345; x=1713983145; darn=dpdk.org;
 h=references:in-reply-to:cc:to:from:subject:message-id:date:from:to
 :cc:subject:date:message-id:reply-to;
 bh=KvO9/G59kzsmaxRClPQiXw+j+MPG3r8usAEUSPSHRb0=;
 b=hO2qe/YWQ6UgTgpMpNv664zZ0Rv8MpTKr0rUu/fYutrtpJ1BQrcKsinZy+Lp3abACH
 NGj082ibpHb4SocfBkTTEbs4d+3Fq1IiWCoC1i1MSbqW8CMezKm5g8ehCKC+UrPtODS8
 4wUC2irTeABKhSE8C+cU4TmWanGjyod2s8wKY=
X-Google-DKIM-Signature: v=1; a=rsa-sha256; c=relaxed/relaxed;
 d=1e100.net; s=20230601; t=1713378345; x=1713983145;
 h=references:in-reply-to:cc:to:from:subject:message-id:date
 :x-gm-message-state:from:to:cc:subject:date:message-id:reply-to;
 bh=KvO9/G59kzsmaxRClPQiXw+j+MPG3r8usAEUSPSHRb0=;
 b=HP1KXuTGkeAeu/4fy9YLj0iGSD5AthahW0qsirI5JvvB5PdIMjrRLyXEG7ruUTlE/o
 1xsn4Orn0zaKt5fWBX1d9/rzWBA6ozkp+bRYpu1GBU1u/SmYQaYupoU+ISEaeQcByrAs
 qzInZUH+nNrdBUERvW4wICKCoQ+CEuVg6YPGEbT8DrKUZkpTbQx7d4/ZLO3F5dDutTb4
 nFXcSHdXi9MgjwTrxHdThjV5RVQiq4W8qAChWbYpC/J0EDxzhbyY+iF4w/m6bBGded3k
 LVgcPApAAHASXfRtXn42hk19reXECLn/eoj79/hgcX1ckridNpRZj3a0y8HJI0bJ7lNZ
 ZASw==
X-Gm-Message-State: AOJu0YwDXLoGmpVk5XeiYbPd7n/ynA9lPxDwAMzFSeM8IUsYmSqGYg18
 F4MsNGRi4mactWPbt/LpCw+irOKUTp5UIpzvvIzOh8tZLDewXdPTsV+S6rpmPvx2hwDtfexDNfl
 P/gOS33KbkdnKrVA6DR6kI8x5rMANt/9+OjgDDKUX
X-Google-Smtp-Source: AGHT+IGVrDpA91QuwUiHNaSrbTI7Lfe+u4kvEOY2PeZpLG5DPzIbcWjk0Atl0zwiSxPwMH0JpAb4udzNMbpg
X-Received: by 2002:a05:6a00:842:b0:6ea:df6a:39e7 with SMTP id
 q2-20020a056a00084200b006eadf6a39e7mr457322pfk.13.1713378345450; 
 Wed, 17 Apr 2024 11:25:45 -0700 (PDT)
Received: from postal.iol.unh.edu (postal.iol.unh.edu. [132.177.123.84])
 by smtp-relay.gmail.com with ESMTPS id
 lm7-20020a056a003c8700b006e8f8db204fsm1137289pfb.2.2024.04.17.11.25.45
 (version=TLS1_2 cipher=ECDHE-ECDSA-AES128-GCM-SHA256 bits=128/128);
 Wed, 17 Apr 2024 11:25:45 -0700 (PDT)
X-Relaying-Domain: iol.unh.edu
Date: Wed, 17 Apr 2024 11:25:45 -0700 (PDT)
Message-ID: <66201429.050a0220.0eb2.6c3eSMTPIN_ADDED_MISSING@mx.google.com>
Received: from [172.21.0.6] (unknown [172.18.0.240])
 by postal.iol.unh.edu (Postfix) with ESMTP id 9B560604D420;
 Wed, 17 Apr 2024 14:25:44 -0400 (EDT)
Subject: |SUCCESS| pw139452-139454 [PATCH] [v8,4/4] hash: add SVE support for
From: dpdklab@iol.unh.edu
To: Test Report <test-report@dpdk.org>
Cc: dpdk-test-reports@iol.unh.edu
In-Reply-To: <20240417160807.1249480-5-yoan.picchi@arm.com>
References: <20240417160807.1249480-5-yoan.picchi@arm.com>
Content-Type: text/plain
X-BeenThere: test-report@dpdk.org
X-Mailman-Version: 2.1.29
Precedence: list
List-Id: automatic DPDK test reports <test-report.dpdk.org>
List-Unsubscribe: <https://mails.dpdk.org/options/test-report>,
 <mailto:test-report-request@dpdk.org?subject=unsubscribe>
List-Archive: <http://mails.dpdk.org/archives/test-report/>
List-Post: <mailto:test-report@dpdk.org>
List-Help: <mailto:test-report-request@dpdk.org?subject=help>
List-Subscribe: <https://mails.dpdk.org/listinfo/test-report>,
 <mailto:test-report-request@dpdk.org?subject=subscribe>
Errors-To: test-report-bounces@dpdk.org

Test-Label: iol-compile-amd64-testing
Test-Status: SUCCESS
http://dpdk.org/patch/139454

_Testing PASS_

Submitter: Yoan Picchi <yoan.picchi@arm.com>
Date: Wednesday, April 17 2024 16:08:07 
DPDK git baseline: Repo:dpdk
  Branch: master
  CommitID:e2e546ab5bf5e024986ccb5310ab43982f3bb40c

139452-139454 --> testing pass

Test environment and result as below:

+---------------------+--------------------+----------------------+-------------------+
|     Environment     | dpdk_meson_compile | dpdk_mingw64_compile | dpdk_msvc_compile |
+=====================+====================+======================+===================+
| FreeBSD 13.2        | PASS               | SKIPPED              | SKIPPED           |
+---------------------+--------------------+----------------------+-------------------+
| Windows Server 2022 | PASS               | PASS                 | PASS              |
+---------------------+--------------------+----------------------+-------------------+
| Windows Server 2019 | PASS               | PASS                 | SKIPPED           |
+---------------------+--------------------+----------------------+-------------------+
| CentOS Stream 8     | PASS               | SKIPPED              | SKIPPED           |
+---------------------+--------------------+----------------------+-------------------+
| Debian Bullseye     | PASS               | SKIPPED              | SKIPPED           |
+---------------------+--------------------+----------------------+-------------------+
| Fedora 37           | PASS               | SKIPPED              | SKIPPED           |
+---------------------+--------------------+----------------------+-------------------+
| CentOS Stream 9     | PASS               | SKIPPED              | SKIPPED           |
+---------------------+--------------------+----------------------+-------------------+
| Fedora 39           | PASS               | SKIPPED              | SKIPPED           |
+---------------------+--------------------+----------------------+-------------------+
| Ubuntu 22.04        | PASS               | SKIPPED              | SKIPPED           |
+---------------------+--------------------+----------------------+-------------------+
| openSUSE Leap 15    | PASS               | SKIPPED              | SKIPPED           |
+---------------------+--------------------+----------------------+-------------------+
| Fedora 38           | PASS               | SKIPPED              | SKIPPED           |
+---------------------+--------------------+----------------------+-------------------+


FreeBSD 13.2
	Kernel: 13.2
	Compiler: clang 14.0.5

Windows Server 2022
	Kernel: 10.0.20348.2031
	Compiler: clang 15.0.7, gcc 8.1.0 (MinGW), and MSVC VS 17.9

Windows Server 2019
	Kernel: 10.0.17763
	Compiler: clang 14.0 and gcc 8.1.0 (MinGW)

CentOS Stream 8
	Kernel: 5.4.0-167-generic
	Compiler: gcc 8.5.0 20210514

Debian Bullseye
	Kernel: 5.4.0-167-generic
	Compiler: gcc 10.2.1-6

Fedora 37
	Kernel: Depends on container host system
	Compiler: gcc 12.3.1

CentOS Stream 9
	Kernel: 5.4.0-167-generic
	Compiler: gcc 11.4.1 20230605

Fedora 39
	Kernel: Depends on container host
	Compiler: gcc 13.2.1

Ubuntu 22.04
	Kernel: 5.4.0-167-generic
	Compiler: gcc 11.4.0

openSUSE Leap 15
	Kernel: 5.4.0-167-generic
	Compiler: gcc 7.5.0

Fedora 38
	Kernel: Depends on container host
	Compiler: gcc 13.2.1

To view detailed results, visit:
https://lab.dpdk.org/results/dashboard/patchsets/29808/

UNH-IOL DPDK Community Lab

To manage your email subscriptions, visit: 
https://lab.dpdk.org/results/dashboard/preferences/subscriptions/