From mboxrd@z Thu Jan  1 00:00:00 1970
Return-Path: <test-report-bounces@dpdk.org>
Received: from mails.dpdk.org (mails.dpdk.org [217.70.189.124])
	by inbox.dpdk.org (Postfix) with ESMTP id AC42643E95
	for <public@inbox.dpdk.org>; Wed, 17 Apr 2024 20:26:22 +0200 (CEST)
Received: from mails.dpdk.org (localhost [127.0.0.1])
	by mails.dpdk.org (Postfix) with ESMTP id A798C40A76;
	Wed, 17 Apr 2024 20:26:22 +0200 (CEST)
Received: from mail-oo1-f100.google.com (mail-oo1-f100.google.com
 [209.85.161.100])
 by mails.dpdk.org (Postfix) with ESMTP id E36FC402B5
 for <test-report@dpdk.org>; Wed, 17 Apr 2024 20:26:20 +0200 (CEST)
Received: by mail-oo1-f100.google.com with SMTP id
 006d021491bc7-5a9ec68784cso17620eaf.2
 for <test-report@dpdk.org>; Wed, 17 Apr 2024 11:26:20 -0700 (PDT)
DKIM-Signature: v=1; a=rsa-sha256; c=relaxed/relaxed;
 d=iol.unh.edu; s=unh-iol; t=1713378380; x=1713983180; darn=dpdk.org;
 h=references:in-reply-to:cc:to:from:subject:message-id:date:from:to
 :cc:subject:date:message-id:reply-to;
 bh=7KHgE/6v+zVSH14B9hDNJnbdyPnJXNa3ltkLSMYRuMc=;
 b=IY7Y+bm/3G48FJVnikHJVin/c7jUAXekKmDyZfPkCWKwSnBGcrjPu9PdXkeBwPdX0L
 jdpchM9+fXZ6BRysJSdAIoH8I7r0ReLUYS+GqpKR4eLwv+hL78LRur3tbHM63Eawh5Nv
 lWmYkqnAF73P87OGJez1HJxeTMiuA6iXljLds=
X-Google-DKIM-Signature: v=1; a=rsa-sha256; c=relaxed/relaxed;
 d=1e100.net; s=20230601; t=1713378380; x=1713983180;
 h=references:in-reply-to:cc:to:from:subject:message-id:date
 :x-gm-message-state:from:to:cc:subject:date:message-id:reply-to;
 bh=7KHgE/6v+zVSH14B9hDNJnbdyPnJXNa3ltkLSMYRuMc=;
 b=GSRUpILoawEEyLy+EaA2bboThBV0i+l0KwnTozwuB4PXXShcKuM1j9MLD2IeTzMeSi
 MTrbBf1tj/qMDqibGJttKJ1tYGCsnE5EnJAAvIooU0bSqyO92W9rTUHOxYwmgeZ1werC
 h3KHWXCyjpzKwqU6SgBxanxErlvhcpE4ZYGRyuBLbWsolfz1wBIkJWgFBLvLzDOo5NxM
 awz3RPaj+gyLpzSGkjtjxikIdfOAjNLqdDpCv6dzM783wVjC7/XK3gExPb3matOKEmPz
 zbnWD1or5ZxDntFyh0q9SCNR56ux4VWLgJAesvpSnsGY5eZwnwDEXtXSIOIK2YciEDL/
 GMmg==
X-Gm-Message-State: AOJu0YyFvvGi+N1JGCset5J1qFs2uEvda09NZxhesx9/CJibIH5BkXWl
 59UBkduwwScrhBO9RJaBTzat8H+ouJMkPM0DWX+lS5p92ujOZs7s1GIMMQIEsslMhb2lG/iOJBT
 UzLymvb4gVIdfjbWarBGTyWwPLF0Cyy6rIOrQsupv
X-Google-Smtp-Source: AGHT+IE72gSSCuygF8Sqee6kN4roKjWrHWzTwhJi9db1IDj0OhkBOvK63TSzbK3OyCV1NDdJKLVQ64YVcj1Y
X-Received: by 2002:a4a:5b87:0:b0:5ac:9f7d:3b3f with SMTP id
 g129-20020a4a5b87000000b005ac9f7d3b3fmr606075oob.3.1713378380322; 
 Wed, 17 Apr 2024 11:26:20 -0700 (PDT)
Received: from postal.iol.unh.edu (postal.iol.unh.edu. [132.177.123.84])
 by smtp-relay.gmail.com with ESMTPS id
 a8-20020a4a9888000000b005a4b177dc56sm653194ooj.11.2024.04.17.11.26.20
 (version=TLS1_2 cipher=ECDHE-ECDSA-AES128-GCM-SHA256 bits=128/128);
 Wed, 17 Apr 2024 11:26:20 -0700 (PDT)
X-Relaying-Domain: iol.unh.edu
Date: Wed, 17 Apr 2024 11:26:20 -0700 (PDT)
Message-ID: <6620144c.4a0a0220.7b5e.3c3aSMTPIN_ADDED_MISSING@mx.google.com>
Received: from [172.21.0.6] (unknown [172.18.0.240])
 by postal.iol.unh.edu (Postfix) with ESMTP id CC178604D420;
 Wed, 17 Apr 2024 14:26:19 -0400 (EDT)
Subject: |SUCCESS| pw139452-139454 [PATCH] [v8,4/4] hash: add SVE support for
From: dpdklab@iol.unh.edu
To: Test Report <test-report@dpdk.org>
Cc: dpdk-test-reports@iol.unh.edu
In-Reply-To: <20240417160807.1249480-5-yoan.picchi@arm.com>
References: <20240417160807.1249480-5-yoan.picchi@arm.com>
Content-Type: text/plain
X-BeenThere: test-report@dpdk.org
X-Mailman-Version: 2.1.29
Precedence: list
List-Id: automatic DPDK test reports <test-report.dpdk.org>
List-Unsubscribe: <https://mails.dpdk.org/options/test-report>,
 <mailto:test-report-request@dpdk.org?subject=unsubscribe>
List-Archive: <http://mails.dpdk.org/archives/test-report/>
List-Post: <mailto:test-report@dpdk.org>
List-Help: <mailto:test-report-request@dpdk.org?subject=help>
List-Subscribe: <https://mails.dpdk.org/listinfo/test-report>,
 <mailto:test-report-request@dpdk.org?subject=subscribe>
Errors-To: test-report-bounces@dpdk.org

Test-Label: iol-unit-amd64-testing
Test-Status: SUCCESS
http://dpdk.org/patch/139454

_Testing PASS_

Submitter: Yoan Picchi <yoan.picchi@arm.com>
Date: Wednesday, April 17 2024 16:08:07 
DPDK git baseline: Repo:dpdk
  Branch: master
  CommitID:e2e546ab5bf5e024986ccb5310ab43982f3bb40c

139452-139454 --> testing pass

Test environment and result as below:

+-----------------+----------------+
|   Environment   | dpdk_unit_test |
+=================+================+
| CentOS Stream 8 | PASS           |
+-----------------+----------------+
| CentOS Stream 9 | PASS           |
+-----------------+----------------+
| Debian Bullseye | PASS           |
+-----------------+----------------+
| Debian 12       | PASS           |
+-----------------+----------------+
| Fedora 38       | PASS           |
+-----------------+----------------+


CentOS Stream 8
	Kernel: 5.4.0-167-generic
	Compiler: gcc 8.5.0 20210514

CentOS Stream 9
	Kernel: 5.4.0-167-generic
	Compiler: gcc 11.4.1 20230605

Debian Bullseye
	Kernel: 5.4.0-167-generic
	Compiler: gcc 10.2.1-6

Debian 12
	Kernel: Container Host Kernel
	Compiler: gcc 10.2.1

Fedora 38
	Kernel: Depends on container host
	Compiler: gcc 13.2.1

To view detailed results, visit:
https://lab.dpdk.org/results/dashboard/patchsets/29808/

UNH-IOL DPDK Community Lab

To manage your email subscriptions, visit: 
https://lab.dpdk.org/results/dashboard/preferences/subscriptions/