From mboxrd@z Thu Jan  1 00:00:00 1970
Return-Path: <test-report-bounces@dpdk.org>
Received: from mails.dpdk.org (mails.dpdk.org [217.70.189.124])
	by inbox.dpdk.org (Postfix) with ESMTP id B5E2343E95
	for <public@inbox.dpdk.org>; Wed, 17 Apr 2024 20:34:22 +0200 (CEST)
Received: from mails.dpdk.org (localhost [127.0.0.1])
	by mails.dpdk.org (Postfix) with ESMTP id ABB62402E0;
	Wed, 17 Apr 2024 20:34:22 +0200 (CEST)
Received: from mail-il1-f228.google.com (mail-il1-f228.google.com
 [209.85.166.228])
 by mails.dpdk.org (Postfix) with ESMTP id 0F877402B5
 for <test-report@dpdk.org>; Wed, 17 Apr 2024 20:34:21 +0200 (CEST)
Received: by mail-il1-f228.google.com with SMTP id
 e9e14a558f8ab-36b04b101b0so19005ab.1
 for <test-report@dpdk.org>; Wed, 17 Apr 2024 11:34:21 -0700 (PDT)
DKIM-Signature: v=1; a=rsa-sha256; c=relaxed/relaxed;
 d=iol.unh.edu; s=unh-iol; t=1713378860; x=1713983660; darn=dpdk.org;
 h=references:in-reply-to:cc:to:from:subject:message-id:date:from:to
 :cc:subject:date:message-id:reply-to;
 bh=/MYydKUYYv+nfurjFUGCjdKCYk3Xo9/AL8aOz2d3HBU=;
 b=EdRiVouESZ4l54jthHGl4pL5F+URqfRD7IuKnMymKe6aM6Xvu+Ym7YTLoMn2aEt62J
 w0xTZjkU+/R67ZtKOjxfYSjvBXYGu9eioii21Pd6vUc2u7lQmAIzkUDefX7TFruWB7Qv
 RwrOJLzvteD3KtWwES14x0fBwZfY/eMMJRIBA=
X-Google-DKIM-Signature: v=1; a=rsa-sha256; c=relaxed/relaxed;
 d=1e100.net; s=20230601; t=1713378860; x=1713983660;
 h=references:in-reply-to:cc:to:from:subject:message-id:date
 :x-gm-message-state:from:to:cc:subject:date:message-id:reply-to;
 bh=/MYydKUYYv+nfurjFUGCjdKCYk3Xo9/AL8aOz2d3HBU=;
 b=NR7Yt3r5B/DIsY3qlZLMAlNeQtqbtO7G04xrywp2weaNcE2QRqRwsDP0esOxzwToqX
 y4jFZxB5Si8MVERA4388hDEb3YTcy4QnLq+c3XHNMWlExg5ePzoexa4jN4zac2eoJaOi
 xFTshFUQujI/2PoeJ7dqpOUdmL0Ued5gvLk0W1sf1PGfE+DeiQaqAZf5BR5jA3TeYleD
 0tcQIJlIZTw30PiAZqUSy/enDTF3gugaB6xpGjYP2VmygsT2xwFsod36Qku5hmFG3Af2
 HLpmUU9rL1X+MjyH/7xbJGcdkcsmqAZeIECYgJROJr2mYkJ1fRi6T8ixkHn0uMfaDl/r
 6xtg==
X-Gm-Message-State: AOJu0YztvrgkrI7W3gszaFpK6RtLa7PdTkXnaTizFnIpaPiSYVQPtSJQ
 bWP7GtHID7Zpdf6alXXXOS0uAxtfieDqpLgoCj/c6LDeOK8HGBeoRBr9X0V9kgsOkZMP/vRc3Nx
 OvgWSLkYx0Mwdcp/lzsONSM75NvfBqHOhBOh+luioDH7uaBwAtERZFZ1A
X-Google-Smtp-Source: AGHT+IF6YploVU1LLEJ2jBVXYY4v6DISxf+7ZmvcfCk/6hVCbBK7BSBwLMocSpYj9+WRSYHNIrypBzXGMiFY
X-Received: by 2002:a05:6e02:1567:b0:36a:fe09:4ddb with SMTP id
 k7-20020a056e02156700b0036afe094ddbmr425105ilu.2.1713378859890; 
 Wed, 17 Apr 2024 11:34:19 -0700 (PDT)
Received: from postal.iol.unh.edu (postal.iol.unh.edu.
 [2606:4100:3880:1234::84]) by smtp-relay.gmail.com with ESMTPS id
 i9-20020a056638400900b00482f8fdbf79sm568051jai.25.2024.04.17.11.34.19
 (version=TLS1_2 cipher=ECDHE-ECDSA-AES128-GCM-SHA256 bits=128/128);
 Wed, 17 Apr 2024 11:34:19 -0700 (PDT)
X-Relaying-Domain: iol.unh.edu
Date: Wed, 17 Apr 2024 11:34:19 -0700 (PDT)
Message-ID: <6620162b.050a0220.b400.c5edSMTPIN_ADDED_MISSING@mx.google.com>
Received: from [172.17.0.4] (unknown [172.18.0.217])
 by postal.iol.unh.edu (Postfix) with ESMTP id 54DBE604D420;
 Wed, 17 Apr 2024 14:34:19 -0400 (EDT)
Subject: |SUCCESS| pw139452-139454 [PATCH] [v8,4/4] hash: add SVE support for
From: dpdklab@iol.unh.edu
To: Test Report <test-report@dpdk.org>
Cc: dpdk-test-reports@iol.unh.edu
In-Reply-To: <20240417160807.1249480-5-yoan.picchi@arm.com>
References: <20240417160807.1249480-5-yoan.picchi@arm.com>
Content-Type: text/plain
X-BeenThere: test-report@dpdk.org
X-Mailman-Version: 2.1.29
Precedence: list
List-Id: automatic DPDK test reports <test-report.dpdk.org>
List-Unsubscribe: <https://mails.dpdk.org/options/test-report>,
 <mailto:test-report-request@dpdk.org?subject=unsubscribe>
List-Archive: <http://mails.dpdk.org/archives/test-report/>
List-Post: <mailto:test-report@dpdk.org>
List-Help: <mailto:test-report-request@dpdk.org?subject=help>
List-Subscribe: <https://mails.dpdk.org/listinfo/test-report>,
 <mailto:test-report-request@dpdk.org?subject=subscribe>
Errors-To: test-report-bounces@dpdk.org

Test-Label: iol-unit-amd64-testing
Test-Status: SUCCESS
http://dpdk.org/patch/139454

_Testing PASS_

Submitter: Yoan Picchi <yoan.picchi@arm.com>
Date: Wednesday, April 17 2024 16:08:07 
DPDK git baseline: Repo:dpdk
  Branch: master
  CommitID:e2e546ab5bf5e024986ccb5310ab43982f3bb40c

139452-139454 --> testing pass

Test environment and result as below:

+-----------------+----------------+
|   Environment   | dpdk_unit_test |
+=================+================+
| CentOS Stream 8 | PASS           |
+-----------------+----------------+
| CentOS Stream 9 | PASS           |
+-----------------+----------------+
| Debian Bullseye | PASS           |
+-----------------+----------------+
| Debian 12       | PASS           |
+-----------------+----------------+
| Fedora 38       | PASS           |
+-----------------+----------------+
| Fedora 37       | PASS           |
+-----------------+----------------+
| Ubuntu 22.04    | PASS           |
+-----------------+----------------+


CentOS Stream 8
	Kernel: 5.4.0-167-generic
	Compiler: gcc 8.5.0 20210514

CentOS Stream 9
	Kernel: 5.4.0-167-generic
	Compiler: gcc 11.4.1 20230605

Debian Bullseye
	Kernel: 5.4.0-167-generic
	Compiler: gcc 10.2.1-6

Debian 12
	Kernel: Container Host Kernel
	Compiler: gcc 10.2.1

Fedora 38
	Kernel: Depends on container host
	Compiler: gcc 13.2.1

Fedora 37
	Kernel: Depends on container host system
	Compiler: gcc 12.3.1

Ubuntu 22.04
	Kernel: 5.4.0-167-generic
	Compiler: gcc 11.4.0

To view detailed results, visit:
https://lab.dpdk.org/results/dashboard/patchsets/29808/

UNH-IOL DPDK Community Lab

To manage your email subscriptions, visit: 
https://lab.dpdk.org/results/dashboard/preferences/subscriptions/