From mboxrd@z Thu Jan  1 00:00:00 1970
Return-Path: <test-report-bounces@dpdk.org>
Received: from mails.dpdk.org (mails.dpdk.org [217.70.189.124])
	by inbox.dpdk.org (Postfix) with ESMTP id 953A343E95
	for <public@inbox.dpdk.org>; Wed, 17 Apr 2024 20:39:41 +0200 (CEST)
Received: from mails.dpdk.org (localhost [127.0.0.1])
	by mails.dpdk.org (Postfix) with ESMTP id 8E36D402E0;
	Wed, 17 Apr 2024 20:39:41 +0200 (CEST)
Received: from mail-pl1-f225.google.com (mail-pl1-f225.google.com
 [209.85.214.225])
 by mails.dpdk.org (Postfix) with ESMTP id 742D5402B5
 for <test-report@dpdk.org>; Wed, 17 Apr 2024 20:39:39 +0200 (CEST)
Received: by mail-pl1-f225.google.com with SMTP id
 d9443c01a7336-1e5c7d087e1so763485ad.0
 for <test-report@dpdk.org>; Wed, 17 Apr 2024 11:39:39 -0700 (PDT)
DKIM-Signature: v=1; a=rsa-sha256; c=relaxed/relaxed;
 d=iol.unh.edu; s=unh-iol; t=1713379178; x=1713983978; darn=dpdk.org;
 h=references:in-reply-to:cc:to:from:subject:message-id:date:from:to
 :cc:subject:date:message-id:reply-to;
 bh=K/ZdtB/1Uj+vWsV1vbMANN4QlCedz0sLCDUMKA5NjfI=;
 b=fVuvBcqjm6VUyzeksF3nR+jb76XtvEu6lETBL5Uj6FCmvVMZY8zE8HDSFhXFJFgss1
 4OA+HdaO6rg0Sl1z9tKC3VLFkw1XKBGCh//udpnP2+22qV7zIZpF0WRTnZi1CGY2Tw8L
 fZvC5kYK6GxXFEheLnV3wZSBBru/ZAKl7ue90=
X-Google-DKIM-Signature: v=1; a=rsa-sha256; c=relaxed/relaxed;
 d=1e100.net; s=20230601; t=1713379178; x=1713983978;
 h=references:in-reply-to:cc:to:from:subject:message-id:date
 :x-gm-message-state:from:to:cc:subject:date:message-id:reply-to;
 bh=K/ZdtB/1Uj+vWsV1vbMANN4QlCedz0sLCDUMKA5NjfI=;
 b=jSZWg/E27AS0Pv8t1LPL5Aq15afpviItSBLj3OYsT4zkJ1UaUqNDEEaR15C3XSdZMX
 QWRIf+VmJnA+R6w48Ndk3DKfSLrmWC8GzMHPJPmdx8MzJa/EKoqkWof6wnoCyZw+Fkgf
 ZrC13bF9xSvZtSSjwqomX89Et6RBKXNM54EgBeffVM6vPl7wmgQ16/6cAuOvVr2x8HA9
 6UaLGQRM4Ki1dmNs0whX1A7CMYTnxG+IAl2lpCUMyU/24FEfOF3O6ytnaUOoEV65xVvN
 bmZnWwSfC9OqAIFhf2+1pL4M1WGvmj3z9ZuQQ51W1NaolzVoWErJjElw+nBb7a7wsRzD
 Nr6g==
X-Gm-Message-State: AOJu0YyrN0hV8r3IXiU1rmMBzqytuod5TTamA1H6LcOtN294IP8sz0Nx
 rzGWlkBGHDmBn30GFrXdZXN5RX1x7zWCoWHiT10cIxvewqD8luaAukXquC1zaneFVcWvbePQ0xd
 lt1AwVuZQQYSDzNzI2QsIFIHw7s79mMJ5aFh7yKJ229IzLYSIXjsY+EZu
X-Google-Smtp-Source: AGHT+IEmTBkVMfPeJdDGNQtn4f5+ieLbvMPDyQySF+CN2MRkXu32dD2TIrg856EaXq/T6F85CE8uU9SiFoTB
X-Received: by 2002:a17:902:f551:b0:1e4:b1eb:7dee with SMTP id
 h17-20020a170902f55100b001e4b1eb7deemr341270plf.47.1713379178616; 
 Wed, 17 Apr 2024 11:39:38 -0700 (PDT)
Received: from postal.iol.unh.edu (postal.iol.unh.edu.
 [2606:4100:3880:1234::84]) by smtp-relay.gmail.com with ESMTPS id
 s6-20020a170902a50600b001e546c56ae0sm503341plq.63.2024.04.17.11.39.38
 (version=TLS1_2 cipher=ECDHE-ECDSA-AES128-GCM-SHA256 bits=128/128);
 Wed, 17 Apr 2024 11:39:38 -0700 (PDT)
X-Relaying-Domain: iol.unh.edu
Date: Wed, 17 Apr 2024 11:39:38 -0700 (PDT)
Message-ID: <6620176a.170a0220.2cb04.7c85SMTPIN_ADDED_MISSING@mx.google.com>
Received: from [172.17.0.2] (unknown [172.18.0.217])
 by postal.iol.unh.edu (Postfix) with ESMTP id B2272604D420;
 Wed, 17 Apr 2024 14:39:37 -0400 (EDT)
Subject: |SUCCESS| pw139452-139454 [PATCH] [v8,4/4] hash: add SVE support for
From: dpdklab@iol.unh.edu
To: Test Report <test-report@dpdk.org>
Cc: dpdk-test-reports@iol.unh.edu
In-Reply-To: <20240417160807.1249480-5-yoan.picchi@arm.com>
References: <20240417160807.1249480-5-yoan.picchi@arm.com>
Content-Type: text/plain
X-BeenThere: test-report@dpdk.org
X-Mailman-Version: 2.1.29
Precedence: list
List-Id: automatic DPDK test reports <test-report.dpdk.org>
List-Unsubscribe: <https://mails.dpdk.org/options/test-report>,
 <mailto:test-report-request@dpdk.org?subject=unsubscribe>
List-Archive: <http://mails.dpdk.org/archives/test-report/>
List-Post: <mailto:test-report@dpdk.org>
List-Help: <mailto:test-report-request@dpdk.org?subject=help>
List-Subscribe: <https://mails.dpdk.org/listinfo/test-report>,
 <mailto:test-report-request@dpdk.org?subject=subscribe>
Errors-To: test-report-bounces@dpdk.org

Test-Label: iol-unit-amd64-testing
Test-Status: SUCCESS
http://dpdk.org/patch/139454

_Testing PASS_

Submitter: Yoan Picchi <yoan.picchi@arm.com>
Date: Wednesday, April 17 2024 16:08:07 
DPDK git baseline: Repo:dpdk
  Branch: master
  CommitID:e2e546ab5bf5e024986ccb5310ab43982f3bb40c

139452-139454 --> testing pass

Test environment and result as below:

+---------------------+----------------+
|     Environment     | dpdk_unit_test |
+=====================+================+
| CentOS Stream 8     | PASS           |
+---------------------+----------------+
| CentOS Stream 9     | PASS           |
+---------------------+----------------+
| Debian Bullseye     | PASS           |
+---------------------+----------------+
| Debian 12           | PASS           |
+---------------------+----------------+
| Fedora 38           | PASS           |
+---------------------+----------------+
| Fedora 37           | PASS           |
+---------------------+----------------+
| Ubuntu 22.04        | PASS           |
+---------------------+----------------+
| Fedora 39           | PASS           |
+---------------------+----------------+
| Ubuntu 20.04        | PASS           |
+---------------------+----------------+
| Windows Server 2019 | PASS           |
+---------------------+----------------+
| openSUSE Leap 15    | PASS           |
+---------------------+----------------+


CentOS Stream 8
	Kernel: 5.4.0-167-generic
	Compiler: gcc 8.5.0 20210514

CentOS Stream 9
	Kernel: 5.4.0-167-generic
	Compiler: gcc 11.4.1 20230605

Debian Bullseye
	Kernel: 5.4.0-167-generic
	Compiler: gcc 10.2.1-6

Debian 12
	Kernel: Container Host Kernel
	Compiler: gcc 10.2.1

Fedora 38
	Kernel: Depends on container host
	Compiler: gcc 13.2.1

Fedora 37
	Kernel: Depends on container host system
	Compiler: gcc 12.3.1

Ubuntu 22.04
	Kernel: 5.4.0-167-generic
	Compiler: gcc 11.4.0

Fedora 39
	Kernel: Depends on container host
	Compiler: gcc 13.2.1

Ubuntu 20.04
	Kernel: 5.4.0-167-generic
	Compiler: gcc 9.4.0-1ubuntu1~20.04.1

Windows Server 2019
	Kernel: 10.0.17763
	Compiler: clang 14.0 and gcc 8.1.0 (MinGW)

openSUSE Leap 15
	Kernel: 5.4.0-167-generic
	Compiler: gcc 7.5.0

To view detailed results, visit:
https://lab.dpdk.org/results/dashboard/patchsets/29808/

UNH-IOL DPDK Community Lab

To manage your email subscriptions, visit: 
https://lab.dpdk.org/results/dashboard/preferences/subscriptions/