From mboxrd@z Thu Jan  1 00:00:00 1970
Return-Path: <test-report-bounces@dpdk.org>
Received: from mails.dpdk.org (mails.dpdk.org [217.70.189.124])
	by inbox.dpdk.org (Postfix) with ESMTP id 80B4E43E56
	for <public@inbox.dpdk.org>; Thu, 18 Apr 2024 02:53:55 +0200 (CEST)
Received: from mails.dpdk.org (localhost [127.0.0.1])
	by mails.dpdk.org (Postfix) with ESMTP id 7CA0640272;
	Thu, 18 Apr 2024 02:53:55 +0200 (CEST)
Received: from mail-oo1-f97.google.com (mail-oo1-f97.google.com
 [209.85.161.97]) by mails.dpdk.org (Postfix) with ESMTP id 47F3140042
 for <test-report@dpdk.org>; Thu, 18 Apr 2024 02:53:54 +0200 (CEST)
Received: by mail-oo1-f97.google.com with SMTP id
 006d021491bc7-5aa1e9527d1so277473eaf.1
 for <test-report@dpdk.org>; Wed, 17 Apr 2024 17:53:54 -0700 (PDT)
DKIM-Signature: v=1; a=rsa-sha256; c=relaxed/relaxed;
 d=iol.unh.edu; s=unh-iol; t=1713401633; x=1714006433; darn=dpdk.org;
 h=references:in-reply-to:cc:to:from:subject:message-id:date:from:to
 :cc:subject:date:message-id:reply-to;
 bh=kXVsC/sKlNm6UCijCmjSjhPkrydL8+MmFVykDzdNmqo=;
 b=WZfVf6KsclbiMkzaZ2eVT9iXMUV6eBemyVO9sAc2o8RmR/w1AAztxw9ZEnjDIo0S4v
 lP3WzoS4YEU3P/QIgVbE6otO6Xwg5+xWC9HvaHx7tzJe5P91LWmu5DOkrHpXptSZqNBP
 EUXyhKBD+y1kpejtsc6MfcqxJYXhWGeky7CIQ=
X-Google-DKIM-Signature: v=1; a=rsa-sha256; c=relaxed/relaxed;
 d=1e100.net; s=20230601; t=1713401633; x=1714006433;
 h=references:in-reply-to:cc:to:from:subject:message-id:date
 :x-gm-message-state:from:to:cc:subject:date:message-id:reply-to;
 bh=kXVsC/sKlNm6UCijCmjSjhPkrydL8+MmFVykDzdNmqo=;
 b=JKG6RP+Qo7WMoWtLqIGZ+ba9kLT0WMgGsHBB7DoHzLhMKmuKaKsYfHAeiBCc8TtRtg
 REJQ6L3emGUSe0QnntKTZ7M1yNfQE8pE46f/4rJHmjd+Fe28x8wBjAAAwutY7qTQ5WL3
 IxFxBkBxBpoyFfHoB8Wa8Cnsk57utebbgStEa9i+4h+tQwRKbWpNwOYxpWQpon/AijN4
 iA0dGmIaFt6saPbpeijNf78pwdEO7zHJUdMwfGoFTuJtkowXio2+4Vmp1RGD8e9dTbVL
 iyuj54zQPwtgBAfxrPsTr/obyQI/foh9AXl1/7ZIWbtBt9AuxVqLKDC+lkVrwC7jM2hM
 AAIg==
X-Gm-Message-State: AOJu0YxTkVzxPja0QXsNdFXTiGrXILKkNf4sRhZ+LhKmuD+m/ztPhWKY
 W9exNExKzjpg3Cpvce12I37vocHe6TYRhdDkql4S0g12A0dQ/5LbdceMN2S7i0PExVyD29kMR3n
 G24oVIqhW2mOa52gGJxpimVD0pC6HJMV+H7Yjgt+UTb5yDqt1+yG8i11L
X-Google-Smtp-Source: AGHT+IGs+66NAz1MPsgdN8A3df7VzjBcpmj0fNljLEoeVhkOpDX+Wk9BvChhR429WbKGp1gEKFPvETyAz/MB
X-Received: by 2002:a4a:941:0:b0:5aa:3ad4:b323 with SMTP id
 62-20020a4a0941000000b005aa3ad4b323mr1505305ooa.6.1713401633717; 
 Wed, 17 Apr 2024 17:53:53 -0700 (PDT)
Received: from postal.iol.unh.edu (postal.iol.unh.edu.
 [2606:4100:3880:1234::84]) by smtp-relay.gmail.com with ESMTPS id
 u44-20020a4a8c2f000000b005ac8b4c0021sm44441ooj.13.2024.04.17.17.53.53
 (version=TLS1_2 cipher=ECDHE-ECDSA-AES128-GCM-SHA256 bits=128/128);
 Wed, 17 Apr 2024 17:53:53 -0700 (PDT)
X-Relaying-Domain: iol.unh.edu
Date: Wed, 17 Apr 2024 17:53:53 -0700 (PDT)
Message-ID: <66206f21.4a0a0220.c4c4f.2567SMTPIN_ADDED_MISSING@mx.google.com>
Received: from [172.21.0.6] (unknown [172.18.0.240])
 by postal.iol.unh.edu (Postfix) with ESMTP id 3C1C0604D420;
 Wed, 17 Apr 2024 20:53:53 -0400 (EDT)
Subject: |SUCCESS| pw139462-139476 [PATCH] [16/16] build: enable vla warnings
From: dpdklab@iol.unh.edu
To: Test Report <test-report@dpdk.org>
Cc: dpdk-test-reports@iol.unh.edu
In-Reply-To: <1713397319-26135-17-git-send-email-roretzla@linux.microsoft.com>
References: <1713397319-26135-17-git-send-email-roretzla@linux.microsoft.com>
Content-Type: text/plain
X-BeenThere: test-report@dpdk.org
X-Mailman-Version: 2.1.29
Precedence: list
List-Id: automatic DPDK test reports <test-report.dpdk.org>
List-Unsubscribe: <https://mails.dpdk.org/options/test-report>,
 <mailto:test-report-request@dpdk.org?subject=unsubscribe>
List-Archive: <http://mails.dpdk.org/archives/test-report/>
List-Post: <mailto:test-report@dpdk.org>
List-Help: <mailto:test-report-request@dpdk.org?subject=help>
List-Subscribe: <https://mails.dpdk.org/listinfo/test-report>,
 <mailto:test-report-request@dpdk.org?subject=subscribe>
Errors-To: test-report-bounces@dpdk.org

Test-Label: iol-abi-testing
Test-Status: SUCCESS
http://dpdk.org/patch/139476

_Testing PASS_

Submitter: Tyler Retzlaff <roretzla@linux.microsoft.com>
Date: Wednesday, April 17 2024 23:41:59 
DPDK git baseline: Repo:dpdk
  Branch: master
  CommitID:e2e546ab5bf5e024986ccb5310ab43982f3bb40c

139462-139476 --> testing pass

Test environment and result as below:

+------------------+----------+
|   Environment    | abi_test |
+==================+==========+
| Debian Bullseye  | PASS     |
+------------------+----------+
| CentOS Stream 9  | PASS     |
+------------------+----------+
| RHEL8            | PASS     |
+------------------+----------+
| Fedora 38        | PASS     |
+------------------+----------+
| Ubuntu 22.04     | PASS     |
+------------------+----------+
| openSUSE Leap 15 | PASS     |
+------------------+----------+
| Fedora 39        | PASS     |
+------------------+----------+
| Fedora 37        | PASS     |
+------------------+----------+
| CentOS Stream 8  | PASS     |
+------------------+----------+
| Debian 12        | PASS     |
+------------------+----------+


Debian Bullseye
	Kernel: 5.4.0-167-generic
	Compiler: gcc 10.2.1-6

CentOS Stream 9
	Kernel: 5.4.0-167-generic
	Compiler: gcc 11.4.1 20230605

RHEL8
	Kernel: 5.4.0-167-generic
	Compiler: gcc 8.5.0 20210514 (Red Hat 8.5.0-20)

Fedora 38
	Kernel: Depends on container host
	Compiler: clang 16.0.6

Ubuntu 22.04
	Kernel: 5.4.0-167-generic
	Compiler: gcc 11.4.0

openSUSE Leap 15
	Kernel: 5.4.0-167-generic
	Compiler: gcc 7.5.0

Fedora 39
	Kernel: Depends on container host
	Compiler: clang 17.0.6

Fedora 37
	Kernel: Depends on container host system
	Compiler: gcc 12.3.1

CentOS Stream 8
	Kernel: 5.4.0-167-generic
	Compiler: gcc 8.5.0 20210514

Debian 12
	Kernel: Container Host Kernel
	Compiler: gcc 10.2.1

To view detailed results, visit:
https://lab.dpdk.org/results/dashboard/patchsets/29811/

UNH-IOL DPDK Community Lab

To manage your email subscriptions, visit: 
https://lab.dpdk.org/results/dashboard/preferences/subscriptions/