From mboxrd@z Thu Jan  1 00:00:00 1970
Return-Path: <test-report-bounces@dpdk.org>
Received: from mails.dpdk.org (mails.dpdk.org [217.70.189.124])
	by inbox.dpdk.org (Postfix) with ESMTP id A3E6643E56
	for <public@inbox.dpdk.org>; Thu, 18 Apr 2024 02:54:17 +0200 (CEST)
Received: from mails.dpdk.org (localhost [127.0.0.1])
	by mails.dpdk.org (Postfix) with ESMTP id 9F9AB40272;
	Thu, 18 Apr 2024 02:54:17 +0200 (CEST)
Received: from mail-yw1-f228.google.com (mail-yw1-f228.google.com
 [209.85.128.228])
 by mails.dpdk.org (Postfix) with ESMTP id C199040042
 for <test-report@dpdk.org>; Thu, 18 Apr 2024 02:54:15 +0200 (CEST)
Received: by mail-yw1-f228.google.com with SMTP id
 00721157ae682-6150670d372so2624807b3.1
 for <test-report@dpdk.org>; Wed, 17 Apr 2024 17:54:15 -0700 (PDT)
DKIM-Signature: v=1; a=rsa-sha256; c=relaxed/relaxed;
 d=iol.unh.edu; s=unh-iol; t=1713401655; x=1714006455; darn=dpdk.org;
 h=references:in-reply-to:cc:to:from:subject:message-id:date:from:to
 :cc:subject:date:message-id:reply-to;
 bh=kXVsC/sKlNm6UCijCmjSjhPkrydL8+MmFVykDzdNmqo=;
 b=jjz/W/1LrP2qdbD5BireytV2uLxQtIpYb3qxdPbvip6Zj0zUS+N3LgSpqDqQ6OK39X
 1enwlAcaLCImsBnS7mEQzUKY24djUoTxLEGuzJHRbY+z89JAAch4Bbs1Pj0GyKv8J1mg
 JL8L0MnsY9lgOEIkuMzjL1Mm2yRHZRdfcckEc=
X-Google-DKIM-Signature: v=1; a=rsa-sha256; c=relaxed/relaxed;
 d=1e100.net; s=20230601; t=1713401655; x=1714006455;
 h=references:in-reply-to:cc:to:from:subject:message-id:date
 :x-gm-message-state:from:to:cc:subject:date:message-id:reply-to;
 bh=kXVsC/sKlNm6UCijCmjSjhPkrydL8+MmFVykDzdNmqo=;
 b=I25j3YSScVqLMkrQW/eg5/UnsoY7pCcvVS4pqgTdaTP+qc0M8az8QTWWR9W6VQyjJF
 V4C517i53ylAjrZZDNBEWkkwGcefAuLBXs20MMbLUXAS6n68Q5ILoLISd53egEnMLqcP
 7BV1Q41YOq7lVFRSg+fNofAUrW/lW61cwYVdNcC+3GLQmZSvAhAhwjZEGuBvxVmnOoPQ
 fSaRJBu5T3UJ9DsAEna0L66osQr7TALUEF4lYkWa7K3ZdG8nvKp369qwBalsPvvl8MI3
 2jBhjLUcW9A9BM/7Rg4d0MMpYG0mulq0ppN1YQ8lYhP9KRi1kz/i0w7crxsbjsiq2B+E
 BrIw==
X-Gm-Message-State: AOJu0YzAS2pPx0ksFO3bYpU53avUMX++3iQyp9XD8kyyug/xguXy3rax
 bh2dkLO1TPb61BDG1CTcuAh3c9vc5IgNM1O5PSo8dpEmXSM8CyiIM3XBjecw/tIE5q/yv+C0cnr
 4LjfgELCE80NI0PW5LkBC/nnlTgpj2BmEzP+5Ursc7UlyJk+zXuxy1lEg
X-Google-Smtp-Source: AGHT+IHDCvOnxp8GyeF7sPM9e7jDHRnhmSHLbjbBqbTnioHEW2bjXqU+0xg6CWZtpp4fdEFcQVttu1J1JPQu
X-Received: by 2002:a05:690c:7013:b0:615:187:541d with SMTP id
 jf19-20020a05690c701300b006150187541dmr1110887ywb.24.1713401655216; 
 Wed, 17 Apr 2024 17:54:15 -0700 (PDT)
Received: from postal.iol.unh.edu (postal.iol.unh.edu.
 [2606:4100:3880:1234::84]) by smtp-relay.gmail.com with ESMTPS id
 e4-20020a0dc204000000b0061b1195958asm38877ywd.66.2024.04.17.17.54.15
 (version=TLS1_2 cipher=ECDHE-ECDSA-AES128-GCM-SHA256 bits=128/128);
 Wed, 17 Apr 2024 17:54:15 -0700 (PDT)
X-Relaying-Domain: iol.unh.edu
Date: Wed, 17 Apr 2024 17:54:15 -0700 (PDT)
Message-ID: <66206f37.0d0a0220.35eb3.1a90SMTPIN_ADDED_MISSING@mx.google.com>
Received: from [172.21.0.6] (unknown [172.18.0.240])
 by postal.iol.unh.edu (Postfix) with ESMTP id D07A6604D420;
 Wed, 17 Apr 2024 20:54:14 -0400 (EDT)
Subject: |SUCCESS| pw139462-139476 [PATCH] [16/16] build: enable vla warnings
From: dpdklab@iol.unh.edu
To: Test Report <test-report@dpdk.org>
Cc: dpdk-test-reports@iol.unh.edu
In-Reply-To: <1713397319-26135-17-git-send-email-roretzla@linux.microsoft.com>
References: <1713397319-26135-17-git-send-email-roretzla@linux.microsoft.com>
Content-Type: text/plain
X-BeenThere: test-report@dpdk.org
X-Mailman-Version: 2.1.29
Precedence: list
List-Id: automatic DPDK test reports <test-report.dpdk.org>
List-Unsubscribe: <https://mails.dpdk.org/options/test-report>,
 <mailto:test-report-request@dpdk.org?subject=unsubscribe>
List-Archive: <http://mails.dpdk.org/archives/test-report/>
List-Post: <mailto:test-report@dpdk.org>
List-Help: <mailto:test-report-request@dpdk.org?subject=help>
List-Subscribe: <https://mails.dpdk.org/listinfo/test-report>,
 <mailto:test-report-request@dpdk.org?subject=subscribe>
Errors-To: test-report-bounces@dpdk.org

Test-Label: iol-abi-testing
Test-Status: SUCCESS
http://dpdk.org/patch/139476

_Testing PASS_

Submitter: Tyler Retzlaff <roretzla@linux.microsoft.com>
Date: Wednesday, April 17 2024 23:41:59 
DPDK git baseline: Repo:dpdk
  Branch: master
  CommitID:e2e546ab5bf5e024986ccb5310ab43982f3bb40c

139462-139476 --> testing pass

Test environment and result as below:

+------------------+----------+
|   Environment    | abi_test |
+==================+==========+
| Debian Bullseye  | PASS     |
+------------------+----------+
| CentOS Stream 9  | PASS     |
+------------------+----------+
| RHEL8            | PASS     |
+------------------+----------+
| Fedora 38        | PASS     |
+------------------+----------+
| Ubuntu 22.04     | PASS     |
+------------------+----------+
| openSUSE Leap 15 | PASS     |
+------------------+----------+
| Fedora 39        | PASS     |
+------------------+----------+
| Fedora 37        | PASS     |
+------------------+----------+
| CentOS Stream 8  | PASS     |
+------------------+----------+
| Debian 12        | PASS     |
+------------------+----------+


Debian Bullseye
	Kernel: 5.4.0-167-generic
	Compiler: gcc 10.2.1-6

CentOS Stream 9
	Kernel: 5.4.0-167-generic
	Compiler: gcc 11.4.1 20230605

RHEL8
	Kernel: 5.4.0-167-generic
	Compiler: gcc 8.5.0 20210514 (Red Hat 8.5.0-20)

Fedora 38
	Kernel: Depends on container host
	Compiler: clang 16.0.6

Ubuntu 22.04
	Kernel: 5.4.0-167-generic
	Compiler: gcc 11.4.0

openSUSE Leap 15
	Kernel: 5.4.0-167-generic
	Compiler: gcc 7.5.0

Fedora 39
	Kernel: Depends on container host
	Compiler: clang 17.0.6

Fedora 37
	Kernel: Depends on container host system
	Compiler: gcc 12.3.1

CentOS Stream 8
	Kernel: 5.4.0-167-generic
	Compiler: gcc 8.5.0 20210514

Debian 12
	Kernel: Container Host Kernel
	Compiler: gcc 10.2.1

To view detailed results, visit:
https://lab.dpdk.org/results/dashboard/patchsets/29811/

UNH-IOL DPDK Community Lab

To manage your email subscriptions, visit: 
https://lab.dpdk.org/results/dashboard/preferences/subscriptions/