From mboxrd@z Thu Jan  1 00:00:00 1970
Return-Path: <test-report-bounces@dpdk.org>
Received: from mails.dpdk.org (mails.dpdk.org [217.70.189.124])
	by inbox.dpdk.org (Postfix) with ESMTP id 3680C43E56
	for <public@inbox.dpdk.org>; Thu, 18 Apr 2024 03:11:11 +0200 (CEST)
Received: from mails.dpdk.org (localhost [127.0.0.1])
	by mails.dpdk.org (Postfix) with ESMTP id 3073240272;
	Thu, 18 Apr 2024 03:11:11 +0200 (CEST)
Received: from mail-qk1-f226.google.com (mail-qk1-f226.google.com
 [209.85.222.226])
 by mails.dpdk.org (Postfix) with ESMTP id CC5E240042
 for <test-report@dpdk.org>; Thu, 18 Apr 2024 03:11:09 +0200 (CEST)
Received: by mail-qk1-f226.google.com with SMTP id
 af79cd13be357-78f0440656eso19208885a.1
 for <test-report@dpdk.org>; Wed, 17 Apr 2024 18:11:09 -0700 (PDT)
DKIM-Signature: v=1; a=rsa-sha256; c=relaxed/relaxed;
 d=iol.unh.edu; s=unh-iol; t=1713402669; x=1714007469; darn=dpdk.org;
 h=references:in-reply-to:cc:to:from:subject:message-id:date:from:to
 :cc:subject:date:message-id:reply-to;
 bh=Vn+guAifrARVLOSNoo6ve1VGwQEmlbwfVDPmUARMBEE=;
 b=dspR2W65wGXfnn1cJRCgx2Rp2Qy4xUtLvDxkp/KS/N/y02PSeCVM5C6MUcHPPpk1xv
 L4QG86o17p17GRJmma2m/reMJ9fxnZaA4wvhI6+KWBqwvn6aclFIzRpvVKb2sAAs7IDV
 zti1bYg32pZ8SBzBFjtXZ5NM4DsOWO0O3GG3o=
X-Google-DKIM-Signature: v=1; a=rsa-sha256; c=relaxed/relaxed;
 d=1e100.net; s=20230601; t=1713402669; x=1714007469;
 h=references:in-reply-to:cc:to:from:subject:message-id:date
 :x-gm-message-state:from:to:cc:subject:date:message-id:reply-to;
 bh=Vn+guAifrARVLOSNoo6ve1VGwQEmlbwfVDPmUARMBEE=;
 b=c1K0I1Jj4EoAYRxpHuDellz5iqYuIFCniHUQNlT82JrzKjdtciCaCjp9C0NGTdILBq
 +B0jU19jwDR+iErtEZ9QvlMAfGQkBk+S4rEkD4TfEH6/NQgPjrn8e7Vpqd1Ayzalyc0k
 t3IE1Flken59ZkX1ltpvV8gVeToR8p4MkmiZy/0q+GrDPwdY9oIkvzYKF1nlaa7qe3rD
 5h6R3AqcsPKy3MtLrV7h4O6Mz5/W9sRmYj6Af+WI0HSmLUog1zLjkNFbFm6r1rXftyzT
 poJJVog4AFNykHhmXgPhRzScYtoaS571h+4ICpO6ElZRv7dF4gsS8VwMWIFnhnPP/HrS
 ySnA==
X-Gm-Message-State: AOJu0Yx+z0IUjUmTns2fq6+uwhvJT2rhLkY2joTkLX1F3RLZpke9mQx5
 QhQqF5joIAS+RKwUCJ4baPwC5ECMT6EBAgSkcdTcazaJ1mzk7krkr3kPpXFfMmIOeAFq/hntdMv
 lV4eq/YMLJp8gUnEZ/0V8aUfTdO47bfwSmJ3mOTgXgeCwxQe47uPfaxJj
X-Google-Smtp-Source: AGHT+IE5jecJNg3zFEBi8Ebb7mvWZLcis/JpufvxtVb5JibFMgDhzKweF7P3xqFtGoHTMgcXNS8u0AvVf2ka
X-Received: by 2002:a05:6214:321:b0:69b:776d:ff78 with SMTP id
 j1-20020a056214032100b0069b776dff78mr1141332qvu.64.1713402669167; 
 Wed, 17 Apr 2024 18:11:09 -0700 (PDT)
Received: from postal.iol.unh.edu (postal.iol.unh.edu.
 [2606:4100:3880:1234::84]) by smtp-relay.gmail.com with ESMTPS id
 gs11-20020a056214226b00b0069b246b4c01sm30156qvb.62.2024.04.17.18.11.09
 (version=TLS1_2 cipher=ECDHE-ECDSA-AES128-GCM-SHA256 bits=128/128);
 Wed, 17 Apr 2024 18:11:09 -0700 (PDT)
X-Relaying-Domain: iol.unh.edu
Date: Wed, 17 Apr 2024 18:11:09 -0700 (PDT)
Message-ID: <6620732d.050a0220.9fa34.1c9bSMTPIN_ADDED_MISSING@mx.google.com>
Received: from [172.21.0.8] (unknown [172.18.0.240])
 by postal.iol.unh.edu (Postfix) with ESMTP id D5D87604D420;
 Wed, 17 Apr 2024 21:11:08 -0400 (EDT)
Subject: |SUCCESS| pw139462-139476 [PATCH] [16/16] build: enable vla warnings
From: dpdklab@iol.unh.edu
To: Test Report <test-report@dpdk.org>
Cc: dpdk-test-reports@iol.unh.edu
In-Reply-To: <1713397319-26135-17-git-send-email-roretzla@linux.microsoft.com>
References: <1713397319-26135-17-git-send-email-roretzla@linux.microsoft.com>
Content-Type: text/plain
X-BeenThere: test-report@dpdk.org
X-Mailman-Version: 2.1.29
Precedence: list
List-Id: automatic DPDK test reports <test-report.dpdk.org>
List-Unsubscribe: <https://mails.dpdk.org/options/test-report>,
 <mailto:test-report-request@dpdk.org?subject=unsubscribe>
List-Archive: <http://mails.dpdk.org/archives/test-report/>
List-Post: <mailto:test-report@dpdk.org>
List-Help: <mailto:test-report-request@dpdk.org?subject=help>
List-Subscribe: <https://mails.dpdk.org/listinfo/test-report>,
 <mailto:test-report-request@dpdk.org?subject=subscribe>
Errors-To: test-report-bounces@dpdk.org

Test-Label: iol-unit-arm64-testing
Test-Status: SUCCESS
http://dpdk.org/patch/139476

_Testing PASS_

Submitter: Tyler Retzlaff <roretzla@linux.microsoft.com>
Date: Wednesday, April 17 2024 23:41:59 
DPDK git baseline: Repo:dpdk
  Branch: master
  CommitID:e2e546ab5bf5e024986ccb5310ab43982f3bb40c

139462-139476 --> testing pass

Test environment and result as below:

+-----------------------------+--------------+------------------------------+----------------+
|         Environment         | lpm_autotest | cryptodev_sw_snow3g_autotest | dpdk_unit_test |
+=============================+==============+==============================+================+
| Ubuntu 20.04 ARM SVE        | PASS         | SKIPPED                      | SKIPPED        |
+-----------------------------+--------------+------------------------------+----------------+
| Debian 12 (arm)             | SKIPPED      | PASS                         | SKIPPED        |
+-----------------------------+--------------+------------------------------+----------------+
| CentOS Stream 9 (ARM)       | SKIPPED      | SKIPPED                      | PASS           |
+-----------------------------+--------------+------------------------------+----------------+
| 32-bit Ubuntu 20.04.4 (ARM) | SKIPPED      | SKIPPED                      | PASS           |
+-----------------------------+--------------+------------------------------+----------------+


Ubuntu 20.04 ARM SVE
	Kernel: 5.4.0-167-generic
	Compiler: gcc (Ubuntu 10.5.0-1ubuntu1~20.04) 10.5.0

Debian 12 (arm)
	Kernel: Container Host Kernel
	Compiler: gcc 12.2.0

CentOS Stream 9 (ARM)
	Kernel: Container Host Kernel
	Compiler: gcc 11.4.1

32-bit Ubuntu 20.04.4 (ARM)
	Kernel: 5.4.0-155-generic aarch64
	Compiler: gcc 9.4

To view detailed results, visit:
https://lab.dpdk.org/results/dashboard/patchsets/29811/

UNH-IOL DPDK Community Lab

To manage your email subscriptions, visit: 
https://lab.dpdk.org/results/dashboard/preferences/subscriptions/