From mboxrd@z Thu Jan  1 00:00:00 1970
Return-Path: <test-report-bounces@dpdk.org>
Received: from mails.dpdk.org (mails.dpdk.org [217.70.189.124])
	by inbox.dpdk.org (Postfix) with ESMTP id 8C3C943E69
	for <public@inbox.dpdk.org>; Thu, 18 Apr 2024 03:41:07 +0200 (CEST)
Received: from mails.dpdk.org (localhost [127.0.0.1])
	by mails.dpdk.org (Postfix) with ESMTP id 890D1402D6;
	Thu, 18 Apr 2024 03:41:07 +0200 (CEST)
Received: from mail-oo1-f99.google.com (mail-oo1-f99.google.com
 [209.85.161.99]) by mails.dpdk.org (Postfix) with ESMTP id 5FC8940042
 for <test-report@dpdk.org>; Thu, 18 Apr 2024 03:41:02 +0200 (CEST)
Received: by mail-oo1-f99.google.com with SMTP id
 006d021491bc7-5aa2bd6f651so242419eaf.0
 for <test-report@dpdk.org>; Wed, 17 Apr 2024 18:41:02 -0700 (PDT)
DKIM-Signature: v=1; a=rsa-sha256; c=relaxed/relaxed;
 d=iol.unh.edu; s=unh-iol; t=1713404461; x=1714009261; darn=dpdk.org;
 h=references:in-reply-to:cc:to:from:subject:message-id:date:from:to
 :cc:subject:date:message-id:reply-to;
 bh=4AuiNWnn75J4GSSeGDfdSZeDEvTFgktNx5f6/0wdEAo=;
 b=VLuKIc8XwxMMGlAZ29DlzvdxH18+MMvzVL6KBi1MVJr9Pd6EZXTX9BL39EjBqVDNd2
 K8SGqEkk0+rADR7bwvszQEU8E3csHJqWCwkVkDGU/p+oaAa52iFFJyKNPOqbjYdegKNR
 J609gOy1m+pLWF2txU6AUhgvlZmfP3ad2uraQ=
X-Google-DKIM-Signature: v=1; a=rsa-sha256; c=relaxed/relaxed;
 d=1e100.net; s=20230601; t=1713404461; x=1714009261;
 h=references:in-reply-to:cc:to:from:subject:message-id:date
 :x-gm-message-state:from:to:cc:subject:date:message-id:reply-to;
 bh=4AuiNWnn75J4GSSeGDfdSZeDEvTFgktNx5f6/0wdEAo=;
 b=fI51GWHgK5XgjDiEDLsVbpbDbcz1bFYr6NG34Hx5KI/hv/QdRjLjPavk7EamSre+04
 Mqb+MkgVXQQH49+Graazh/1D6EyRqrCpX4oRPxWnVd3jgS7ztzba21mrCRvUcedqOWj1
 Rbjo978i0LRDMPu4T2WXBAq0K/ScNdDGIrxrGyzY+GSbtJDUg6txsqREtdBoUHVBYzEI
 XShLKGHoClEegSpkZiuZvbz23JAEB+MN5Xcc3x1NQy1RNbGy7Qnk73CeG8HAlAgTjRD6
 B+/2K2yrn2CBO1/JvpauycDMk0efVD+1R+VYXuAc5MRPo2EWNg05VWdXMhOsnmF2TQz5
 hUug==
X-Gm-Message-State: AOJu0YwF/4Zx3p6fYb6xNepdmfv4e8nn2ogrPfQCR4ABGqI5MAsWsmrW
 G46Ilap4TTo+oh1Ci2XgacBFIS6Sg17T/1G6nb+orP4+uUOtvdLH1js1Pp131fBDFzFmaDTvPJh
 asB3iZb6nhLw0VwuBY8/bfZYdacdVIzsXK9p/HZMoPcJRgH4bQiqih04r
X-Google-Smtp-Source: AGHT+IEU8v9Dg0DgMFweruOLQohQ6lm92b7a1GkqWZ6768wfzl3BA+JY9306WOtYJLby64U1hvOHzl3PubcY
X-Received: by 2002:a05:6358:6797:b0:17b:f464:e14b with SMTP id
 y23-20020a056358679700b0017bf464e14bmr1244485rwh.13.1713404461705; 
 Wed, 17 Apr 2024 18:41:01 -0700 (PDT)
Received: from postal.iol.unh.edu (postal.iol.unh.edu.
 [2606:4100:3880:1234::84]) by smtp-relay.gmail.com with ESMTPS id
 jb10-20020a05663888ca00b00482f8fdbf79sm34518jab.25.2024.04.17.18.41.01
 (version=TLS1_2 cipher=ECDHE-ECDSA-AES128-GCM-SHA256 bits=128/128);
 Wed, 17 Apr 2024 18:41:01 -0700 (PDT)
X-Relaying-Domain: iol.unh.edu
Date: Wed, 17 Apr 2024 18:41:01 -0700 (PDT)
Message-ID: <66207a2d.050a0220.69f8a.1aa1SMTPIN_ADDED_MISSING@mx.google.com>
Received: from [172.21.0.6] (unknown [172.18.0.240])
 by postal.iol.unh.edu (Postfix) with ESMTP id 30390604D420;
 Wed, 17 Apr 2024 21:41:01 -0400 (EDT)
Subject: |SUCCESS| pw139456-139460 [PATCH] [v3,5/5] latencystats: include fil
From: dpdklab@iol.unh.edu
To: Test Report <test-report@dpdk.org>
Cc: dpdk-test-reports@iol.unh.edu
In-Reply-To: <20240417170908.76701-6-stephen@networkplumber.org>
References: <20240417170908.76701-6-stephen@networkplumber.org>
Content-Type: text/plain
X-BeenThere: test-report@dpdk.org
X-Mailman-Version: 2.1.29
Precedence: list
List-Id: automatic DPDK test reports <test-report.dpdk.org>
List-Unsubscribe: <https://mails.dpdk.org/options/test-report>,
 <mailto:test-report-request@dpdk.org?subject=unsubscribe>
List-Archive: <http://mails.dpdk.org/archives/test-report/>
List-Post: <mailto:test-report@dpdk.org>
List-Help: <mailto:test-report-request@dpdk.org?subject=help>
List-Subscribe: <https://mails.dpdk.org/listinfo/test-report>,
 <mailto:test-report-request@dpdk.org?subject=subscribe>
Errors-To: test-report-bounces@dpdk.org

Test-Label: iol-abi-testing
Test-Status: SUCCESS
http://dpdk.org/patch/139460

_Testing PASS_

Submitter: Stephen Hemminger <stephen@networkplumber.org>
Date: Wednesday, April 17 2024 17:07:27 
DPDK git baseline: Repo:dpdk
  Branch: master
  CommitID:e2e546ab5bf5e024986ccb5310ab43982f3bb40c

139456-139460 --> testing pass

Test environment and result as below:

+-----------------+----------+
|   Environment   | abi_test |
+=================+==========+
| CentOS Stream 8 | PASS     |
+-----------------+----------+
| Fedora 38       | PASS     |
+-----------------+----------+
| Debian Bullseye | PASS     |
+-----------------+----------+


CentOS Stream 8
	Kernel: 5.4.0-167-generic
	Compiler: gcc 8.5.0 20210514

Fedora 38
	Kernel: Depends on container host
	Compiler: gcc 13.2.1

Debian Bullseye
	Kernel: 5.4.0-167-generic
	Compiler: gcc 10.2.1-6

To view detailed results, visit:
https://lab.dpdk.org/results/dashboard/patchsets/29810/

UNH-IOL DPDK Community Lab

To manage your email subscriptions, visit: 
https://lab.dpdk.org/results/dashboard/preferences/subscriptions/