From mboxrd@z Thu Jan  1 00:00:00 1970
Return-Path: <test-report-bounces@dpdk.org>
Received: from mails.dpdk.org (mails.dpdk.org [217.70.189.124])
	by inbox.dpdk.org (Postfix) with ESMTP id 3CB7343E99
	for <public@inbox.dpdk.org>; Thu, 18 Apr 2024 04:48:56 +0200 (CEST)
Received: from mails.dpdk.org (localhost [127.0.0.1])
	by mails.dpdk.org (Postfix) with ESMTP id B6F3640697;
	Thu, 18 Apr 2024 04:48:55 +0200 (CEST)
Received: from mail-io1-f97.google.com (mail-io1-f97.google.com
 [209.85.166.97]) by mails.dpdk.org (Postfix) with ESMTP id 2232340042
 for <test-report@dpdk.org>; Thu, 18 Apr 2024 04:43:00 +0200 (CEST)
Received: by mail-io1-f97.google.com with SMTP id
 ca18e2360f4ac-7d5f87224a8so14398839f.1
 for <test-report@dpdk.org>; Wed, 17 Apr 2024 19:43:00 -0700 (PDT)
DKIM-Signature: v=1; a=rsa-sha256; c=relaxed/relaxed;
 d=iol.unh.edu; s=unh-iol; t=1713408179; x=1714012979; darn=dpdk.org;
 h=references:in-reply-to:cc:to:from:subject:message-id:date:from:to
 :cc:subject:date:message-id:reply-to;
 bh=F1RHu4lBH8v+NBb8Pt3HIKS2nw1N8B1WzkFKrUdnK4M=;
 b=SdQv/lI2vGu5kF+B97jBUF7iUCfpxnHzUrLPvZAlje47Tyh7t8OWuLboQSOmKn799v
 sC1ftgIecpsHeOZ6hxvzYMhPf8mEmKjmA9mNLbHyMBnmfF2+vJ6XOfSMsajwh1M18evd
 h3lUxwSyWruoq8ooE7s5fMKe7RCagww8Aku0o=
X-Google-DKIM-Signature: v=1; a=rsa-sha256; c=relaxed/relaxed;
 d=1e100.net; s=20230601; t=1713408179; x=1714012979;
 h=references:in-reply-to:cc:to:from:subject:message-id:date
 :x-gm-message-state:from:to:cc:subject:date:message-id:reply-to;
 bh=F1RHu4lBH8v+NBb8Pt3HIKS2nw1N8B1WzkFKrUdnK4M=;
 b=URHe16eaf0rVpPy4U2kVUz7G9b84nouubAzaf4DyYd7Xm2Gg1kyB1RZF6+ppWVQCPM
 BTpKJmDbi4/ZZisbFpo+2OPjxwOAlyNH3HBnL11tVk02re59zMPNLWDL/ihAFi3c8PGf
 lCBHw/sDkoM2HNzr7GmIR5o6N4lGimWeJcYsxFGoDknqQgpFEWZlBgHh0NtSyR0FShDA
 rCz8Mdr6gWF6kXeplTr13cuWUmmgFhT4feQLnc7HLgrax62cbKXYB1U9kx/5ByDGr4a4
 wdJIuOPrjizwiwzVsuqwUtfgLZxK7J4SOrL6Fy9xeRrPu8510MM6WzVY3gJGDbcOHTaR
 2eRQ==
X-Gm-Message-State: AOJu0YzXmvmZMjBOGiKb/OnzpEx7ZYYXx6yT9hlCvS3N3PV9isAu9fFN
 YUqBBCzhSwkciQmfRG0tTiND13frqDqgyiFQbLKjQ4174VB539qyM1Z0g6TdtCJ6AjH9mso8sw+
 fCCtKtfyY7+T0Wp107xYPhiJGI2xlYqDNaHVCs/qvg5xgdz4YEIL1Ag4z
X-Google-Smtp-Source: AGHT+IFDj99+dWV23NLJQKeR8ebTWKY0mIGdfbkukV8qtC1ZX0+o7VKDyAkQ4QqD2a2YnT19/2tjwqFaDj44
X-Received: by 2002:a05:6e02:180c:b0:36b:85e:7d69 with SMTP id
 a12-20020a056e02180c00b0036b085e7d69mr2023537ilv.10.1713408179568; 
 Wed, 17 Apr 2024 19:42:59 -0700 (PDT)
Received: from postal.iol.unh.edu (postal.iol.unh.edu.
 [2606:4100:3880:1234::84]) by smtp-relay.gmail.com with ESMTPS id
 z16-20020a92ced0000000b0036b3430bfb7sm24942ilq.37.2024.04.17.19.42.59
 (version=TLS1_2 cipher=ECDHE-ECDSA-AES128-GCM-SHA256 bits=128/128);
 Wed, 17 Apr 2024 19:42:59 -0700 (PDT)
X-Relaying-Domain: iol.unh.edu
Date: Wed, 17 Apr 2024 19:42:59 -0700 (PDT)
Message-ID: <662088b3.920a0220.8d529.15c7SMTPIN_ADDED_MISSING@mx.google.com>
Received: from [172.21.0.6] (unknown [172.18.0.240])
 by postal.iol.unh.edu (Postfix) with ESMTP id 01B2F604D420;
 Wed, 17 Apr 2024 22:42:59 -0400 (EDT)
Subject: |SUCCESS| pw139462-139476 [PATCH] [16/16] build: enable vla warnings
From: dpdklab@iol.unh.edu
To: Test Report <test-report@dpdk.org>
Cc: dpdk-test-reports@iol.unh.edu
In-Reply-To: <1713397319-26135-17-git-send-email-roretzla@linux.microsoft.com>
References: <1713397319-26135-17-git-send-email-roretzla@linux.microsoft.com>
Content-Type: text/plain
X-BeenThere: test-report@dpdk.org
X-Mailman-Version: 2.1.29
Precedence: list
List-Id: automatic DPDK test reports <test-report.dpdk.org>
List-Unsubscribe: <https://mails.dpdk.org/options/test-report>,
 <mailto:test-report-request@dpdk.org?subject=unsubscribe>
List-Archive: <http://mails.dpdk.org/archives/test-report/>
List-Post: <mailto:test-report@dpdk.org>
List-Help: <mailto:test-report-request@dpdk.org?subject=help>
List-Subscribe: <https://mails.dpdk.org/listinfo/test-report>,
 <mailto:test-report-request@dpdk.org?subject=subscribe>
Errors-To: test-report-bounces@dpdk.org

Test-Label: iol-compile-arm64-testing
Test-Status: SUCCESS
http://dpdk.org/patch/139476

_Testing PASS_

Submitter: Tyler Retzlaff <roretzla@linux.microsoft.com>
Date: Wednesday, April 17 2024 23:41:59 
DPDK git baseline: Repo:dpdk
  Branch: master
  CommitID:e2e546ab5bf5e024986ccb5310ab43982f3bb40c

139462-139476 --> testing pass

Test environment and result as below:

+----------------------------------------+--------------------+
|              Environment               | dpdk_meson_compile |
+========================================+====================+
| Ubuntu 20.04 ARM SVE                   | PASS               |
+----------------------------------------+--------------------+
| Debian 12 with MUSDK                   | PASS               |
+----------------------------------------+--------------------+
| Fedora 37 (ARM)                        | PASS               |
+----------------------------------------+--------------------+
| Ubuntu 20.04 aarch32 GCC Cross Compile | PASS               |
+----------------------------------------+--------------------+
| Debian 11 (Buster) (ARM)               | PASS               |
+----------------------------------------+--------------------+
| Debian 12 (arm)                        | PASS               |
+----------------------------------------+--------------------+
| Ubuntu 20.04 ARM Clang Cross Compile   | PASS               |
+----------------------------------------+--------------------+
| Ubuntu 20.04 ARM GCC Cross Compile     | PASS               |
+----------------------------------------+--------------------+
| Fedora 38 (ARM Clang)                  | PASS               |
+----------------------------------------+--------------------+
| Ubuntu 20.04 (ARM)                     | PASS               |
+----------------------------------------+--------------------+
| Fedora 38 (ARM)                        | PASS               |
+----------------------------------------+--------------------+


Ubuntu 20.04 ARM SVE
	Kernel: 5.4.0-167-generic
	Compiler: gcc (Ubuntu 10.5.0-1ubuntu1~20.04) 10.5.0

Debian 12 with MUSDK
	Kernel: Container Host Kernel
	Compiler: gcc 12.2.0

Fedora 37 (ARM)
	Kernel: Depends on container host
	Compiler: gcc 12.3.1

Ubuntu 20.04 aarch32 GCC Cross Compile
	Kernel: 5.4.0-167-generic
	Compiler: gcc 9.4.0

Debian 11 (Buster) (ARM)
	Kernel: Container Host Kernel
	Compiler: gcc 10.2.1

Debian 12 (arm)
	Kernel: Container Host Kernel
	Compiler: gcc 12.2.0

Ubuntu 20.04 ARM Clang Cross Compile
	Kernel: 5.4.0-72-generic
	Compiler: clang 10.0.0-4ubuntu1

Ubuntu 20.04 ARM GCC Cross Compile
	Kernel: 5.4.0-167-generic
	Compiler: aarch64-linux-gnu-gcc (Ubuntu 9.4.0-1ubuntu1~20.04.2) 9.4.0

Fedora 38 (ARM Clang)
	Kernel: Depends on container host
	Compiler: clang 16.0.6

Ubuntu 20.04 (ARM)
	Kernel: Container Host Kernel
	Compiler: gcc 9.4.0

Fedora 38 (ARM)
	Kernel: Depends on container host
	Compiler: gcc 13.2.1

To view detailed results, visit:
https://lab.dpdk.org/results/dashboard/patchsets/29811/

UNH-IOL DPDK Community Lab

To manage your email subscriptions, visit: 
https://lab.dpdk.org/results/dashboard/preferences/subscriptions/