From mboxrd@z Thu Jan  1 00:00:00 1970
Return-Path: <test-report-bounces@dpdk.org>
Received: from mails.dpdk.org (mails.dpdk.org [217.70.189.124])
	by inbox.dpdk.org (Postfix) with ESMTP id 1330A43E99
	for <public@inbox.dpdk.org>; Thu, 18 Apr 2024 04:55:49 +0200 (CEST)
Received: from mails.dpdk.org (localhost [127.0.0.1])
	by mails.dpdk.org (Postfix) with ESMTP id 09FB540647;
	Thu, 18 Apr 2024 04:55:49 +0200 (CEST)
Received: from mail-qv1-f98.google.com (mail-qv1-f98.google.com
 [209.85.219.98]) by mails.dpdk.org (Postfix) with ESMTP id 3D6CE40042
 for <test-report@dpdk.org>; Thu, 18 Apr 2024 04:53:47 +0200 (CEST)
Received: by mail-qv1-f98.google.com with SMTP id
 6a1803df08f44-6a04bae513cso2366036d6.1
 for <test-report@dpdk.org>; Wed, 17 Apr 2024 19:53:47 -0700 (PDT)
DKIM-Signature: v=1; a=rsa-sha256; c=relaxed/relaxed;
 d=iol.unh.edu; s=unh-iol; t=1713408826; x=1714013626; darn=dpdk.org;
 h=references:in-reply-to:cc:to:from:subject:message-id:date:from:to
 :cc:subject:date:message-id:reply-to;
 bh=en6VAho8BXZNqGs4P2Gwu0Iol02dfY+cFyYdjv91Tjc=;
 b=GqKIw2sI1uzH46sqeccSYZdhl4NQcx/hEcOXWmjZO1Ay9uLnduxrAuVXWqnJZ2Z0Eh
 CYbzLrlVJ0Lxxh7k0PrtNC8TqEVv4wxtRthxSFMdG5KkAw6Fr8dGC3JfexYXaYCn21rk
 6cmC/4IVIWAdG2zUp5WdQjOOfgVV7KrTwQ3hA=
X-Google-DKIM-Signature: v=1; a=rsa-sha256; c=relaxed/relaxed;
 d=1e100.net; s=20230601; t=1713408826; x=1714013626;
 h=references:in-reply-to:cc:to:from:subject:message-id:date
 :x-gm-message-state:from:to:cc:subject:date:message-id:reply-to;
 bh=en6VAho8BXZNqGs4P2Gwu0Iol02dfY+cFyYdjv91Tjc=;
 b=uie4FhvYgFEquIacvrboL24aGGuo+PeMB/X1kkTsnS/DouVCfxqWdH95BlH6t5QUPT
 ZHR9JImpHUp2LQ72XGrb6Ilv+beMCdUC4iV0dDZArL9p5VOIWC9unje0V4jZ9rJQcUuk
 KZgHjAyR5MV6Jr246XwhW+mpEbykCnhVwMQjTqk6z57Zd2VRWzvcAAjMHVJp271GmI56
 w2ObrXQ3GJPA0fXq7/MaMEdDu6zv9vU4FQN20DL7Y4mCyZ+fRYBgdFVmTYpdS481Egog
 BPpZ9xAZINzxP34N7UAQNbYHHAq5Xbcv8zEzAGcF5Jz6QXyE9gSjTml+4TsLZhA0EM1L
 zKDg==
X-Gm-Message-State: AOJu0YyMf3etFqKiI1WkiuOo//Ki+uJkM3JyiEeQIbLdS5RlXPzBrZHs
 1qioMa9z56Ztl4tUtxe62nhgLxr8f8hPX9WgnTJh7bSQHargQKYxA7Zy+Dcc6UyYS2k+sRuYxOg
 CHsfaFySNA+Oa8DznZGukrFx4qE1FCpilys+TOyWa
X-Google-Smtp-Source: AGHT+IFA2d6vBnvwFBPWvGitk+n2tyrbXy7Q5MK824Oy+u05QjHITFBwh1f8P7QBo4fF4sEyg5WijQM5c5PB
X-Received: by 2002:a05:6214:5cf:b0:696:8f17:2ccb with SMTP id
 t15-20020a05621405cf00b006968f172ccbmr1383869qvz.17.1713408826677; 
 Wed, 17 Apr 2024 19:53:46 -0700 (PDT)
Received: from postal.iol.unh.edu (postal.iol.unh.edu. [132.177.123.84])
 by smtp-relay.gmail.com with ESMTPS id
 gy11-20020a056214242b00b0069b1d94a525sm35034qvb.52.2024.04.17.19.53.46
 (version=TLS1_2 cipher=ECDHE-ECDSA-AES128-GCM-SHA256 bits=128/128);
 Wed, 17 Apr 2024 19:53:46 -0700 (PDT)
X-Relaying-Domain: iol.unh.edu
Date: Wed, 17 Apr 2024 19:53:46 -0700 (PDT)
Message-ID: <66208b3a.050a0220.93a52.1fe4SMTPIN_ADDED_MISSING@mx.google.com>
Received: from [172.21.0.6] (unknown [172.18.0.240])
 by postal.iol.unh.edu (Postfix) with ESMTP id 532CE604D420;
 Wed, 17 Apr 2024 22:53:46 -0400 (EDT)
Subject: |SUCCESS| pw139456-139460 [PATCH] [v3,5/5] latencystats: include fil
From: dpdklab@iol.unh.edu
To: Test Report <test-report@dpdk.org>
Cc: dpdk-test-reports@iol.unh.edu
In-Reply-To: <20240417170908.76701-6-stephen@networkplumber.org>
References: <20240417170908.76701-6-stephen@networkplumber.org>
Content-Type: text/plain
X-BeenThere: test-report@dpdk.org
X-Mailman-Version: 2.1.29
Precedence: list
List-Id: automatic DPDK test reports <test-report.dpdk.org>
List-Unsubscribe: <https://mails.dpdk.org/options/test-report>,
 <mailto:test-report-request@dpdk.org?subject=unsubscribe>
List-Archive: <http://mails.dpdk.org/archives/test-report/>
List-Post: <mailto:test-report@dpdk.org>
List-Help: <mailto:test-report-request@dpdk.org?subject=help>
List-Subscribe: <https://mails.dpdk.org/listinfo/test-report>,
 <mailto:test-report-request@dpdk.org?subject=subscribe>
Errors-To: test-report-bounces@dpdk.org

Test-Label: iol-compile-amd64-testing
Test-Status: SUCCESS
http://dpdk.org/patch/139460

_Testing PASS_

Submitter: Stephen Hemminger <stephen@networkplumber.org>
Date: Wednesday, April 17 2024 17:07:27 
DPDK git baseline: Repo:dpdk
  Branch: master
  CommitID:e2e546ab5bf5e024986ccb5310ab43982f3bb40c

139456-139460 --> testing pass

Test environment and result as below:

+---------------------+--------------------+----------------------+-------------------+
|     Environment     | dpdk_meson_compile | dpdk_mingw64_compile | dpdk_msvc_compile |
+=====================+====================+======================+===================+
| FreeBSD 13.2        | PASS               | SKIPPED              | SKIPPED           |
+---------------------+--------------------+----------------------+-------------------+
| Windows Server 2022 | PASS               | PASS                 | PASS              |
+---------------------+--------------------+----------------------+-------------------+
| Windows Server 2019 | PASS               | PASS                 | SKIPPED           |
+---------------------+--------------------+----------------------+-------------------+
| CentOS Stream 9     | PASS               | SKIPPED              | SKIPPED           |
+---------------------+--------------------+----------------------+-------------------+
| Debian 12           | PASS               | SKIPPED              | SKIPPED           |
+---------------------+--------------------+----------------------+-------------------+
| Debian Bullseye     | PASS               | SKIPPED              | SKIPPED           |
+---------------------+--------------------+----------------------+-------------------+
| Fedora 37           | PASS               | SKIPPED              | SKIPPED           |
+---------------------+--------------------+----------------------+-------------------+
| Fedora 39           | PASS               | SKIPPED              | SKIPPED           |
+---------------------+--------------------+----------------------+-------------------+
| Ubuntu 22.04        | PASS               | SKIPPED              | SKIPPED           |
+---------------------+--------------------+----------------------+-------------------+
| CentOS Stream 8     | PASS               | SKIPPED              | SKIPPED           |
+---------------------+--------------------+----------------------+-------------------+
| Ubuntu 20.04        | PASS               | SKIPPED              | SKIPPED           |
+---------------------+--------------------+----------------------+-------------------+
| Fedora 38           | PASS               | SKIPPED              | SKIPPED           |
+---------------------+--------------------+----------------------+-------------------+
| openSUSE Leap 15    | PASS               | SKIPPED              | SKIPPED           |
+---------------------+--------------------+----------------------+-------------------+
| RHEL8               | PASS               | SKIPPED              | SKIPPED           |
+---------------------+--------------------+----------------------+-------------------+


FreeBSD 13.2
	Kernel: 13.2
	Compiler: clang 14.0.5

Windows Server 2022
	Kernel: 10.0.20348.2031
	Compiler: clang 15.0.7, gcc 8.1.0 (MinGW), and MSVC VS 17.9

Windows Server 2019
	Kernel: 10.0.17763
	Compiler: clang 14.0 and gcc 8.1.0 (MinGW)

CentOS Stream 9
	Kernel: 5.4.0-167-generic
	Compiler: gcc 11.4.1 20230605

Debian 12
	Kernel: Container Host Kernel
	Compiler: gcc 10.2.1

Debian Bullseye
	Kernel: 5.4.0-167-generic
	Compiler: gcc 10.2.1-6

Fedora 37
	Kernel: Depends on container host system
	Compiler: gcc 12.3.1

Fedora 39
	Kernel: Depends on container host
	Compiler: gcc 13.2.1

Ubuntu 22.04
	Kernel: 5.4.0-167-generic
	Compiler: gcc 11.4.0

CentOS Stream 8
	Kernel: 5.4.0-167-generic
	Compiler: gcc 8.5.0 20210514

Ubuntu 20.04
	Kernel: 5.4.0-167-generic
	Compiler: gcc 9.4.0-1ubuntu1~20.04.1

Fedora 38
	Kernel: Depends on container host
	Compiler: clang 16.0.6

openSUSE Leap 15
	Kernel: 5.4.0-167-generic
	Compiler: gcc 7.5.0

RHEL8
	Kernel: 5.4.0-167-generic
	Compiler: gcc 8.5.0 20210514 (Red Hat 8.5.0-20)

To view detailed results, visit:
https://lab.dpdk.org/results/dashboard/patchsets/29810/

UNH-IOL DPDK Community Lab

To manage your email subscriptions, visit: 
https://lab.dpdk.org/results/dashboard/preferences/subscriptions/